BEGIN:VCALENDAR
VERSION:2.0
PRODID:-//The Iona Heights Inn - ECPv6.15.20//NONSGML v1.0//EN
CALSCALE:GREGORIAN
METHOD:PUBLISH
X-WR-CALNAME:The Iona Heights Inn
X-ORIGINAL-URL:https://ionaheightsinn.com
X-WR-CALDESC:Events for The Iona Heights Inn
REFRESH-INTERVAL;VALUE=DURATION:PT1H
X-Robots-Tag:noindex
X-PUBLISHED-TTL:PT1H
BEGIN:VTIMEZONE
TZID:America/Halifax
BEGIN:DAYLIGHT
TZOFFSETFROM:-0400
TZOFFSETTO:-0300
TZNAME:ADT
DTSTART:20230312T060000
END:DAYLIGHT
BEGIN:STANDARD
TZOFFSETFROM:-0300
TZOFFSETTO:-0400
TZNAME:AST
DTSTART:20231105T050000
END:STANDARD
BEGIN:DAYLIGHT
TZOFFSETFROM:-0400
TZOFFSETTO:-0300
TZNAME:ADT
DTSTART:20240310T060000
END:DAYLIGHT
BEGIN:STANDARD
TZOFFSETFROM:-0300
TZOFFSETTO:-0400
TZNAME:AST
DTSTART:20241103T050000
END:STANDARD
BEGIN:DAYLIGHT
TZOFFSETFROM:-0400
TZOFFSETTO:-0300
TZNAME:ADT
DTSTART:20250309T060000
END:DAYLIGHT
BEGIN:STANDARD
TZOFFSETFROM:-0300
TZOFFSETTO:-0400
TZNAME:AST
DTSTART:20251102T050000
END:STANDARD
END:VTIMEZONE
BEGIN:VEVENT
DTSTART;TZID=America/Halifax:20240717T200000
DTEND;TZID=America/Halifax:20240717T220000
DTSTAMP:20260425T191308
CREATED:20240613T173635Z
LAST-MODIFIED:20240613T173635Z
UID:10003386-1721246400-1721253600@ionaheightsinn.com
SUMMARY:Old Man Luedecke
DESCRIPTION:Old Man Luedecke is the recording name of two time JUNO award winning and Polaris prize  nominated singer songwriter Chris Luedecke. A multiple East Coast Music Award winner  known for his high energy banjo driven stompers\, touching guitar ballads and dry humorous  stories\, Luedecke has been making a soundtrack to an authentic life for nearly twenty years.   \nBorn in Toronto and long time resident of the country near Chester Nova Scotia\, Luedecke  began recording in the early 2000’s DIY folk scene of Halifax. He made his two JUNO winning  albums for Black Hen Music in the late 00s with Steve Dawson as producer at Vancouver’s  famed Factory studio. While on a tour of England in 2009\, he met and supported folk roots  legend Tim O’Brien who produced Luedecke’s next two albums. Tender is the Night was  recorded at John’s Prine’s Butcher Shoppe Studio in Nashville in 2012 and 2015’s Domestic  Eccentric was recorded in a cabin Luedecke built himself at his home in NS. 2019 saw  Luedecke recording Easy Money at both the Banff Centre in Alberta and at Hotel2Tango in  Montreal.   \nSongs like I quit my Job at the beginning of his career and the Early Days at the beginning of  his family and dozens of other fan favourites trace a warm line of effort\, sadness and joy and  provide a soundtrack to many peoples’ own progress through adulthood\, touching a rare place  of truth and charm in the holiness of the mundane. His performing style with his easy going  humour and storytelling creates a rare space of hopeful and intimate magic.   \nLuedecke has kept up many worldwide concert appearances\, playing in Europe and around  Canada and the USA and six trips to Australia\, including a memorable tour where his whole  young family travelled with him around rural Queensland for the Festival of Small Halls.   \nIn May 2022 Luedecke was awarded an honorary doctorate from King’s University in Halifax for  his cultural contributions.  \nOpen in Spotify \nOpen in Spotify \nOpen in Spotify \n 
URL:https://ionaheightsinn.com/eventing/old-man-luedecke-3/
LOCATION:The Frolic’n Folk Pub & Grill\, 4115 HWY 223\, Iona\, Nova Scotia\, B2C 1A3\, Canada
CATEGORIES:Events at The Frolic'n Folk,Ticketed Shows
ATTACH;FMTTYPE=image/jpeg:https://ionaheightsinn.com/wp-content/uploads/2024/06/Old-Man-Luedecke.jpg
ORGANIZER;CN="The Frolic'n Folk":MAILTO:frolic@ionaheightsinn.com
GEO:45.9508304;-60.8147104
X-APPLE-STRUCTURED-LOCATION;VALUE=URI;X-ADDRESS=The Frolic’n Folk Pub & Grill 4115 HWY 223 Iona Nova Scotia B2C 1A3 Canada;X-APPLE-RADIUS=500;X-TITLE=4115 HWY 223:geo:-60.8147104,45.9508304
END:VEVENT
BEGIN:VEVENT
DTSTART;TZID=America/Halifax:20240718T200000
DTEND;TZID=America/Halifax:20240718T220000
DTSTAMP:20260425T191308
CREATED:20240125T141835Z
LAST-MODIFIED:20240125T142054Z
UID:10003062-1721332800-1721340000@ionaheightsinn.com
SUMMARY:Trivia Night at The Frolic
DESCRIPTION:Come test your wits & win prizes!\n3 Rounds – 12 general knowledge questions each round. \nPlay solo\, or form a team. Funniest team name gets showered with accolades.\nHosted by your man – Ruarí Aonghas Lonce Murphy\, every Thursday Night
URL:https://ionaheightsinn.com/eventing/trivia-night-at-the-frolic-2-2/2024-07-18/
LOCATION:The Frolic’n Folk Pub & Grill\, 4115 HWY 223\, Iona\, Nova Scotia\, B2C 1A3\, Canada
CATEGORIES:Events at The Frolic'n Folk
ATTACH;FMTTYPE=image/jpeg:https://ionaheightsinn.com/wp-content/uploads/2022/02/Trivia-Night.jpg
ORGANIZER;CN="The Frolic'n Folk":MAILTO:frolic@ionaheightsinn.com
GEO:45.9508304;-60.8147104
X-APPLE-STRUCTURED-LOCATION;VALUE=URI;X-ADDRESS=The Frolic’n Folk Pub & Grill 4115 HWY 223 Iona Nova Scotia B2C 1A3 Canada;X-APPLE-RADIUS=500;X-TITLE=4115 HWY 223:geo:-60.8147104,45.9508304
END:VEVENT
BEGIN:VEVENT
DTSTART;TZID=America/Halifax:20240720T170000
DTEND;TZID=America/Halifax:20240720T200000
DTSTAMP:20260425T191308
CREATED:20240125T142311Z
LAST-MODIFIED:20240125T142523Z
UID:10003341-1721494800-1721505600@ionaheightsinn.com
SUMMARY:Céilidh Matinee
DESCRIPTION:Get a taste of local celtic music & culture with our Saturday ceilidhs (kay-lee). \nExpect to see world-renowned talent & budding entertainers from all over our native Cape Breton. \nGeneral admission seating ranging from $5-$10 \nFirst come first serve at the pub. No reservations. Minors allowed up until 10PM
URL:https://ionaheightsinn.com/eventing/ceilidh-matinee-3-2/2024-07-20/
LOCATION:The Frolic’n Folk Pub & Grill\, 4115 HWY 223\, Iona\, Nova Scotia\, B2C 1A3\, Canada
CATEGORIES:Events at The Frolic'n Folk
ATTACH;FMTTYPE=image/jpeg:https://ionaheightsinn.com/wp-content/uploads/2022/02/Ceilidh-Saturdays.jpg
ORGANIZER;CN="The Frolic'n Folk":MAILTO:frolic@ionaheightsinn.com
GEO:45.9508304;-60.8147104
X-APPLE-STRUCTURED-LOCATION;VALUE=URI;X-ADDRESS=The Frolic’n Folk Pub & Grill 4115 HWY 223 Iona Nova Scotia B2C 1A3 Canada;X-APPLE-RADIUS=500;X-TITLE=4115 HWY 223:geo:-60.8147104,45.9508304
END:VEVENT
BEGIN:VEVENT
DTSTART;TZID=America/Halifax:20240721T163000
DTEND;TZID=America/Halifax:20240721T193000
DTSTAMP:20260425T191308
CREATED:20240125T141001Z
LAST-MODIFIED:20240125T141356Z
UID:10003303-1721579400-1721590200@ionaheightsinn.com
SUMMARY:Cape Breton Celtic Trad Sessions
DESCRIPTION:Come and enjoy a casual gathering of musicians who have come together to play traditional Cape Breton celtic music. \nAnyone is welcome to join in\, or just sit back and enjoy the tunes. \nSundays at The Frolic 430 – 730pm \nFull kitchen and bar service. \nMinors allowed till 10pm \n 
URL:https://ionaheightsinn.com/eventing/cape-breton-celtic-trad-sessions-2/2024-07-21/
LOCATION:The Frolic’n Folk Pub & Grill\, 4115 HWY 223\, Iona\, Nova Scotia\, B2C 1A3\, Canada
CATEGORIES:Events at The Frolic'n Folk
ATTACH;FMTTYPE=image/jpeg:https://ionaheightsinn.com/wp-content/uploads/2022/03/Trad-Sessions.jpg
ORGANIZER;CN="The Frolic'n Folk":MAILTO:frolic@ionaheightsinn.com
GEO:45.9508304;-60.8147104
X-APPLE-STRUCTURED-LOCATION;VALUE=URI;X-ADDRESS=The Frolic’n Folk Pub & Grill 4115 HWY 223 Iona Nova Scotia B2C 1A3 Canada;X-APPLE-RADIUS=500;X-TITLE=4115 HWY 223:geo:-60.8147104,45.9508304
END:VEVENT
END:VCALENDAR