BEGIN:VCALENDAR
VERSION:2.0
PRODID:-//The Iona Heights Inn - ECPv6.15.20//NONSGML v1.0//EN
CALSCALE:GREGORIAN
METHOD:PUBLISH
X-ORIGINAL-URL:https://ionaheightsinn.com
X-WR-CALDESC:Events for The Iona Heights Inn
REFRESH-INTERVAL;VALUE=DURATION:PT1H
X-Robots-Tag:noindex
X-PUBLISHED-TTL:PT1H
BEGIN:VTIMEZONE
TZID:America/Halifax
BEGIN:DAYLIGHT
TZOFFSETFROM:-0400
TZOFFSETTO:-0300
TZNAME:ADT
DTSTART:20230312T060000
END:DAYLIGHT
BEGIN:STANDARD
TZOFFSETFROM:-0300
TZOFFSETTO:-0400
TZNAME:AST
DTSTART:20231105T050000
END:STANDARD
BEGIN:DAYLIGHT
TZOFFSETFROM:-0400
TZOFFSETTO:-0300
TZNAME:ADT
DTSTART:20240310T060000
END:DAYLIGHT
BEGIN:STANDARD
TZOFFSETFROM:-0300
TZOFFSETTO:-0400
TZNAME:AST
DTSTART:20241103T050000
END:STANDARD
BEGIN:DAYLIGHT
TZOFFSETFROM:-0400
TZOFFSETTO:-0300
TZNAME:ADT
DTSTART:20250309T060000
END:DAYLIGHT
BEGIN:STANDARD
TZOFFSETFROM:-0300
TZOFFSETTO:-0400
TZNAME:AST
DTSTART:20251102T050000
END:STANDARD
END:VTIMEZONE
BEGIN:VEVENT
DTSTART;TZID=America/Halifax:20240919T200000
DTEND;TZID=America/Halifax:20240919T220000
DTSTAMP:20260425T124459
CREATED:20240125T141835Z
LAST-MODIFIED:20240125T142054Z
UID:10003071-1726776000-1726783200@ionaheightsinn.com
SUMMARY:Trivia Night at The Frolic
DESCRIPTION:Come test your wits & win prizes!\n3 Rounds – 12 general knowledge questions each round. \nPlay solo\, or form a team. Funniest team name gets showered with accolades.\nHosted by your man – Ruarí Aonghas Lonce Murphy\, every Thursday Night
URL:https://ionaheightsinn.com/eventing/trivia-night-at-the-frolic-2-2/2024-09-19/
LOCATION:The Frolic’n Folk Pub & Grill\, 4115 HWY 223\, Iona\, Nova Scotia\, B2C 1A3\, Canada
CATEGORIES:Events at The Frolic'n Folk
ATTACH;FMTTYPE=image/jpeg:https://ionaheightsinn.com/wp-content/uploads/2022/02/Trivia-Night.jpg
ORGANIZER;CN="The Frolic'n Folk":MAILTO:frolic@ionaheightsinn.com
GEO:45.9508304;-60.8147104
X-APPLE-STRUCTURED-LOCATION;VALUE=URI;X-ADDRESS=The Frolic’n Folk Pub & Grill 4115 HWY 223 Iona Nova Scotia B2C 1A3 Canada;X-APPLE-RADIUS=500;X-TITLE=4115 HWY 223:geo:-60.8147104,45.9508304
END:VEVENT
BEGIN:VEVENT
DTSTART;TZID=America/Halifax:20240920T200000
DTEND;TZID=America/Halifax:20240920T220000
DTSTAMP:20260425T124459
CREATED:20240814T185529Z
LAST-MODIFIED:20240914T122706Z
UID:10003388-1726862400-1726869600@ionaheightsinn.com
SUMMARY:Songwriters Circle - Woody Woodburn\, Steve McIntyre & Dennis Ellsworth
DESCRIPTION:Words that make you think. Melodies that get stuck in your head. Steve MacIntyre offers up both in abundance. An East Coast storyteller who makes his home in Cape Breton\, Steve grew up surrounded by the best artists and entertainers in the world. It is here that he honed his craft and ability to capture an audience. It is here that he began writing songs of love and loss\, travel and reflection\, and it is here that you can find him spinning stories that leave people wanting more! \nBorn & raised in Mississauga\, Ontario\, with roots in Cape Breton. Woody now calls the small town of Rockwood Ontario home. He has spent time in Cape Breton every summer of his life. His music gives life to your own struggles. Like listening to an old friend. The kind of melodies that linger in your head well after you’ve heard them. Woody is an unassuming\, humble guy that will surprise you with his powerful voice. A voice that combined with the real & “come from the heart” lyrics will leave you more hopeful & inspired in your life. \nDennis Ellsworth is a songwriter\, performer\, sideman\, and record producer from Charlottetown\, PE. His songwriting career started in high school\, filling notebooks with lyrics and poems. He grew up on the Beatles\, Simon & Garfunkel\, Ray Charles\, Kris Kristofferson\, Roy Orbison\, Willie Nelson and Merle Haggard. His tastes evolved in grade 6 and he began collecting cassettes. His personal music collection is stylistically expansive. Some might call his love for music an addiction\, but whatever. \nOver the years he has collaborated with Josh Finlayson and Andy Maize from Skydiggers\, Gord Downie from The Tragically Hip\, Joel Plaskett\, Donovan Woods\, Rose Cousins\, John Smith\, and David Barbe (producer of Drive-by Truckers and bass player for 90’s alt rock band Sugar.) \nIn 2015 Dennis signed a publishing deal with Cymba Music Publishing in Toronto and has since written songs in a wide variety of styles His music has appeared in television shows for CBC\, Netflix\, HBO and was featured in the award-winning film\, The New Romantic. \nEllsworth has released 2 full length albums with his previous group\, Haunted Hearts\, an album as a duo with Kinley Dowling\, two EP’s and 10 full length solo albums\, including his most recent triple album project called Bound by Love.
URL:https://ionaheightsinn.com/eventing/songwriters-circle-woody-woodburn-steve-mcintyre-dennis-ellsworth/
LOCATION:The Frolic’n Folk Pub & Grill\, 4115 HWY 223\, Iona\, Nova Scotia\, B2C 1A3\, Canada
CATEGORIES:Events at The Frolic'n Folk,Ticketed Shows
ATTACH;FMTTYPE=image/jpeg:https://ionaheightsinn.com/wp-content/uploads/2024/08/Songwriters.jpg
ORGANIZER;CN="The Frolic'n Folk":MAILTO:frolic@ionaheightsinn.com
GEO:45.9508304;-60.8147104
X-APPLE-STRUCTURED-LOCATION;VALUE=URI;X-ADDRESS=The Frolic’n Folk Pub & Grill 4115 HWY 223 Iona Nova Scotia B2C 1A3 Canada;X-APPLE-RADIUS=500;X-TITLE=4115 HWY 223:geo:-60.8147104,45.9508304
END:VEVENT
BEGIN:VEVENT
DTSTART;TZID=America/Halifax:20240921T170000
DTEND;TZID=America/Halifax:20240921T200000
DTSTAMP:20260425T124459
CREATED:20240125T142311Z
LAST-MODIFIED:20240125T142523Z
UID:10003350-1726938000-1726948800@ionaheightsinn.com
SUMMARY:Céilidh Matinee
DESCRIPTION:Get a taste of local celtic music & culture with our Saturday ceilidhs (kay-lee). \nExpect to see world-renowned talent & budding entertainers from all over our native Cape Breton. \nGeneral admission seating ranging from $5-$10 \nFirst come first serve at the pub. No reservations. Minors allowed up until 10PM
URL:https://ionaheightsinn.com/eventing/ceilidh-matinee-3-2/2024-09-21/
LOCATION:The Frolic’n Folk Pub & Grill\, 4115 HWY 223\, Iona\, Nova Scotia\, B2C 1A3\, Canada
CATEGORIES:Events at The Frolic'n Folk
ATTACH;FMTTYPE=image/jpeg:https://ionaheightsinn.com/wp-content/uploads/2022/02/Ceilidh-Saturdays.jpg
ORGANIZER;CN="The Frolic'n Folk":MAILTO:frolic@ionaheightsinn.com
GEO:45.9508304;-60.8147104
X-APPLE-STRUCTURED-LOCATION;VALUE=URI;X-ADDRESS=The Frolic’n Folk Pub & Grill 4115 HWY 223 Iona Nova Scotia B2C 1A3 Canada;X-APPLE-RADIUS=500;X-TITLE=4115 HWY 223:geo:-60.8147104,45.9508304
END:VEVENT
BEGIN:VEVENT
DTSTART;TZID=America/Halifax:20240922T163000
DTEND;TZID=America/Halifax:20240922T193000
DTSTAMP:20260425T124459
CREATED:20240125T141001Z
LAST-MODIFIED:20240125T141356Z
UID:10003312-1727022600-1727033400@ionaheightsinn.com
SUMMARY:Cape Breton Celtic Trad Sessions
DESCRIPTION:Come and enjoy a casual gathering of musicians who have come together to play traditional Cape Breton celtic music. \nAnyone is welcome to join in\, or just sit back and enjoy the tunes. \nSundays at The Frolic 430 – 730pm \nFull kitchen and bar service. \nMinors allowed till 10pm \n 
URL:https://ionaheightsinn.com/eventing/cape-breton-celtic-trad-sessions-2/2024-09-22/
LOCATION:The Frolic’n Folk Pub & Grill\, 4115 HWY 223\, Iona\, Nova Scotia\, B2C 1A3\, Canada
CATEGORIES:Events at The Frolic'n Folk
ATTACH;FMTTYPE=image/jpeg:https://ionaheightsinn.com/wp-content/uploads/2022/03/Trad-Sessions.jpg
ORGANIZER;CN="The Frolic'n Folk":MAILTO:frolic@ionaheightsinn.com
GEO:45.9508304;-60.8147104
X-APPLE-STRUCTURED-LOCATION;VALUE=URI;X-ADDRESS=The Frolic’n Folk Pub & Grill 4115 HWY 223 Iona Nova Scotia B2C 1A3 Canada;X-APPLE-RADIUS=500;X-TITLE=4115 HWY 223:geo:-60.8147104,45.9508304
END:VEVENT
END:VCALENDAR