BEGIN:VCALENDAR
VERSION:2.0
PRODID:-//The Iona Heights Inn - ECPv6.15.20//NONSGML v1.0//EN
CALSCALE:GREGORIAN
METHOD:PUBLISH
X-WR-CALNAME:The Iona Heights Inn
X-ORIGINAL-URL:https://ionaheightsinn.com
X-WR-CALDESC:Events for The Iona Heights Inn
REFRESH-INTERVAL;VALUE=DURATION:PT1H
X-Robots-Tag:noindex
X-PUBLISHED-TTL:PT1H
BEGIN:VTIMEZONE
TZID:America/Halifax
BEGIN:DAYLIGHT
TZOFFSETFROM:-0400
TZOFFSETTO:-0300
TZNAME:ADT
DTSTART:20230312T060000
END:DAYLIGHT
BEGIN:STANDARD
TZOFFSETFROM:-0300
TZOFFSETTO:-0400
TZNAME:AST
DTSTART:20231105T050000
END:STANDARD
BEGIN:DAYLIGHT
TZOFFSETFROM:-0400
TZOFFSETTO:-0300
TZNAME:ADT
DTSTART:20240310T060000
END:DAYLIGHT
BEGIN:STANDARD
TZOFFSETFROM:-0300
TZOFFSETTO:-0400
TZNAME:AST
DTSTART:20241103T050000
END:STANDARD
BEGIN:DAYLIGHT
TZOFFSETFROM:-0400
TZOFFSETTO:-0300
TZNAME:ADT
DTSTART:20250309T060000
END:DAYLIGHT
BEGIN:STANDARD
TZOFFSETFROM:-0300
TZOFFSETTO:-0400
TZNAME:AST
DTSTART:20251102T050000
END:STANDARD
END:VTIMEZONE
BEGIN:VEVENT
DTSTART;TZID=America/Halifax:20241031T200000
DTEND;TZID=America/Halifax:20241031T220000
DTSTAMP:20260425T120848
CREATED:20240125T141835Z
LAST-MODIFIED:20240125T142054Z
UID:10003077-1730404800-1730412000@ionaheightsinn.com
SUMMARY:Trivia Night at The Frolic
DESCRIPTION:Come test your wits & win prizes!\n3 Rounds – 12 general knowledge questions each round. \nPlay solo\, or form a team. Funniest team name gets showered with accolades.\nHosted by your man – Ruarí Aonghas Lonce Murphy\, every Thursday Night
URL:https://ionaheightsinn.com/eventing/trivia-night-at-the-frolic-2-2/2024-10-31/
LOCATION:The Frolic’n Folk Pub & Grill\, 4115 HWY 223\, Iona\, Nova Scotia\, B2C 1A3\, Canada
CATEGORIES:Events at The Frolic'n Folk
ATTACH;FMTTYPE=image/jpeg:https://ionaheightsinn.com/wp-content/uploads/2022/02/Trivia-Night.jpg
ORGANIZER;CN="The Frolic'n Folk":MAILTO:frolic@ionaheightsinn.com
GEO:45.9508304;-60.8147104
X-APPLE-STRUCTURED-LOCATION;VALUE=URI;X-ADDRESS=The Frolic’n Folk Pub & Grill 4115 HWY 223 Iona Nova Scotia B2C 1A3 Canada;X-APPLE-RADIUS=500;X-TITLE=4115 HWY 223:geo:-60.8147104,45.9508304
END:VEVENT
BEGIN:VEVENT
DTSTART;TZID=America/Halifax:20241031T200000
DTEND;TZID=America/Halifax:20241031T220000
DTSTAMP:20260425T120848
CREATED:20240604T155556Z
LAST-MODIFIED:20240603T151734Z
UID:10003380-1730404800-1730412000@ionaheightsinn.com
SUMMARY:Steve Poltz - Nova Scotia Homecoming Tour
DESCRIPTION:It might’ve even been last night\, but Steve Poltz just played the greatest show of his life. Guess what?  \nThe next show will be even greater\, making that show the greatest show of his life.  \nAre you starting to notice a trend?  \nHe isn’t shy about it either.  \nEven after most likely thousands of shows (but who’s counting?)\, he hits the stage with the same amount of energy and always makes sure to declare\, “This is the greatest show of my life.”  \nIt’s why he’s quietly emerged as the kind of live phenomenon celebrated passionately by a diehard fanbase worldwide and renowned as a festival favorite everywhere from Bluesfest in Byron Bay and High Sierra Music Festival in California and Telluride Bluegrass Festival in Colorado to Cayamo Cruise (where he actually got married). It’s why his music has crept into pop culture via collaborations with everyone from Jewel and Billy Strings to Molly Tuttle\, Sierra Hull\, Nicki Bluhm\, Oliver Wood\, and even the late Mojo Nixon. It’s why after over a dozen albums\, he’s still creatively firing on all cylinders and critically acclaimed by the likes of Rolling Stone\, Associated Press\, Billboard\, and many more.  \nNevertheless\, the next gig will be the greatest show for him (and maybe for you too)… \n“I started doing it years ago\, because I feel grateful to still be alive\,” he notes. ”Even today\, I still do it\, and I believe my own bullshit. I convinced myself that every show is the greatest show I’ve ever played. They’re all different\, and it depends on my mood each day\, but I know I’m there to entertain people. It always cracks me up when I stumble into some sort of weird thing that’s handed to me like a gift from the freaky deadly heavens above.” \nSteve might as well be “a gift from the freaky deadly heavens above” himself. He was born in Nova Scotia—Halifax\, to be exact. Somewhere along the way\, he began his relationship with the guitar at six-years-old. “We’re joined at the hip and lip and it’s always near my grip\,” he affirms. He grew up in Los Angeles and Palm Springs (where he “met Elvis and Liberace”) and settled in San Diego (where he cut his teeth “under the tutelage of The Beat Farmers”).  \nHe kicked off his musical journey in San Diego-bred underground favorites The Rugburns. However\, the world got to know Steve when co-wrote two tracks from Jewel’s diamond-certified debut Pieces Of You\, including the multi platinum Billboard Hot 100 #2 “You Were Meant For Me” (he’s also in the video). He delivered his own full-length debut One Left Shoe in 1998 and paved the way for an extensive solo catalog defined by what he calls “evocative lyrics mixed with positivity and traces of tragicomedy.”  \nIf you so choose\, you can trace his evolution from “Everything About You” (which popped up in Notting Hill) to the staple “Can O’ Pop”— christened “a fizzy delight” by Rolling Stone. The latter graced his 2022 album\, Stardust & Satellites. Co-produced and created with The Wood Brothers\, it garnered widespread acclaim. HOLLER. hailed it as “a wonderfully energized\, often joyful and wryly provocative release from the charismatic Steve Poltz\,” while No Depression dubbed it “poignant and ultimately uplifting.” Glide Magazine applauded how\, “He takes chances like few others and seems to be increasingly more unconventional as he embraces Americana.” \nSimultaneously\, a myriad of artists continue to seek him out as a collaborator in the studio. Whether it be “Leaders” with Billy Strings or “Million Miles” with Molly Tuttle\, he’s got dozens of cuts with various friends under his belt. He contributed two tunes to Deer Tick’s Emotional Contracts with frontman John J. McCauley going on to profess to Brooklyn Vegan\, “Steve Poltz may be the biggest\, most direct inspiration for me on this record.” \nSteve adds\, “Usually when these folks and many others come over to my house in Nashville we end up with something I love. I try not to overthink it. There are no rules. It’s kind of like fishing. You don’t catch anything if you don’t throw your rod in the water. So I guess I just try to be available for inspiration\, mixed with perspiration and exasperation.” \nSpeaking of perspiration\, he regularly travels far and wide to audiences of all ages and all continents most every day.  \n“I travel from town to town and fool people\,” he grins. “I sing them songs and tell them stories and somehow they decide to pay money to obtain some merch and witness the spectacle. Then I return a year later and fool them again.” \nIn the end\, Steve is probably gearing up for the greatest show of his life as you read this.  \nThankfully\, that will never change. \nHe signs off\, “I’m just a weirdo\, a freak\, a bon vivant\, a rounder\, a rabble rouser\, a workaholic\, a people pleaser\, an idiot and a grateful kid who ran away and joined the circus.”  \nOpen in Spotify  \nOpen in Spotify \n  \nOpen in Spotify \n 
URL:https://ionaheightsinn.com/eventing/steve-poltz-nova-scotia-homecoming-tour/
LOCATION:The Frolic’n Folk Pub & Grill\, 4115 HWY 223\, Iona\, Nova Scotia\, B2C 1A3\, Canada
CATEGORIES:Events at The Frolic'n Folk,Ticketed Shows
ATTACH;FMTTYPE=image/jpeg:https://ionaheightsinn.com/wp-content/uploads/2024/06/Steve-Poltz.jpg
ORGANIZER;CN="The Frolic'n Folk":MAILTO:frolic@ionaheightsinn.com
GEO:45.9508304;-60.8147104
X-APPLE-STRUCTURED-LOCATION;VALUE=URI;X-ADDRESS=The Frolic’n Folk Pub & Grill 4115 HWY 223 Iona Nova Scotia B2C 1A3 Canada;X-APPLE-RADIUS=500;X-TITLE=4115 HWY 223:geo:-60.8147104,45.9508304
END:VEVENT
BEGIN:VEVENT
DTSTART;TZID=America/Halifax:20241102T170000
DTEND;TZID=America/Halifax:20241102T200000
DTSTAMP:20260425T120848
CREATED:20240125T142311Z
LAST-MODIFIED:20240125T142523Z
UID:10003356-1730566800-1730577600@ionaheightsinn.com
SUMMARY:Céilidh Matinee
DESCRIPTION:Get a taste of local celtic music & culture with our Saturday ceilidhs (kay-lee). \nExpect to see world-renowned talent & budding entertainers from all over our native Cape Breton. \nGeneral admission seating ranging from $5-$10 \nFirst come first serve at the pub. No reservations. Minors allowed up until 10PM
URL:https://ionaheightsinn.com/eventing/ceilidh-matinee-3-2/2024-11-02/
LOCATION:The Frolic’n Folk Pub & Grill\, 4115 HWY 223\, Iona\, Nova Scotia\, B2C 1A3\, Canada
CATEGORIES:Events at The Frolic'n Folk
ATTACH;FMTTYPE=image/jpeg:https://ionaheightsinn.com/wp-content/uploads/2022/02/Ceilidh-Saturdays.jpg
ORGANIZER;CN="The Frolic'n Folk":MAILTO:frolic@ionaheightsinn.com
GEO:45.9508304;-60.8147104
X-APPLE-STRUCTURED-LOCATION;VALUE=URI;X-ADDRESS=The Frolic’n Folk Pub & Grill 4115 HWY 223 Iona Nova Scotia B2C 1A3 Canada;X-APPLE-RADIUS=500;X-TITLE=4115 HWY 223:geo:-60.8147104,45.9508304
END:VEVENT
END:VCALENDAR