BEGIN:VCALENDAR
VERSION:2.0
PRODID:-//The Iona Heights Inn - ECPv6.15.20//NONSGML v1.0//EN
CALSCALE:GREGORIAN
METHOD:PUBLISH
X-WR-CALNAME:The Iona Heights Inn
X-ORIGINAL-URL:https://ionaheightsinn.com
X-WR-CALDESC:Events for The Iona Heights Inn
REFRESH-INTERVAL;VALUE=DURATION:PT1H
X-Robots-Tag:noindex
X-PUBLISHED-TTL:PT1H
BEGIN:VTIMEZONE
TZID:America/Halifax
BEGIN:DAYLIGHT
TZOFFSETFROM:-0400
TZOFFSETTO:-0300
TZNAME:ADT
DTSTART:20150308T060000
END:DAYLIGHT
BEGIN:STANDARD
TZOFFSETFROM:-0300
TZOFFSETTO:-0400
TZNAME:AST
DTSTART:20151101T050000
END:STANDARD
BEGIN:DAYLIGHT
TZOFFSETFROM:-0400
TZOFFSETTO:-0300
TZNAME:ADT
DTSTART:20160313T060000
END:DAYLIGHT
BEGIN:STANDARD
TZOFFSETFROM:-0300
TZOFFSETTO:-0400
TZNAME:AST
DTSTART:20161106T050000
END:STANDARD
BEGIN:DAYLIGHT
TZOFFSETFROM:-0400
TZOFFSETTO:-0300
TZNAME:ADT
DTSTART:20170312T060000
END:DAYLIGHT
BEGIN:STANDARD
TZOFFSETFROM:-0300
TZOFFSETTO:-0400
TZNAME:AST
DTSTART:20171105T050000
END:STANDARD
BEGIN:DAYLIGHT
TZOFFSETFROM:-0400
TZOFFSETTO:-0300
TZNAME:ADT
DTSTART:20180311T060000
END:DAYLIGHT
BEGIN:STANDARD
TZOFFSETFROM:-0300
TZOFFSETTO:-0400
TZNAME:AST
DTSTART:20181104T050000
END:STANDARD
BEGIN:DAYLIGHT
TZOFFSETFROM:-0400
TZOFFSETTO:-0300
TZNAME:ADT
DTSTART:20190310T060000
END:DAYLIGHT
BEGIN:STANDARD
TZOFFSETFROM:-0300
TZOFFSETTO:-0400
TZNAME:AST
DTSTART:20191103T050000
END:STANDARD
BEGIN:DAYLIGHT
TZOFFSETFROM:-0400
TZOFFSETTO:-0300
TZNAME:ADT
DTSTART:20200308T060000
END:DAYLIGHT
BEGIN:STANDARD
TZOFFSETFROM:-0300
TZOFFSETTO:-0400
TZNAME:AST
DTSTART:20201101T050000
END:STANDARD
BEGIN:DAYLIGHT
TZOFFSETFROM:-0400
TZOFFSETTO:-0300
TZNAME:ADT
DTSTART:20210314T060000
END:DAYLIGHT
BEGIN:STANDARD
TZOFFSETFROM:-0300
TZOFFSETTO:-0400
TZNAME:AST
DTSTART:20211107T050000
END:STANDARD
BEGIN:DAYLIGHT
TZOFFSETFROM:-0400
TZOFFSETTO:-0300
TZNAME:ADT
DTSTART:20220313T060000
END:DAYLIGHT
BEGIN:STANDARD
TZOFFSETFROM:-0300
TZOFFSETTO:-0400
TZNAME:AST
DTSTART:20221106T050000
END:STANDARD
BEGIN:DAYLIGHT
TZOFFSETFROM:-0400
TZOFFSETTO:-0300
TZNAME:ADT
DTSTART:20230312T060000
END:DAYLIGHT
BEGIN:STANDARD
TZOFFSETFROM:-0300
TZOFFSETTO:-0400
TZNAME:AST
DTSTART:20231105T050000
END:STANDARD
BEGIN:DAYLIGHT
TZOFFSETFROM:-0400
TZOFFSETTO:-0300
TZNAME:ADT
DTSTART:20240310T060000
END:DAYLIGHT
BEGIN:STANDARD
TZOFFSETFROM:-0300
TZOFFSETTO:-0400
TZNAME:AST
DTSTART:20241103T050000
END:STANDARD
BEGIN:DAYLIGHT
TZOFFSETFROM:-0400
TZOFFSETTO:-0300
TZNAME:ADT
DTSTART:20250309T060000
END:DAYLIGHT
BEGIN:STANDARD
TZOFFSETFROM:-0300
TZOFFSETTO:-0400
TZNAME:AST
DTSTART:20251102T050000
END:STANDARD
BEGIN:DAYLIGHT
TZOFFSETFROM:-0400
TZOFFSETTO:-0300
TZNAME:ADT
DTSTART:20260308T060000
END:DAYLIGHT
BEGIN:STANDARD
TZOFFSETFROM:-0300
TZOFFSETTO:-0400
TZNAME:AST
DTSTART:20261101T050000
END:STANDARD
BEGIN:DAYLIGHT
TZOFFSETFROM:-0400
TZOFFSETTO:-0300
TZNAME:ADT
DTSTART:20270314T060000
END:DAYLIGHT
BEGIN:STANDARD
TZOFFSETFROM:-0300
TZOFFSETTO:-0400
TZNAME:AST
DTSTART:20271107T050000
END:STANDARD
END:VTIMEZONE
BEGIN:VEVENT
DTSTART;TZID=America/Halifax:20260405T100000
DTEND;TZID=America/Halifax:20260405T140000
DTSTAMP:20260424T090010
CREATED:20260325T154342Z
LAST-MODIFIED:20260325T154621Z
UID:10003724-1775383200-1775397600@ionaheightsinn.com
SUMMARY:Easter Brunch
DESCRIPTION:Easter Brunch at The Frolic & Folk 10am – 2pm\nAdults $22  \nKids $12 \nJoin us this Easter Sunday for a delicious brunch\, open to the general public! No reservations required.\nMenu: \n\nMarinated carrots\nCrunchy Salad\nPotato Salad\nCarved Ham\nScrambled Eggs\nBacon/Sausage\nWendy’s Famous Beans\nWaffle Bar\n\nDesserts: \n\nBlack Forest Trifle\nBlueberry Crumb Cake\n\nKids: Easter Egg Nests\nBunny Cake Cones\n\n\nTea/Coffee/Juice\nMimosa’s $6\n\n**Every customer gets entered into our Easter Basket Draw — one lucky winner takes home a fabulous basket full of treats!**
URL:https://ionaheightsinn.com/eventing/easter-brunch/
LOCATION:The Frolic’n Folk Pub & Grill\, 4115 HWY 223\, Iona\, Nova Scotia\, B2C 1A3\, Canada
CATEGORIES:Events at The Frolic'n Folk,Events at The Iona Heights Inn
ATTACH;FMTTYPE=image/jpeg:https://ionaheightsinn.com/wp-content/uploads/2026/03/Bunny.jpg
ORGANIZER;CN="The Frolic'n Folk":MAILTO:frolic@ionaheightsinn.com
GEO:45.9508304;-60.8147104
X-APPLE-STRUCTURED-LOCATION;VALUE=URI;X-ADDRESS=The Frolic’n Folk Pub & Grill 4115 HWY 223 Iona Nova Scotia B2C 1A3 Canada;X-APPLE-RADIUS=500;X-TITLE=4115 HWY 223:geo:-60.8147104,45.9508304
END:VEVENT
BEGIN:VEVENT
DTSTART;TZID=America/Halifax:20170513T100000
DTEND;TZID=America/Halifax:20170513T120000
DTSTAMP:20260424T090010
CREATED:20170421T122610Z
LAST-MODIFIED:20170427T124902Z
UID:10002784-1494669600-1494676800@ionaheightsinn.com
SUMMARY:Coffee and Canvas
DESCRIPTION:Grab a few friends and start your weekend morning off dabbling in the arts. \nLisa Harrison will be on the property to give an art lesson to those that are curious about art & painting\, being creative\,  or just looking for something different to do. \n\nLessons are $40 and include all supplies\, coffee/tea\, scone\, fruit and chocolates. \n\nYou also get to take your new piece of art home! \n\nSpace is limited. \n\nThe lesson begins at 10am\, but arrival between 9 -10 is suggested so you can get properly set up with supplies. \nPlease wear old clothes or bring an apron to protect yourself from paint. \nAges 18+
URL:https://ionaheightsinn.com/eventing/coffee-and-canvas/
LOCATION:The Iona Heights Inn\, 4115 HWY 223\, Iona\, NS\, B2C1A3\, Canada
CATEGORIES:Events at The Iona Heights Inn
ATTACH;FMTTYPE=image/jpeg:https://ionaheightsinn.com/wp-content/uploads/2017/04/Photo-2017-04-21-8-42-34-AM.jpg
GEO:45.9508304;-60.8147104
X-APPLE-STRUCTURED-LOCATION;VALUE=URI;X-ADDRESS=The Iona Heights Inn 4115 HWY 223 Iona NS B2C1A3 Canada;X-APPLE-RADIUS=500;X-TITLE=4115 HWY 223:geo:-60.8147104,45.9508304
END:VEVENT
BEGIN:VEVENT
DTSTART;TZID=America/Halifax:20170507T130000
DTEND;TZID=America/Halifax:20170507T150000
DTSTAMP:20260424T090010
CREATED:20170421T120514Z
LAST-MODIFIED:20170427T124827Z
UID:10002780-1494162000-1494169200@ionaheightsinn.com
SUMMARY:Youth Painting
DESCRIPTION:The Iona Heights Inn is hosting a youth painting afternoon. \nCost of the class is $35 and includes all art supplies and a drink/small snack. \nThis afternoon is reserved for ages 6-18 year olds.  Space is limited. \nParents do not need to attend. \nThe instructor will be Karen Breen. \nAttendees should arrive between noon and one to get set up for the lesson beginning.  Expect to stay for 2 hours.
URL:https://ionaheightsinn.com/eventing/youth-painting-2/
LOCATION:The Iona Heights Inn\, 4115 HWY 223\, Iona\, NS\, B2C1A3\, Canada
CATEGORIES:Events at The Iona Heights Inn
ATTACH;FMTTYPE=image/jpeg:https://ionaheightsinn.com/wp-content/uploads/2017/04/owel.jpg
GEO:45.9508304;-60.8147104
X-APPLE-STRUCTURED-LOCATION;VALUE=URI;X-ADDRESS=The Iona Heights Inn 4115 HWY 223 Iona NS B2C1A3 Canada;X-APPLE-RADIUS=500;X-TITLE=4115 HWY 223:geo:-60.8147104,45.9508304
END:VEVENT
BEGIN:VEVENT
DTSTART;TZID=America/Halifax:20170429T100000
DTEND;TZID=America/Halifax:20170429T120000
DTSTAMP:20260424T090010
CREATED:20170421T121815Z
LAST-MODIFIED:20170427T123134Z
UID:10002782-1493460000-1493467200@ionaheightsinn.com
SUMMARY:Coffee and Canvas
DESCRIPTION:Grab a few friends and start your weekend morning off dabbling in the arts. \nLisa Harrison will be on the property to give an art lesson to those that are curious about art & painting\, being creative\,  or just looking for something different to do. \n\nLessons are $40 and include all supplies\, coffee/tea\, scone\, fruit and chocolates. \n\nYou also get to take your new piece of art home! \n\nSpace is limited. \n\nThe lesson begins at 10am\, but arrival between 9 -10 is suggested so you can get properly set up with supplies. \nPlease wear old clothes or bring an apron to protect yourself from paint. \nAges 18+
URL:https://ionaheightsinn.com/eventing/cofee-and-canvas/
LOCATION:The Iona Heights Inn\, 4115 HWY 223\, Iona\, NS\, B2C1A3\, Canada
CATEGORIES:Events at The Iona Heights Inn
ATTACH;FMTTYPE=image/jpeg:https://ionaheightsinn.com/wp-content/uploads/2017/04/Photo-2017-04-21-8-42-30-AM.jpg
GEO:45.9508304;-60.8147104
X-APPLE-STRUCTURED-LOCATION;VALUE=URI;X-ADDRESS=The Iona Heights Inn 4115 HWY 223 Iona NS B2C1A3 Canada;X-APPLE-RADIUS=500;X-TITLE=4115 HWY 223:geo:-60.8147104,45.9508304
END:VEVENT
BEGIN:VEVENT
DTSTART;TZID=America/Halifax:20170305T130000
DTEND;TZID=America/Halifax:20170305T140000
DTSTAMP:20260424T090010
CREATED:20160125T173849Z
LAST-MODIFIED:20170301T133244Z
UID:10002763-1488718800-1488722400@ionaheightsinn.com
SUMMARY:Snowshoe Walk
DESCRIPTION:This walk has been cancelled due to lack of snow\nThis will be our third 2017 “Hector’s Point Snowshoe Walk” at 1pm. \nThis will be a hike around the Highland Village. It will be approximately 3km\, and end at the pub with a 10oz pint (for those that are 19/over)\, or a cup of Jill’s Hot Chocolate. Walk is for all ages. Shorter routes available if need be. \n$15 per person including snowshoes\, or $10 if you bring your own. Space is limited\, so reserve on line\, and pay at the door cash/debit/credit card. \n• Meet at The Frolic’n Folk Pub just inside the Inn
URL:https://ionaheightsinn.com/eventing/moonlight-walk-2-2017-03-05/
LOCATION:The Iona Heights Inn\, 4115 HWY 223\, Iona\, NS\, B2C1A3\, Canada
CATEGORIES:Events at The Iona Heights Inn
ATTACH;FMTTYPE=image/jpeg:https://ionaheightsinn.com/wp-content/uploads/2016/01/snowshoe-e1483624767689.jpg
ORGANIZER;CN="Unnamed Organizer":MAILTO:info@ionaheightsinn.com
GEO:45.9508304;-60.8147104
X-APPLE-STRUCTURED-LOCATION;VALUE=URI;X-ADDRESS=The Iona Heights Inn 4115 HWY 223 Iona NS B2C1A3 Canada;X-APPLE-RADIUS=500;X-TITLE=4115 HWY 223:geo:-60.8147104,45.9508304
END:VEVENT
BEGIN:VEVENT
DTSTART;TZID=America/Halifax:20160827T080000
DTEND;TZID=America/Halifax:20160827T120000
DTSTAMP:20260424T090010
CREATED:20160425T161017Z
LAST-MODIFIED:20160425T161017Z
UID:10002658-1472284800-1472299200@ionaheightsinn.com
SUMMARY:Saturday Market
DESCRIPTION:The Jillick at the Inn will play host to 8 market vendors\, who handcraft and or grow their own products. We like to encourage buying local\, as well as young and old entrepreneurship alike.\nDetails to follow.
URL:https://ionaheightsinn.com/eventing/saturday-market/2016-08-27/
LOCATION:The Iona Heights Inn\, 4115 HWY 223\, Iona\, NS\, B2C1A3\, Canada
CATEGORIES:Events at The Iona Heights Inn
ATTACH;FMTTYPE=image/jpeg:https://ionaheightsinn.com/wp-content/uploads/2016/04/Market.jpg
GEO:45.9508304;-60.8147104
X-APPLE-STRUCTURED-LOCATION;VALUE=URI;X-ADDRESS=The Iona Heights Inn 4115 HWY 223 Iona NS B2C1A3 Canada;X-APPLE-RADIUS=500;X-TITLE=4115 HWY 223:geo:-60.8147104,45.9508304
END:VEVENT
BEGIN:VEVENT
DTSTART;TZID=America/Halifax:20160820T080000
DTEND;TZID=America/Halifax:20160820T120000
DTSTAMP:20260424T090010
CREATED:20160425T161017Z
LAST-MODIFIED:20160425T161017Z
UID:10002657-1471680000-1471694400@ionaheightsinn.com
SUMMARY:Saturday Market
DESCRIPTION:The Jillick at the Inn will play host to 8 market vendors\, who handcraft and or grow their own products. We like to encourage buying local\, as well as young and old entrepreneurship alike.\nDetails to follow.
URL:https://ionaheightsinn.com/eventing/saturday-market/2016-08-20/
LOCATION:The Iona Heights Inn\, 4115 HWY 223\, Iona\, NS\, B2C1A3\, Canada
CATEGORIES:Events at The Iona Heights Inn
ATTACH;FMTTYPE=image/jpeg:https://ionaheightsinn.com/wp-content/uploads/2016/04/Market.jpg
GEO:45.9508304;-60.8147104
X-APPLE-STRUCTURED-LOCATION;VALUE=URI;X-ADDRESS=The Iona Heights Inn 4115 HWY 223 Iona NS B2C1A3 Canada;X-APPLE-RADIUS=500;X-TITLE=4115 HWY 223:geo:-60.8147104,45.9508304
END:VEVENT
BEGIN:VEVENT
DTSTART;TZID=America/Halifax:20160813T080000
DTEND;TZID=America/Halifax:20160813T120000
DTSTAMP:20260424T090010
CREATED:20160425T161017Z
LAST-MODIFIED:20160425T161017Z
UID:10002656-1471075200-1471089600@ionaheightsinn.com
SUMMARY:Saturday Market
DESCRIPTION:The Jillick at the Inn will play host to 8 market vendors\, who handcraft and or grow their own products. We like to encourage buying local\, as well as young and old entrepreneurship alike.\nDetails to follow.
URL:https://ionaheightsinn.com/eventing/saturday-market/2016-08-13/
LOCATION:The Iona Heights Inn\, 4115 HWY 223\, Iona\, NS\, B2C1A3\, Canada
CATEGORIES:Events at The Iona Heights Inn
ATTACH;FMTTYPE=image/jpeg:https://ionaheightsinn.com/wp-content/uploads/2016/04/Market.jpg
GEO:45.9508304;-60.8147104
X-APPLE-STRUCTURED-LOCATION;VALUE=URI;X-ADDRESS=The Iona Heights Inn 4115 HWY 223 Iona NS B2C1A3 Canada;X-APPLE-RADIUS=500;X-TITLE=4115 HWY 223:geo:-60.8147104,45.9508304
END:VEVENT
BEGIN:VEVENT
DTSTART;TZID=America/Halifax:20160806T080000
DTEND;TZID=America/Halifax:20160806T120000
DTSTAMP:20260424T090010
CREATED:20160425T161017Z
LAST-MODIFIED:20160425T161017Z
UID:10002655-1470470400-1470484800@ionaheightsinn.com
SUMMARY:Saturday Market
DESCRIPTION:The Jillick at the Inn will play host to 8 market vendors\, who handcraft and or grow their own products. We like to encourage buying local\, as well as young and old entrepreneurship alike.\nDetails to follow.
URL:https://ionaheightsinn.com/eventing/saturday-market/2016-08-06/
LOCATION:The Iona Heights Inn\, 4115 HWY 223\, Iona\, NS\, B2C1A3\, Canada
CATEGORIES:Events at The Iona Heights Inn
ATTACH;FMTTYPE=image/jpeg:https://ionaheightsinn.com/wp-content/uploads/2016/04/Market.jpg
GEO:45.9508304;-60.8147104
X-APPLE-STRUCTURED-LOCATION;VALUE=URI;X-ADDRESS=The Iona Heights Inn 4115 HWY 223 Iona NS B2C1A3 Canada;X-APPLE-RADIUS=500;X-TITLE=4115 HWY 223:geo:-60.8147104,45.9508304
END:VEVENT
BEGIN:VEVENT
DTSTART;TZID=America/Halifax:20160730T080000
DTEND;TZID=America/Halifax:20160730T120000
DTSTAMP:20260424T090010
CREATED:20160425T161017Z
LAST-MODIFIED:20160425T161017Z
UID:10002654-1469865600-1469880000@ionaheightsinn.com
SUMMARY:Saturday Market
DESCRIPTION:The Jillick at the Inn will play host to 8 market vendors\, who handcraft and or grow their own products. We like to encourage buying local\, as well as young and old entrepreneurship alike.\nDetails to follow.
URL:https://ionaheightsinn.com/eventing/saturday-market/2016-07-30/
LOCATION:The Iona Heights Inn\, 4115 HWY 223\, Iona\, NS\, B2C1A3\, Canada
CATEGORIES:Events at The Iona Heights Inn
ATTACH;FMTTYPE=image/jpeg:https://ionaheightsinn.com/wp-content/uploads/2016/04/Market.jpg
GEO:45.9508304;-60.8147104
X-APPLE-STRUCTURED-LOCATION;VALUE=URI;X-ADDRESS=The Iona Heights Inn 4115 HWY 223 Iona NS B2C1A3 Canada;X-APPLE-RADIUS=500;X-TITLE=4115 HWY 223:geo:-60.8147104,45.9508304
END:VEVENT
BEGIN:VEVENT
DTSTART;TZID=America/Halifax:20160723T080000
DTEND;TZID=America/Halifax:20160723T120000
DTSTAMP:20260424T090010
CREATED:20160425T161017Z
LAST-MODIFIED:20160425T161017Z
UID:10002653-1469260800-1469275200@ionaheightsinn.com
SUMMARY:Saturday Market
DESCRIPTION:The Jillick at the Inn will play host to 8 market vendors\, who handcraft and or grow their own products. We like to encourage buying local\, as well as young and old entrepreneurship alike.\nDetails to follow.
URL:https://ionaheightsinn.com/eventing/saturday-market/2016-07-23/
LOCATION:The Iona Heights Inn\, 4115 HWY 223\, Iona\, NS\, B2C1A3\, Canada
CATEGORIES:Events at The Iona Heights Inn
ATTACH;FMTTYPE=image/jpeg:https://ionaheightsinn.com/wp-content/uploads/2016/04/Market.jpg
GEO:45.9508304;-60.8147104
X-APPLE-STRUCTURED-LOCATION;VALUE=URI;X-ADDRESS=The Iona Heights Inn 4115 HWY 223 Iona NS B2C1A3 Canada;X-APPLE-RADIUS=500;X-TITLE=4115 HWY 223:geo:-60.8147104,45.9508304
END:VEVENT
BEGIN:VEVENT
DTSTART;TZID=America/Halifax:20160716T080000
DTEND;TZID=America/Halifax:20160716T120000
DTSTAMP:20260424T090010
CREATED:20160425T161017Z
LAST-MODIFIED:20160425T161017Z
UID:10002652-1468656000-1468670400@ionaheightsinn.com
SUMMARY:Saturday Market
DESCRIPTION:The Jillick at the Inn will play host to 8 market vendors\, who handcraft and or grow their own products. We like to encourage buying local\, as well as young and old entrepreneurship alike.\nDetails to follow.
URL:https://ionaheightsinn.com/eventing/saturday-market/2016-07-16/
LOCATION:The Iona Heights Inn\, 4115 HWY 223\, Iona\, NS\, B2C1A3\, Canada
CATEGORIES:Events at The Iona Heights Inn
ATTACH;FMTTYPE=image/jpeg:https://ionaheightsinn.com/wp-content/uploads/2016/04/Market.jpg
GEO:45.9508304;-60.8147104
X-APPLE-STRUCTURED-LOCATION;VALUE=URI;X-ADDRESS=The Iona Heights Inn 4115 HWY 223 Iona NS B2C1A3 Canada;X-APPLE-RADIUS=500;X-TITLE=4115 HWY 223:geo:-60.8147104,45.9508304
END:VEVENT
BEGIN:VEVENT
DTSTART;TZID=America/Halifax:20160709T080000
DTEND;TZID=America/Halifax:20160709T120000
DTSTAMP:20260424T090010
CREATED:20160425T161017Z
LAST-MODIFIED:20160425T161017Z
UID:10002651-1468051200-1468065600@ionaheightsinn.com
SUMMARY:Saturday Market
DESCRIPTION:The Jillick at the Inn will play host to 8 market vendors\, who handcraft and or grow their own products. We like to encourage buying local\, as well as young and old entrepreneurship alike.\nDetails to follow.
URL:https://ionaheightsinn.com/eventing/saturday-market/2016-07-09/
LOCATION:The Iona Heights Inn\, 4115 HWY 223\, Iona\, NS\, B2C1A3\, Canada
CATEGORIES:Events at The Iona Heights Inn
ATTACH;FMTTYPE=image/jpeg:https://ionaheightsinn.com/wp-content/uploads/2016/04/Market.jpg
GEO:45.9508304;-60.8147104
X-APPLE-STRUCTURED-LOCATION;VALUE=URI;X-ADDRESS=The Iona Heights Inn 4115 HWY 223 Iona NS B2C1A3 Canada;X-APPLE-RADIUS=500;X-TITLE=4115 HWY 223:geo:-60.8147104,45.9508304
END:VEVENT
BEGIN:VEVENT
DTSTART;TZID=America/Halifax:20160702T080000
DTEND;TZID=America/Halifax:20160702T120000
DTSTAMP:20260424T090010
CREATED:20160425T161017Z
LAST-MODIFIED:20160425T161017Z
UID:10002650-1467446400-1467460800@ionaheightsinn.com
SUMMARY:Saturday Market
DESCRIPTION:The Jillick at the Inn will play host to 8 market vendors\, who handcraft and or grow their own products. We like to encourage buying local\, as well as young and old entrepreneurship alike.\nDetails to follow.
URL:https://ionaheightsinn.com/eventing/saturday-market/2016-07-02/
LOCATION:The Iona Heights Inn\, 4115 HWY 223\, Iona\, NS\, B2C1A3\, Canada
CATEGORIES:Events at The Iona Heights Inn
ATTACH;FMTTYPE=image/jpeg:https://ionaheightsinn.com/wp-content/uploads/2016/04/Market.jpg
GEO:45.9508304;-60.8147104
X-APPLE-STRUCTURED-LOCATION;VALUE=URI;X-ADDRESS=The Iona Heights Inn 4115 HWY 223 Iona NS B2C1A3 Canada;X-APPLE-RADIUS=500;X-TITLE=4115 HWY 223:geo:-60.8147104,45.9508304
END:VEVENT
BEGIN:VEVENT
DTSTART;TZID=America/Halifax:20160304T213000
DTEND;TZID=America/Halifax:20160304T213000
DTSTAMP:20260424T090010
CREATED:20160125T165514Z
LAST-MODIFIED:20160301T175846Z
UID:10002762-1457127000-1457127000@ionaheightsinn.com
SUMMARY:Jordan Musycsyn
DESCRIPTION:Jordan Musycsyn (pronounced Musician) \n‘The Pitch’ \nJordan’s debut album\, The Pitch\, is highly anticipated by friends and the music community alike. A masterful storyteller\, Jordan writes songs about life and love with humour and pathos. Whether drawing on his own life experience with the humorous songs such as\, “GST\,” “Mountain Fry Lullaby\,” and “Winein’\,’’ or his heavier songs of love and loss and the human condition\, such as “Didn’t Back Then\,” and “Runaway Lane\,” and “Young Wanda\,” Jordan moves the audience from laughter to tears and back again.
URL:https://ionaheightsinn.com/eventing/jordan-musycsyn/
LOCATION:The Frolic’n Folk Pub & Grill\, 4115 HWY 223\, Iona\, Nova Scotia\, B2C 1A3\, Canada
CATEGORIES:Events at The Frolic'n Folk,Events at The Iona Heights Inn
ATTACH;FMTTYPE=image/jpeg:https://ionaheightsinn.com/wp-content/uploads/2016/01/jordan-musycsyn-press1-e1453741128203.jpg
GEO:45.9508304;-60.8147104
X-APPLE-STRUCTURED-LOCATION;VALUE=URI;X-ADDRESS=The Frolic’n Folk Pub & Grill 4115 HWY 223 Iona Nova Scotia B2C 1A3 Canada;X-APPLE-RADIUS=500;X-TITLE=4115 HWY 223:geo:-60.8147104,45.9508304
END:VEVENT
END:VCALENDAR