BEGIN:VCALENDAR
VERSION:2.0
PRODID:-//The Iona Heights Inn - ECPv6.15.20//NONSGML v1.0//EN
CALSCALE:GREGORIAN
METHOD:PUBLISH
X-WR-CALNAME:The Iona Heights Inn
X-ORIGINAL-URL:https://ionaheightsinn.com
X-WR-CALDESC:Events for The Iona Heights Inn
REFRESH-INTERVAL;VALUE=DURATION:PT1H
X-Robots-Tag:noindex
X-PUBLISHED-TTL:PT1H
BEGIN:VTIMEZONE
TZID:America/Halifax
BEGIN:DAYLIGHT
TZOFFSETFROM:-0400
TZOFFSETTO:-0300
TZNAME:ADT
DTSTART:20230312T060000
END:DAYLIGHT
BEGIN:STANDARD
TZOFFSETFROM:-0300
TZOFFSETTO:-0400
TZNAME:AST
DTSTART:20231105T050000
END:STANDARD
BEGIN:DAYLIGHT
TZOFFSETFROM:-0400
TZOFFSETTO:-0300
TZNAME:ADT
DTSTART:20240310T060000
END:DAYLIGHT
BEGIN:STANDARD
TZOFFSETFROM:-0300
TZOFFSETTO:-0400
TZNAME:AST
DTSTART:20241103T050000
END:STANDARD
BEGIN:DAYLIGHT
TZOFFSETFROM:-0400
TZOFFSETTO:-0300
TZNAME:ADT
DTSTART:20250309T060000
END:DAYLIGHT
BEGIN:STANDARD
TZOFFSETFROM:-0300
TZOFFSETTO:-0400
TZNAME:AST
DTSTART:20251102T050000
END:STANDARD
END:VTIMEZONE
BEGIN:VEVENT
DTSTART;TZID=America/Halifax:20241116T200000
DTEND;TZID=America/Halifax:20241116T220000
DTSTAMP:20260424T012450
CREATED:20240522T103607Z
LAST-MODIFIED:20241030T215755Z
UID:10003377-1731787200-1731794400@ionaheightsinn.com
SUMMARY:David Myles
DESCRIPTION:With two Junos to his credit\, David Myles has established himself as a world-class entertainer with an uncanny knack for dispersing profound truths about the human condition through dynamic songwriting. Born and based in New Brunswick\, he’s a sonic shapeshifter with more than 15 albums that run the gamut—in English and French—through classic folk traditions\, impassioned rock ‘n’ roll\, earthy\, existential blues\, cosmic jazz and funk instrumentals\, reflective Americana\, and sweltering R&B. And on stage—whether solo or accompanied by a full band—the music is tight and the vibe is loose\, with Myles able to command\, charm\, and uplift audiences in both intimate clubs and grand theatres. The throughline in his work is a deep understanding of our need for connection and an attempt to reach out and make them through musical collaboration\, live performance\, or deep-digging\, heart-to-heart conversations with fellow artists on his podcast and video series Myles From Home. \nMyles’ latest offering is what he likes to call his “sinnin’ record\,” the spirited Devil Talking—an album that finds him drawing on his many well-honed musical modes to sing about “partying\, making mistakes\, falling apart and trying to pull yourself together again.” Devil Talking builds on a special era of Myles’ career\, a time of creative blossoming during which he’s worked with a core team of musicians to construct some of the most powerful and soul-searching work in his oeuvre. It began in 2021 with the multitudinous That Tall Distance\, which won the 2022 JUNO Award for Instrumental Album of the Year\, and continued on with 2022’s It’s Only a Little Loneliness\, which explored love\, loss\, and faith. These years of close collaboration have found Myles embracing every facet of his self and artistry\, creating a lush\, sophisticated sound that defies easy categorization. \nHis relentless work ethic has earned him numerous awards and accolades; a robust artist profile stateside; and a feature and co-writing credit on “Inner Ninja\,” a cross-genre collaboration with rapper Classified and the biggest-selling rap single in the history of Canadian music. On top of Myles From Home\, his various projects including a 2018 children’s book called Santa Never Brings Me a Banjo\, and Singing For Supper\, a long-running concert series that raises money for local food banks. \nOpen in Spotify \nOpen in Spotify \nOpen in Spotify
URL:https://ionaheightsinn.com/eventing/david-myles/
LOCATION:The Frolic’n Folk Pub & Grill\, 4115 HWY 223\, Iona\, Nova Scotia\, B2C 1A3\, Canada
CATEGORIES:Events at The Frolic'n Folk,Ticketed Shows
ATTACH;FMTTYPE=image/jpeg:https://ionaheightsinn.com/wp-content/uploads/2024/05/David-Myles.jpg
ORGANIZER;CN="The Frolic'n Folk":MAILTO:frolic@ionaheightsinn.com
GEO:45.9508304;-60.8147104
X-APPLE-STRUCTURED-LOCATION;VALUE=URI;X-ADDRESS=The Frolic’n Folk Pub & Grill 4115 HWY 223 Iona Nova Scotia B2C 1A3 Canada;X-APPLE-RADIUS=500;X-TITLE=4115 HWY 223:geo:-60.8147104,45.9508304
END:VEVENT
END:VCALENDAR