BEGIN:VCALENDAR
VERSION:2.0
PRODID:-//The Iona Heights Inn - ECPv6.15.20//NONSGML v1.0//EN
CALSCALE:GREGORIAN
METHOD:PUBLISH
X-WR-CALNAME:The Iona Heights Inn
X-ORIGINAL-URL:https://ionaheightsinn.com
X-WR-CALDESC:Events for The Iona Heights Inn
REFRESH-INTERVAL;VALUE=DURATION:PT1H
X-Robots-Tag:noindex
X-PUBLISHED-TTL:PT1H
BEGIN:VTIMEZONE
TZID:America/Halifax
BEGIN:DAYLIGHT
TZOFFSETFROM:-0400
TZOFFSETTO:-0300
TZNAME:ADT
DTSTART:20250309T060000
END:DAYLIGHT
BEGIN:STANDARD
TZOFFSETFROM:-0300
TZOFFSETTO:-0400
TZNAME:AST
DTSTART:20251102T050000
END:STANDARD
BEGIN:DAYLIGHT
TZOFFSETFROM:-0400
TZOFFSETTO:-0300
TZNAME:ADT
DTSTART:20260308T060000
END:DAYLIGHT
BEGIN:STANDARD
TZOFFSETFROM:-0300
TZOFFSETTO:-0400
TZNAME:AST
DTSTART:20261101T050000
END:STANDARD
BEGIN:DAYLIGHT
TZOFFSETFROM:-0400
TZOFFSETTO:-0300
TZNAME:ADT
DTSTART:20270314T060000
END:DAYLIGHT
BEGIN:STANDARD
TZOFFSETFROM:-0300
TZOFFSETTO:-0400
TZNAME:AST
DTSTART:20271107T050000
END:STANDARD
END:VTIMEZONE
BEGIN:VEVENT
DTSTART;TZID=America/Halifax:20260805T200000
DTEND;TZID=America/Halifax:20260805T220000
DTSTAMP:20260422T185247
CREATED:20250115T012333Z
LAST-MODIFIED:20260119T180045Z
UID:10003673-1785960000-1785967200@ionaheightsinn.com
SUMMARY:Summer Concert Series
DESCRIPTION:Summer Concert Series at The Frolic and Folk Pub (Ticketed shows TBA) \nThis summer\, The Frolic and Folk Pub invites you to experience the magic of live music every Wednesday evening with its Summer Concert Series. In the months of July and August\, world-class musicians from across the globe will take the stage\, delivering unforgettable performances in an intimate\, cozy setting. Whether you’re a fan of folk\, blues\, indie and everything in between\, each week will bring a new genre\, showcasing the talent and diversity of top-tier artists. \nGrab a pint\, settle in with friends\, and let the sounds of summer wash over you at The Frolic and Folk. It’s the perfect way to spend your Wednesday night – surrounded by great music\, good company\, and a welcoming atmosphere. Don’t miss out on this unique experience – where every note is a celebration of the season.
URL:https://ionaheightsinn.com/eventing/summer-concert-series-2/2026-08-05/
LOCATION:The Frolic’n Folk Pub & Grill\, 4115 HWY 223\, Iona\, Nova Scotia\, B2C 1A3\, Canada
CATEGORIES:Events at The Frolic'n Folk,Ticketed Shows
ATTACH;FMTTYPE=image/jpeg:https://ionaheightsinn.com/wp-content/uploads/2022/02/Coming-Soon-1.jpg
ORGANIZER;CN="The Frolic'n Folk":MAILTO:frolic@ionaheightsinn.com
GEO:45.9508304;-60.8147104
X-APPLE-STRUCTURED-LOCATION;VALUE=URI;X-ADDRESS=The Frolic’n Folk Pub & Grill 4115 HWY 223 Iona Nova Scotia B2C 1A3 Canada;X-APPLE-RADIUS=500;X-TITLE=4115 HWY 223:geo:-60.8147104,45.9508304
END:VEVENT
BEGIN:VEVENT
DTSTART;TZID=America/Halifax:20260812T200000
DTEND;TZID=America/Halifax:20260812T220000
DTSTAMP:20260422T185247
CREATED:20250115T012333Z
LAST-MODIFIED:20260119T180045Z
UID:10003674-1786564800-1786572000@ionaheightsinn.com
SUMMARY:Summer Concert Series
DESCRIPTION:Summer Concert Series at The Frolic and Folk Pub (Ticketed shows TBA) \nThis summer\, The Frolic and Folk Pub invites you to experience the magic of live music every Wednesday evening with its Summer Concert Series. In the months of July and August\, world-class musicians from across the globe will take the stage\, delivering unforgettable performances in an intimate\, cozy setting. Whether you’re a fan of folk\, blues\, indie and everything in between\, each week will bring a new genre\, showcasing the talent and diversity of top-tier artists. \nGrab a pint\, settle in with friends\, and let the sounds of summer wash over you at The Frolic and Folk. It’s the perfect way to spend your Wednesday night – surrounded by great music\, good company\, and a welcoming atmosphere. Don’t miss out on this unique experience – where every note is a celebration of the season.
URL:https://ionaheightsinn.com/eventing/summer-concert-series-2/2026-08-12/
LOCATION:The Frolic’n Folk Pub & Grill\, 4115 HWY 223\, Iona\, Nova Scotia\, B2C 1A3\, Canada
CATEGORIES:Events at The Frolic'n Folk,Ticketed Shows
ATTACH;FMTTYPE=image/jpeg:https://ionaheightsinn.com/wp-content/uploads/2022/02/Coming-Soon-1.jpg
ORGANIZER;CN="The Frolic'n Folk":MAILTO:frolic@ionaheightsinn.com
GEO:45.9508304;-60.8147104
X-APPLE-STRUCTURED-LOCATION;VALUE=URI;X-ADDRESS=The Frolic’n Folk Pub & Grill 4115 HWY 223 Iona Nova Scotia B2C 1A3 Canada;X-APPLE-RADIUS=500;X-TITLE=4115 HWY 223:geo:-60.8147104,45.9508304
END:VEVENT
BEGIN:VEVENT
DTSTART;TZID=America/Halifax:20260819T200000
DTEND;TZID=America/Halifax:20260819T220000
DTSTAMP:20260422T185247
CREATED:20250115T012333Z
LAST-MODIFIED:20260119T180045Z
UID:10003675-1787169600-1787176800@ionaheightsinn.com
SUMMARY:Summer Concert Series
DESCRIPTION:Summer Concert Series at The Frolic and Folk Pub (Ticketed shows TBA) \nThis summer\, The Frolic and Folk Pub invites you to experience the magic of live music every Wednesday evening with its Summer Concert Series. In the months of July and August\, world-class musicians from across the globe will take the stage\, delivering unforgettable performances in an intimate\, cozy setting. Whether you’re a fan of folk\, blues\, indie and everything in between\, each week will bring a new genre\, showcasing the talent and diversity of top-tier artists. \nGrab a pint\, settle in with friends\, and let the sounds of summer wash over you at The Frolic and Folk. It’s the perfect way to spend your Wednesday night – surrounded by great music\, good company\, and a welcoming atmosphere. Don’t miss out on this unique experience – where every note is a celebration of the season.
URL:https://ionaheightsinn.com/eventing/summer-concert-series-2/2026-08-19/
LOCATION:The Frolic’n Folk Pub & Grill\, 4115 HWY 223\, Iona\, Nova Scotia\, B2C 1A3\, Canada
CATEGORIES:Events at The Frolic'n Folk,Ticketed Shows
ATTACH;FMTTYPE=image/jpeg:https://ionaheightsinn.com/wp-content/uploads/2022/02/Coming-Soon-1.jpg
ORGANIZER;CN="The Frolic'n Folk":MAILTO:frolic@ionaheightsinn.com
GEO:45.9508304;-60.8147104
X-APPLE-STRUCTURED-LOCATION;VALUE=URI;X-ADDRESS=The Frolic’n Folk Pub & Grill 4115 HWY 223 Iona Nova Scotia B2C 1A3 Canada;X-APPLE-RADIUS=500;X-TITLE=4115 HWY 223:geo:-60.8147104,45.9508304
END:VEVENT
BEGIN:VEVENT
DTSTART;TZID=America/Halifax:20260826T200000
DTEND;TZID=America/Halifax:20260826T220000
DTSTAMP:20260422T185247
CREATED:20260422T121903Z
LAST-MODIFIED:20260422T121903Z
UID:10003733-1787774400-1787781600@ionaheightsinn.com
SUMMARY:J.P. Cormier
DESCRIPTION:Nobody really knows who J.P. Cormier is for sure. That’s to be expected\, believe me.\nIn 1974 he was a five year old boy\, discovering an innate talent for playing the guitar\, I had a little hand in that\, guiding him through the beginning stages. He learned faster than I could teach.\nBy the mid eighties\, not out of his teens\, he was a sideman for bands and artists of many different genres in Alabama\, Tennessee\, Mississippi\, and all across the deep south. As he travelled and worked he added more and more instruments to his arsenal of capabilities. He became indispensable to the bands he worked for. \nIn the early Nineties\, he became a sideman for one of Canada’s favourite sons\, Stompin’ Tom Connors and also became a staple of the recordings at Studio H in Halifax. His work with the CBC there\, spanned musical\, production and arranging duties. \nAll this before he was 20. \nIn the mid nineties he reentered the musical scene of his beloved East Coast and the Island called Cape Breton. He exploded onto the trad music scene there as a fiddler\, performing some of the most difficult music ever produced by legends like Winston Fitzgerald and Angus Chisholm with a facility that stunned onlookers. Especially those who knew he wasn’t born there\, but born in Ontario to Cape Breton parents. Somehow\, some way\, his music was the real thing\, sounding like he had been steeped continually in a handed-down brew of family tradition from the old country. \nNothing could be further from the truth. \nHis previous gig was in Nashville playing mandolin and banjo in a grammy nominated bluegrass gospel band and performing on the Opry\, and playing television shows with the likes of Waylon Jennings. All those people also thought he was one of them\, American\, reared in the ways of bluegrass\, old time and Americana music. They knew he was from Canada\, but it just didn’t seem possible. \nThen in 1997\, something amazing happened. \nAn album released in Canada\, out of nowhere\, called Another Morning. This time it was him as a songwriter and a lead singer. \nAnd what a songwriter he turned out to be. Some of the performances on that album are literally part of the musical vocabulary today in the East Coast. Songs like the title cut\, and Kelly’s Mountain\, The Molly May (co written with his cousin Gervais) and others. It inspired\, 25 years ago\, some of the biggest names in the business today. People like Dave Gunning\, Matt Andersen\, David Myles\, Joel Plaskett\, all of which will tell you: that record changed things. \nThe Canadian industry thought so too\, and it received a juno nomination and won an ECMA. \nAnd that was just the beginning. \n36 years later after stepping on stage as professional union musician for the first time at the tender age of 13\, JP is still going\, and frighteningly\, still getting better. \n16 albums followed the success of Another Morning\, winning 12 more ECMA’s\, another Juno nomination\, a Canadian Folk Music Award and 5 Music Nova Scotia Awards. Each album was a snapshot of each thing that he can do. There are fiddle albums\, Mandolin\, Banjo\, Guitar\, tribute records\, songwriting collections\, a purely astounding spectrum of talent and musical vision. \nHis catalogue of recordings and the 150 or so records he’s produced on other artists\, resemble the tapestry he weaves in live performance. Where he used to carry 3 and 4 piece bands\, he tours alone now. \nJust him and the instruments. \nPeople still leave his shows confused\, amazed and wondering what they just saw. Did they see a storyteller? A Songwriter? Arguably one of the best guitar players in the business today? Someone who crosses the lines between different instruments like there are no lines? Who was that masked man\, anyway? \nAccolades aside\, and there are many from people like Chet Atkins\, Marty Stuart\, Waylon Jennings\, Gordon Lightfoot; JP sees himself as just a performer. He’s shy\, but has a razor sharp wit and lightning sense of humour. He can be reserved or edgy to the point no return. He speaks for soldiers\, first responders\, other artists\, the forgotten and lost. He speaks sometimes only for himself and refuses rebuttal. \nOf all the things he is\, foremost he is an entertainer. I think one of the best.  After you’ve seen what he does\, I’m certain you will too. \n  \nOpen in Spotify \nOpen in Spotify \nOpen in Spotify
URL:https://ionaheightsinn.com/eventing/j-p-cormier-8/
LOCATION:The Frolic’n Folk Pub & Grill\, 4115 HWY 223\, Iona\, Nova Scotia\, B2C 1A3\, Canada
CATEGORIES:Events at The Frolic'n Folk,Ticketed Shows
ATTACH;FMTTYPE=image/jpeg:https://ionaheightsinn.com/wp-content/uploads/2024/05/JP-Cormier.jpg
ORGANIZER;CN="The Frolic'n Folk":MAILTO:frolic@ionaheightsinn.com
GEO:45.9508304;-60.8147104
X-APPLE-STRUCTURED-LOCATION;VALUE=URI;X-ADDRESS=The Frolic’n Folk Pub & Grill 4115 HWY 223 Iona Nova Scotia B2C 1A3 Canada;X-APPLE-RADIUS=500;X-TITLE=4115 HWY 223:geo:-60.8147104,45.9508304
END:VEVENT
END:VCALENDAR