BEGIN:VCALENDAR
VERSION:2.0
PRODID:-//The Iona Heights Inn - ECPv6.15.20//NONSGML v1.0//EN
CALSCALE:GREGORIAN
METHOD:PUBLISH
X-WR-CALNAME:The Iona Heights Inn
X-ORIGINAL-URL:https://ionaheightsinn.com
X-WR-CALDESC:Events for The Iona Heights Inn
REFRESH-INTERVAL;VALUE=DURATION:PT1H
X-Robots-Tag:noindex
X-PUBLISHED-TTL:PT1H
BEGIN:VTIMEZONE
TZID:America/Halifax
BEGIN:DAYLIGHT
TZOFFSETFROM:-0400
TZOFFSETTO:-0300
TZNAME:ADT
DTSTART:20240310T060000
END:DAYLIGHT
BEGIN:STANDARD
TZOFFSETFROM:-0300
TZOFFSETTO:-0400
TZNAME:AST
DTSTART:20241103T050000
END:STANDARD
BEGIN:DAYLIGHT
TZOFFSETFROM:-0400
TZOFFSETTO:-0300
TZNAME:ADT
DTSTART:20250309T060000
END:DAYLIGHT
BEGIN:STANDARD
TZOFFSETFROM:-0300
TZOFFSETTO:-0400
TZNAME:AST
DTSTART:20251102T050000
END:STANDARD
BEGIN:DAYLIGHT
TZOFFSETFROM:-0400
TZOFFSETTO:-0300
TZNAME:ADT
DTSTART:20260308T060000
END:DAYLIGHT
BEGIN:STANDARD
TZOFFSETFROM:-0300
TZOFFSETTO:-0400
TZNAME:AST
DTSTART:20261101T050000
END:STANDARD
END:VTIMEZONE
BEGIN:VEVENT
DTSTART;TZID=America/Halifax:20250729T200000
DTEND;TZID=America/Halifax:20250729T220000
DTSTAMP:20260423T063319
CREATED:20250516T143610Z
LAST-MODIFIED:20250516T152452Z
UID:10003529-1753819200-1753826400@ionaheightsinn.com
SUMMARY:Joel Plaskett Redux
DESCRIPTION:For over three decades\, Joel Plaskett has proven himself a spinning wheel of reinvention. The Nova Scotia songwriter’s eclectic body of work reveals a restless and playful spirit\, always transforming and expanding.\n\nWhile continuing to celebrate—and be celebrated for—his regional ties and embrace of East Coast musical traditions\, Joel’s omnivorous appetite for new sonic horizons is an integral part of his work. His discography includes heavy riff epics\, like Thrush Hermit’s now-classic swansong Clayton Park (1999); low-fi and wide eyed solo records like In Need of Medical Attention (1999) and La De Da (2005); lean\, loose and lyrical rock and roll with the Emergency on Down at the Khyber (2001) and Truthfully\, Truthfully (2003); and a father-and-son nod to English folk traditions with Solidarity (2017). Then there are the endeavours that push the envelope further: the Emergency’s romantic epic concept album Ashtray Rock (2007); the months-long songwriting challenge Scrappy Happiness (2012); and Three (2009) and 44 (2020)\, Joel’s sprawling\, multi-record ventures exploring love\, loss\, and existential investigation. For his latest release\, the 4-track project One Real Reveal (2024)\, Plaskett strips his songwriting down to its raw materials\, allowing everything in—all the human touches the tape could pick up—and letting (almost) everything out.Coast-to-coast and the world ’round\, Joel has rocked crowds at clubs\, festivals and grand old theatres with longtime Emergency bandmates Dave Marsh and Chris Pennell as well as drawn audiences close with intimate acoustic shows\, both solo and with his father\, Bill. Then there are the special events that have really allowed Joel to reach the rafters\, like headlining Toronto’s Massey Hall with everyone in tow\, playing the NAC in Ottawa backed by the national orchestra\, and warming up huge stages for artists like The Tragically Hip and Paul McCartney.Joel and the Emergency have also been roundly celebrated within the music industry for their work\, racking up awards and nominations from the JUNOs\, the Polaris Music Prize\, the East Coast Music Awards\, Music Nova Scotia\, and numerous others.While Joel’s songs are beloved far beyond the community that helped forge his sound\, his creative heart is still found at home in Nova Scotia. At 45 Portland Street in Dartmouth there’s Fang Recording\, the studio where he’s made many of his albums and produced records for other great artists like Mo Kenney\, Steve Poltz\, Shotgun Jimmie and Jimmy Rankin. \nAnd through the door to the front of the building lies Taz Records\, Morley’s Coffee and Friction Books. Since 2023\, Joel has used the space to present Window Inn Wednesdays\, a monthly\, no-phones-allowed variety show that pushes back—like most of his projects—against the speed and din of modern life\, making space for real engagement between art\, artist\, and audience. \n\n\n2025 saw the release of ‘Songs From The Gang – A Celebration of Joel Plaskett’ – a deluxe covers album featuring the music of Joel Plaskett performed by Arkells\, Sloan\, Jill Barber\, The Sheepdogs\, Julian Taylor\, Jenn Grant\, Bahamas\, City and Colour\, Rose Cousins\, Frank Turner\, and many more.\n\n\nOpen in Spotify \nOpen in Spotify \nOpen in Spotify \nOpen in Spotify \nOpen in Spotify
URL:https://ionaheightsinn.com/eventing/joel-plaskett-redux-2/
LOCATION:The Frolic’n Folk Pub & Grill\, 4115 HWY 223\, Iona\, Nova Scotia\, B2C 1A3\, Canada
CATEGORIES:Events at The Frolic'n Folk,Ticketed Shows
ATTACH;FMTTYPE=image/jpeg:https://ionaheightsinn.com/wp-content/uploads/2025/05/Joel-Plaskett-e1747409087884.jpg
ORGANIZER;CN="The Frolic'n Folk":MAILTO:frolic@ionaheightsinn.com
GEO:45.9508304;-60.8147104
X-APPLE-STRUCTURED-LOCATION;VALUE=URI;X-ADDRESS=The Frolic’n Folk Pub & Grill 4115 HWY 223 Iona Nova Scotia B2C 1A3 Canada;X-APPLE-RADIUS=500;X-TITLE=4115 HWY 223:geo:-60.8147104,45.9508304
END:VEVENT
BEGIN:VEVENT
DTSTART;TZID=America/Halifax:20250730T200000
DTEND;TZID=America/Halifax:20250730T220000
DTSTAMP:20260423T063319
CREATED:20250516T142842Z
LAST-MODIFIED:20250517T130532Z
UID:10003528-1753905600-1753912800@ionaheightsinn.com
SUMMARY:Joel Plaskett
DESCRIPTION:For over three decades\, Joel Plaskett has proven himself a spinning wheel of reinvention. The Nova Scotia songwriter’s eclectic body of work reveals a restless and playful spirit\, always transforming and expanding.\n\nWhile continuing to celebrate—and be celebrated for—his regional ties and embrace of East Coast musical traditions\, Joel’s omnivorous appetite for new sonic horizons is an integral part of his work. His discography includes heavy riff epics\, like Thrush Hermit’s now-classic swansong Clayton Park (1999); low-fi and wide eyed solo records like In Need of Medical Attention (1999) and La De Da (2005); lean\, loose and lyrical rock and roll with the Emergency on Down at the Khyber (2001) and Truthfully\, Truthfully (2003); and a father-and-son nod to English folk traditions with Solidarity (2017). Then there are the endeavours that push the envelope further: the Emergency’s romantic epic concept album Ashtray Rock (2007); the months-long songwriting challenge Scrappy Happiness (2012); and Three (2009) and 44 (2020)\, Joel’s sprawling\, multi-record ventures exploring love\, loss\, and existential investigation. For his latest release\, the 4-track project One Real Reveal (2024)\, Plaskett strips his songwriting down to its raw materials\, allowing everything in—all the human touches the tape could pick up—and letting (almost) everything out.Coast-to-coast and the world ’round\, Joel has rocked crowds at clubs\, festivals and grand old theatres with longtime Emergency bandmates Dave Marsh and Chris Pennell as well as drawn audiences close with intimate acoustic shows\, both solo and with his father\, Bill. Then there are the special events that have really allowed Joel to reach the rafters\, like headlining Toronto’s Massey Hall with everyone in tow\, playing the NAC in Ottawa backed by the national orchestra\, and warming up huge stages for artists like The Tragically Hip and Paul McCartney.Joel and the Emergency have also been roundly celebrated within the music industry for their work\, racking up awards and nominations from the JUNOs\, the Polaris Music Prize\, the East Coast Music Awards\, Music Nova Scotia\, and numerous others.While Joel’s songs are beloved far beyond the community that helped forge his sound\, his creative heart is still found at home in Nova Scotia. At 45 Portland Street in Dartmouth there’s Fang Recording\, the studio where he’s made many of his albums and produced records for other great artists like Mo Kenney\, Steve Poltz\, Shotgun Jimmie and Jimmy Rankin. \nAnd through the door to the front of the building lies Taz Records\, Morley’s Coffee and Friction Books. Since 2023\, Joel has used the space to present Window Inn Wednesdays\, a monthly\, no-phones-allowed variety show that pushes back—like most of his projects—against the speed and din of modern life\, making space for real engagement between art\, artist\, and audience. \n\n\n2025 saw the release of ‘Songs From The Gang – A Celebration of Joel Plaskett’ – a deluxe covers album featuring the music of Joel Plaskett performed by Arkells\, Sloan\, Jill Barber\, The Sheepdogs\, Julian Taylor\, Jenn Grant\, Bahamas\, City and Colour\, Rose Cousins\, Frank Turner\, and many more.\n\n\nOpen in Spotify \nOpen in Spotify \nOpen in Spotify \nOpen in Spotify \nOpen in Spotify
URL:https://ionaheightsinn.com/eventing/joel-plaskett-5/
LOCATION:The Frolic’n Folk Pub & Grill\, 4115 HWY 223\, Iona\, Nova Scotia\, B2C 1A3\, Canada
CATEGORIES:Events at The Frolic'n Folk,Ticketed Shows
ATTACH;FMTTYPE=image/jpeg:https://ionaheightsinn.com/wp-content/uploads/2025/05/Joel-Plaskett-e1747409087884.jpg
ORGANIZER;CN="The Frolic'n Folk":MAILTO:frolic@ionaheightsinn.com
GEO:45.9508304;-60.8147104
X-APPLE-STRUCTURED-LOCATION;VALUE=URI;X-ADDRESS=The Frolic’n Folk Pub & Grill 4115 HWY 223 Iona Nova Scotia B2C 1A3 Canada;X-APPLE-RADIUS=500;X-TITLE=4115 HWY 223:geo:-60.8147104,45.9508304
END:VEVENT
END:VCALENDAR