BEGIN:VCALENDAR
VERSION:2.0
PRODID:-//The Iona Heights Inn - ECPv6.15.20//NONSGML v1.0//EN
CALSCALE:GREGORIAN
METHOD:PUBLISH
X-WR-CALNAME:The Iona Heights Inn
X-ORIGINAL-URL:https://ionaheightsinn.com
X-WR-CALDESC:Events for The Iona Heights Inn
REFRESH-INTERVAL;VALUE=DURATION:PT1H
X-Robots-Tag:noindex
X-PUBLISHED-TTL:PT1H
BEGIN:VTIMEZONE
TZID:America/Halifax
BEGIN:DAYLIGHT
TZOFFSETFROM:-0400
TZOFFSETTO:-0300
TZNAME:ADT
DTSTART:20240310T060000
END:DAYLIGHT
BEGIN:STANDARD
TZOFFSETFROM:-0300
TZOFFSETTO:-0400
TZNAME:AST
DTSTART:20241103T050000
END:STANDARD
BEGIN:DAYLIGHT
TZOFFSETFROM:-0400
TZOFFSETTO:-0300
TZNAME:ADT
DTSTART:20250309T060000
END:DAYLIGHT
BEGIN:STANDARD
TZOFFSETFROM:-0300
TZOFFSETTO:-0400
TZNAME:AST
DTSTART:20251102T050000
END:STANDARD
BEGIN:DAYLIGHT
TZOFFSETFROM:-0400
TZOFFSETTO:-0300
TZNAME:ADT
DTSTART:20260308T060000
END:DAYLIGHT
BEGIN:STANDARD
TZOFFSETFROM:-0300
TZOFFSETTO:-0400
TZNAME:AST
DTSTART:20261101T050000
END:STANDARD
END:VTIMEZONE
BEGIN:VEVENT
DTSTART;TZID=America/Halifax:20250903T200000
DTEND;TZID=America/Halifax:20250903T220000
DTSTAMP:20260423T045802
CREATED:20250508T164027Z
LAST-MODIFIED:20250508T164027Z
UID:10003525-1756929600-1756936800@ionaheightsinn.com
SUMMARY:Lennie Gallant
DESCRIPTION:East Coast songwriter Lennie Gallant has released fifteen albums of original songs which have won him a host of awards and nominations from the JUNOs\, Les Prix Éloizes\, and The ECMAs. His songs have been described as “true slices of life delivered with a poet’s flair and a rugged emotional sensibility”. His multimedia production\, Searching for Abegweit\, ran for 190 shows in Eastern Canada. His song Peter’s Dream\, from that show\, was inducted into the Canadian Songwriters Hall of Fame. \nLennie is an international artist who has performed all over North America and Europe. His songs have been covered by many artists and he has shared the stage with several orchestras and with performers such as Lucinda Williams\, Patti Griffin and Roger Hodgson. He has performed with the late Jimmy Buffett and the Coral Reefers and with David Foster and his band. Lennie struck up a friendship with Jimmy\, has two co-writes on his upcoming posthumous album\, and was invited to sing on both songs. One of Lennie’s albums also went up to the international space station and circled the planet 248 times. His album\, Time Travel\, was voted a top ten Album of the Year by a panel of Canadian music industry personnel\, and his recent all original Christmas album has received rave reviews. \nHe and partner Patricia Richard also record and perform as the popular Francophone duo\, Sirène et Matelot. Their songs have achieved strong radio play in francophone circuits and have consistently remained on the charts! Lennie Gallant is a member of The Order of Canada and has been recognized for his humanitarian efforts. \nOpen in Spotify \nOpen in Spotify \nOpen in Spotify \n 
URL:https://ionaheightsinn.com/eventing/lennie-gallant-3/
LOCATION:The Frolic’n Folk Pub & Grill\, 4115 HWY 223\, Iona\, Nova Scotia\, B2C 1A3\, Canada
CATEGORIES:Events at The Frolic'n Folk,Ticketed Shows
ATTACH;FMTTYPE=image/jpeg:https://ionaheightsinn.com/wp-content/uploads/2024/05/Lennie-Gallant.jpg
ORGANIZER;CN="The Frolic'n Folk":MAILTO:frolic@ionaheightsinn.com
GEO:45.9508304;-60.8147104
X-APPLE-STRUCTURED-LOCATION;VALUE=URI;X-ADDRESS=The Frolic’n Folk Pub & Grill 4115 HWY 223 Iona Nova Scotia B2C 1A3 Canada;X-APPLE-RADIUS=500;X-TITLE=4115 HWY 223:geo:-60.8147104,45.9508304
END:VEVENT
END:VCALENDAR