BEGIN:VCALENDAR
VERSION:2.0
PRODID:-//The Iona Heights Inn - ECPv6.15.20//NONSGML v1.0//EN
CALSCALE:GREGORIAN
METHOD:PUBLISH
X-ORIGINAL-URL:https://ionaheightsinn.com
X-WR-CALDESC:Events for The Iona Heights Inn
REFRESH-INTERVAL;VALUE=DURATION:PT1H
X-Robots-Tag:noindex
X-PUBLISHED-TTL:PT1H
BEGIN:VTIMEZONE
TZID:America/Halifax
BEGIN:DAYLIGHT
TZOFFSETFROM:-0400
TZOFFSETTO:-0300
TZNAME:ADT
DTSTART:20240310T060000
END:DAYLIGHT
BEGIN:STANDARD
TZOFFSETFROM:-0300
TZOFFSETTO:-0400
TZNAME:AST
DTSTART:20241103T050000
END:STANDARD
BEGIN:DAYLIGHT
TZOFFSETFROM:-0400
TZOFFSETTO:-0300
TZNAME:ADT
DTSTART:20250309T060000
END:DAYLIGHT
BEGIN:STANDARD
TZOFFSETFROM:-0300
TZOFFSETTO:-0400
TZNAME:AST
DTSTART:20251102T050000
END:STANDARD
BEGIN:DAYLIGHT
TZOFFSETFROM:-0400
TZOFFSETTO:-0300
TZNAME:ADT
DTSTART:20260308T060000
END:DAYLIGHT
BEGIN:STANDARD
TZOFFSETFROM:-0300
TZOFFSETTO:-0400
TZNAME:AST
DTSTART:20261101T050000
END:STANDARD
END:VTIMEZONE
BEGIN:VEVENT
DTSTART;TZID=America/Halifax:20250919T200000
DTEND;TZID=America/Halifax:20250919T220000
DTSTAMP:20260423T063632
CREATED:20250717T151040Z
LAST-MODIFIED:20250717T151331Z
UID:10003545-1758312000-1758319200@ionaheightsinn.com
SUMMARY:Lookout Tower with special guest Mike McKenna Jr
DESCRIPTION:Winter Swamp Music! Lookout Tower hails from memories of days gone by and of moments yet to come. Storytellers inspired by the cultural landscape of Cape Breton and woven from the yarn of hard times – their songs are the culmination of musical paths not commonly crossed. Defying genres with a no holds barred approach\, vintage soul meets modern Americana\, where old-time harmonies and bluesy influences are dashed with Acadian roots\, creating their original Winter Swamp Sound – a sonic palette of soulful ballads\, rousing blues rock and hypnotic funk. Their albums have been nominated for multiple ECMAs. \n.\n\nSinger-songwriter Mike McKenna Jr. is an award-winning artist from Cape Breton Island. With a raspy and soulful voice\, his warm indie folk and Americana tones decorate powerful original and traditional songs laden with captivating storytelling. Born in Glace Bay and raised along the Mira River\, Mike’s songwriting aesthetic points heavily to his roots growing up in small-town industrial Cape Breton. Over the course of 4 studio albums\, including his latest record ‘Smokey Mountain High’\, he brings us the nostalgia of his home through profoundly-written narrative\, poetry\, protest\, and true stories about life and death in Nova Scotia’s coastal\, working-class communities. \n.\n\n\n\n\nOpen in Spotify \n\nOpen in Spotify \n\nOpen in Spotify \n\nOpen in Spotify
URL:https://ionaheightsinn.com/eventing/lookout-tower-with-special-guest-mike-mckenna-jr/
LOCATION:The Frolic’n Folk Pub & Grill\, 4115 HWY 223\, Iona\, Nova Scotia\, B2C 1A3\, Canada
CATEGORIES:Events at The Frolic'n Folk,Ticketed Shows
ATTACH;FMTTYPE=image/jpeg:https://ionaheightsinn.com/wp-content/uploads/2025/07/Lookout-Tower.jpg
ORGANIZER;CN="The Frolic'n Folk":MAILTO:frolic@ionaheightsinn.com
GEO:45.9508304;-60.8147104
X-APPLE-STRUCTURED-LOCATION;VALUE=URI;X-ADDRESS=The Frolic’n Folk Pub & Grill 4115 HWY 223 Iona Nova Scotia B2C 1A3 Canada;X-APPLE-RADIUS=500;X-TITLE=4115 HWY 223:geo:-60.8147104,45.9508304
END:VEVENT
END:VCALENDAR