BEGIN:VCALENDAR
VERSION:2.0
PRODID:-//The Iona Heights Inn - ECPv6.15.20//NONSGML v1.0//EN
CALSCALE:GREGORIAN
METHOD:PUBLISH
X-WR-CALNAME:The Iona Heights Inn
X-ORIGINAL-URL:https://ionaheightsinn.com
X-WR-CALDESC:Events for The Iona Heights Inn
REFRESH-INTERVAL;VALUE=DURATION:PT1H
X-Robots-Tag:noindex
X-PUBLISHED-TTL:PT1H
BEGIN:VTIMEZONE
TZID:America/Halifax
BEGIN:DAYLIGHT
TZOFFSETFROM:-0400
TZOFFSETTO:-0300
TZNAME:ADT
DTSTART:20240310T060000
END:DAYLIGHT
BEGIN:STANDARD
TZOFFSETFROM:-0300
TZOFFSETTO:-0400
TZNAME:AST
DTSTART:20241103T050000
END:STANDARD
BEGIN:DAYLIGHT
TZOFFSETFROM:-0400
TZOFFSETTO:-0300
TZNAME:ADT
DTSTART:20250309T060000
END:DAYLIGHT
BEGIN:STANDARD
TZOFFSETFROM:-0300
TZOFFSETTO:-0400
TZNAME:AST
DTSTART:20251102T050000
END:STANDARD
BEGIN:DAYLIGHT
TZOFFSETFROM:-0400
TZOFFSETTO:-0300
TZNAME:ADT
DTSTART:20260308T060000
END:DAYLIGHT
BEGIN:STANDARD
TZOFFSETFROM:-0300
TZOFFSETTO:-0400
TZNAME:AST
DTSTART:20261101T050000
END:STANDARD
END:VTIMEZONE
BEGIN:VEVENT
DTSTART;TZID=America/Halifax:20251205T200000
DTEND;TZID=America/Halifax:20251205T220000
DTSTAMP:20260423T045719
CREATED:20251119T005520Z
LAST-MODIFIED:20251119T005520Z
UID:10003550-1764964800-1764972000@ionaheightsinn.com
SUMMARY:Dave Sampson Redux
DESCRIPTION:Dave Sampson writes heart-on-your-sleeve folk/pop songs\, delivered with a captivating and\nauthentic voice that could blow down a brick house. His knack for crafting simple ear-worms\nand his high-energy shows have been winning him fans across Canada. He has collaborated\nand shared the stage with some of Canada’s top exports such as Classified\, Alan Doyle\,\nDonovan Woods\, and more. His 2019 EP All Types of Ways\, produced and recorded by\nGrammy award-winning songwriter Gordie Sampson in Nashville\, TN\, earned him two 2020\nECMAs for Country Recording and Rising Star Recording of the Year\, as well as a\nnomination for Songwriter of the Year. The album features several singles which received\nhundreds of thousands of streams on DSPs\, were added to many editorially-curated\nplaylists\, and were placed in several national television series and advertising campaigns.\nIn 2014\, Dave released his anticipated debut album “No Pressure\, No Diamonds” with \nproducers/collaborators Carleton Stone\, Gordie Sampson and Dylan Guthro (Port Cities). \nWith the release of this album\, “ No Pressure No Diamonds” was nominated for Music Nova \nScotia’s Pop Album of the Year\, reached #1 on the East Coast Countdown charts twice and \nreceived national airplay throughout Canada. Dave was also invited to Germany in 2014 with \nsongwriters Carleton Stone and Breagh Mackinnon to participate in a songwriting retreat \nfollowed by a tour. \nFast forward to 2015\, his song “No Pressure\, No Diamonds” was interpolated by Canadian \nHip Hop icon Classified and released as his first single (“No Pressure”) on the billboard \ncharts via Atlantic Records. “No Pressure’ features hip-hop legend Snoop Dogg\, and was \nawarded Gold Record status by Music Canada. Dave also received a songwriting nod on \nClassifieds “Oh No” track on his album “Grateful”\, and Neon Dreams’ singles “Find a Way” & \n“Love Experts” which made it to the billboard EDM top 40. \nDave has also been hand-picked as one of Nova Scotia’s most promising young songwriters \nto take part in the prestigious\, invitation-only Gordie Sampson Song camp for the past 10 \nyears. Through this opportunity\, he has been fortunate enough to collaborate with some of \nCanada’s most sought after writers: Gordie Sampson\, Caitlyn Smith (Nashville)\, Sam Ellis \n(Nashville)\, Thomas AWG Salter (TAWGS)\, and many more. \n  \n“Heartfelt\, energized and emotional\, Dave Sampson has obvious natural talent as a Maritime singer-songwriter. \nRecommended for fans of Joel Plaskett\, David Myles and Hawksley Workman. ” – Grant Lawrence (CBC Music) \n  \n“Not only is Dave Sampson a fantastic singer/songwriter\, but his live performance during both shows (as a band \nand as a solo artist) was second to none. The level of comfort that he and his band have on stage oozes with \nevery movement made.” – HalifaxBloggers.ca @ EAST COAST MUSIC WEEK 2016 \n  \n“Dave Sampson writes a great\, heartfelt pop song and has a warm\, inviting\, laid-back style that will no doubt \nappeal to a wide cross-section of people. It’s not hard to imagine his music lighting up the radio and drawing \ncrowds” – The Scope\, St. John’s\, NL \n  \nOpen in Spotify  \nOpen in Spotify
URL:https://ionaheightsinn.com/eventing/dave-sampson-redux-3/
LOCATION:The Frolic’n Folk Pub & Grill\, 4115 HWY 223\, Iona\, Nova Scotia\, B2C 1A3\, Canada
CATEGORIES:Events at The Frolic'n Folk,Ticketed Shows
ATTACH;FMTTYPE=image/jpeg:https://ionaheightsinn.com/wp-content/uploads/2025/11/Dave-Sampson.jpg
ORGANIZER;CN="The Frolic'n Folk":MAILTO:frolic@ionaheightsinn.com
GEO:45.9508304;-60.8147104
X-APPLE-STRUCTURED-LOCATION;VALUE=URI;X-ADDRESS=The Frolic’n Folk Pub & Grill 4115 HWY 223 Iona Nova Scotia B2C 1A3 Canada;X-APPLE-RADIUS=500;X-TITLE=4115 HWY 223:geo:-60.8147104,45.9508304
END:VEVENT
BEGIN:VEVENT
DTSTART;TZID=America/Halifax:20251206T200000
DTEND;TZID=America/Halifax:20251206T220000
DTSTAMP:20260423T045719
CREATED:20251103T163644Z
LAST-MODIFIED:20251201T173513Z
UID:10003549-1765051200-1765058400@ionaheightsinn.com
SUMMARY:Dave Sampson
DESCRIPTION:Dave Sampson writes heart-on-your-sleeve folk/pop songs\, delivered with a captivating and\nauthentic voice that could blow down a brick house. His knack for crafting simple ear-worms\nand his high-energy shows have been winning him fans across Canada. He has collaborated\nand shared the stage with some of Canada’s top exports such as Classified\, Alan Doyle\,\nDonovan Woods\, and more. His 2019 EP All Types of Ways\, produced and recorded by\nGrammy award-winning songwriter Gordie Sampson in Nashville\, TN\, earned him two 2020\nECMAs for Country Recording and Rising Star Recording of the Year\, as well as a\nnomination for Songwriter of the Year. The album features several singles which received\nhundreds of thousands of streams on DSPs\, were added to many editorially-curated\nplaylists\, and were placed in several national television series and advertising campaigns.\nIn 2014\, Dave released his anticipated debut album “No Pressure\, No Diamonds” with \nproducers/collaborators Carleton Stone\, Gordie Sampson and Dylan Guthro (Port Cities). \nWith the release of this album\, “ No Pressure No Diamonds” was nominated for Music Nova \nScotia’s Pop Album of the Year\, reached #1 on the East Coast Countdown charts twice and \nreceived national airplay throughout Canada. Dave was also invited to Germany in 2014 with \nsongwriters Carleton Stone and Breagh Mackinnon to participate in a songwriting retreat \nfollowed by a tour. \nFast forward to 2015\, his song “No Pressure\, No Diamonds” was interpolated by Canadian \nHip Hop icon Classified and released as his first single (“No Pressure”) on the billboard \ncharts via Atlantic Records. “No Pressure’ features hip-hop legend Snoop Dogg\, and was \nawarded Gold Record status by Music Canada. Dave also received a songwriting nod on \nClassifieds “Oh No” track on his album “Grateful”\, and Neon Dreams’ singles “Find a Way” & \n“Love Experts” which made it to the billboard EDM top 40. \nDave has also been hand-picked as one of Nova Scotia’s most promising young songwriters \nto take part in the prestigious\, invitation-only Gordie Sampson Song camp for the past 10 \nyears. Through this opportunity\, he has been fortunate enough to collaborate with some of \nCanada’s most sought after writers: Gordie Sampson\, Caitlyn Smith (Nashville)\, Sam Ellis \n(Nashville)\, Thomas AWG Salter (TAWGS)\, and many more. \n  \n“Heartfelt\, energized and emotional\, Dave Sampson has obvious natural talent as a Maritime singer-songwriter. \nRecommended for fans of Joel Plaskett\, David Myles and Hawksley Workman. ” – Grant Lawrence (CBC Music) \n  \n“Not only is Dave Sampson a fantastic singer/songwriter\, but his live performance during both shows (as a band \nand as a solo artist) was second to none. The level of comfort that he and his band have on stage oozes with \nevery movement made.” – HalifaxBloggers.ca @ EAST COAST MUSIC WEEK 2016 \n  \n“Dave Sampson writes a great\, heartfelt pop song and has a warm\, inviting\, laid-back style that will no doubt \nappeal to a wide cross-section of people. It’s not hard to imagine his music lighting up the radio and drawing \ncrowds” – The Scope\, St. John’s\, NL \n  \nOpen in Spotify  \nOpen in Spotify
URL:https://ionaheightsinn.com/eventing/dave-sampson-6/
LOCATION:The Frolic’n Folk Pub & Grill\, 4115 HWY 223\, Iona\, Nova Scotia\, B2C 1A3\, Canada
CATEGORIES:Events at The Frolic'n Folk,Ticketed Shows
ATTACH;FMTTYPE=image/jpeg:https://ionaheightsinn.com/wp-content/uploads/2025/02/Dave-Sampson.jpg
ORGANIZER;CN="The Frolic'n Folk":MAILTO:frolic@ionaheightsinn.com
GEO:45.9508304;-60.8147104
X-APPLE-STRUCTURED-LOCATION;VALUE=URI;X-ADDRESS=The Frolic’n Folk Pub & Grill 4115 HWY 223 Iona Nova Scotia B2C 1A3 Canada;X-APPLE-RADIUS=500;X-TITLE=4115 HWY 223:geo:-60.8147104,45.9508304
END:VEVENT
END:VCALENDAR