BEGIN:VCALENDAR
VERSION:2.0
PRODID:-//The Iona Heights Inn - ECPv6.15.20//NONSGML v1.0//EN
CALSCALE:GREGORIAN
METHOD:PUBLISH
X-ORIGINAL-URL:https://ionaheightsinn.com
X-WR-CALDESC:Events for The Iona Heights Inn
REFRESH-INTERVAL;VALUE=DURATION:PT1H
X-Robots-Tag:noindex
X-PUBLISHED-TTL:PT1H
BEGIN:VTIMEZONE
TZID:America/Halifax
BEGIN:DAYLIGHT
TZOFFSETFROM:-0400
TZOFFSETTO:-0300
TZNAME:ADT
DTSTART:20250309T060000
END:DAYLIGHT
BEGIN:STANDARD
TZOFFSETFROM:-0300
TZOFFSETTO:-0400
TZNAME:AST
DTSTART:20251102T050000
END:STANDARD
BEGIN:DAYLIGHT
TZOFFSETFROM:-0400
TZOFFSETTO:-0300
TZNAME:ADT
DTSTART:20260308T060000
END:DAYLIGHT
BEGIN:STANDARD
TZOFFSETFROM:-0300
TZOFFSETTO:-0400
TZNAME:AST
DTSTART:20261101T050000
END:STANDARD
BEGIN:DAYLIGHT
TZOFFSETFROM:-0400
TZOFFSETTO:-0300
TZNAME:ADT
DTSTART:20270314T060000
END:DAYLIGHT
BEGIN:STANDARD
TZOFFSETFROM:-0300
TZOFFSETTO:-0400
TZNAME:AST
DTSTART:20271107T050000
END:STANDARD
END:VTIMEZONE
BEGIN:VEVENT
DTSTART;TZID=America/Halifax:20260701T200000
DTEND;TZID=America/Halifax:20260701T220000
DTSTAMP:20260422T190117
CREATED:20250115T012333Z
LAST-MODIFIED:20260119T180045Z
UID:10003668-1782936000-1782943200@ionaheightsinn.com
SUMMARY:Summer Concert Series
DESCRIPTION:Summer Concert Series at The Frolic and Folk Pub (Ticketed shows TBA) \nThis summer\, The Frolic and Folk Pub invites you to experience the magic of live music every Wednesday evening with its Summer Concert Series. In the months of July and August\, world-class musicians from across the globe will take the stage\, delivering unforgettable performances in an intimate\, cozy setting. Whether you’re a fan of folk\, blues\, indie and everything in between\, each week will bring a new genre\, showcasing the talent and diversity of top-tier artists. \nGrab a pint\, settle in with friends\, and let the sounds of summer wash over you at The Frolic and Folk. It’s the perfect way to spend your Wednesday night – surrounded by great music\, good company\, and a welcoming atmosphere. Don’t miss out on this unique experience – where every note is a celebration of the season.
URL:https://ionaheightsinn.com/eventing/summer-concert-series-2/2026-07-01/
LOCATION:The Frolic’n Folk Pub & Grill\, 4115 HWY 223\, Iona\, Nova Scotia\, B2C 1A3\, Canada
CATEGORIES:Events at The Frolic'n Folk,Ticketed Shows
ATTACH;FMTTYPE=image/jpeg:https://ionaheightsinn.com/wp-content/uploads/2022/02/Coming-Soon-1.jpg
ORGANIZER;CN="The Frolic'n Folk":MAILTO:frolic@ionaheightsinn.com
GEO:45.9508304;-60.8147104
X-APPLE-STRUCTURED-LOCATION;VALUE=URI;X-ADDRESS=The Frolic’n Folk Pub & Grill 4115 HWY 223 Iona Nova Scotia B2C 1A3 Canada;X-APPLE-RADIUS=500;X-TITLE=4115 HWY 223:geo:-60.8147104,45.9508304
END:VEVENT
END:VCALENDAR