BEGIN:VCALENDAR
VERSION:2.0
PRODID:-//The Iona Heights Inn - ECPv6.15.20//NONSGML v1.0//EN
CALSCALE:GREGORIAN
METHOD:PUBLISH
X-WR-CALNAME:The Iona Heights Inn
X-ORIGINAL-URL:https://ionaheightsinn.com
X-WR-CALDESC:Events for The Iona Heights Inn
REFRESH-INTERVAL;VALUE=DURATION:PT1H
X-Robots-Tag:noindex
X-PUBLISHED-TTL:PT1H
BEGIN:VTIMEZONE
TZID:America/Halifax
BEGIN:DAYLIGHT
TZOFFSETFROM:-0400
TZOFFSETTO:-0300
TZNAME:ADT
DTSTART:20260308T060000
END:DAYLIGHT
BEGIN:STANDARD
TZOFFSETFROM:-0300
TZOFFSETTO:-0400
TZNAME:AST
DTSTART:20261101T050000
END:STANDARD
BEGIN:DAYLIGHT
TZOFFSETFROM:-0400
TZOFFSETTO:-0300
TZNAME:ADT
DTSTART:20270314T060000
END:DAYLIGHT
BEGIN:STANDARD
TZOFFSETFROM:-0300
TZOFFSETTO:-0400
TZNAME:AST
DTSTART:20271107T050000
END:STANDARD
BEGIN:DAYLIGHT
TZOFFSETFROM:-0400
TZOFFSETTO:-0300
TZNAME:ADT
DTSTART:20280312T060000
END:DAYLIGHT
BEGIN:STANDARD
TZOFFSETFROM:-0300
TZOFFSETTO:-0400
TZNAME:AST
DTSTART:20281105T050000
END:STANDARD
END:VTIMEZONE
BEGIN:VEVENT
DTSTART;TZID=America/Halifax:20270801T163000
DTEND;TZID=America/Halifax:20270801T193000
DTSTAMP:20260423T011956
CREATED:20260119T175227Z
LAST-MODIFIED:20260331T145419Z
UID:10003612-1817137800-1817148600@ionaheightsinn.com
SUMMARY:Cape Breton Celtic Trad Sessions
DESCRIPTION:Come and enjoy a casual gathering of musicians who have come together to play traditional Cape Breton celtic music. \nAnyone is welcome to join in\, or just sit back and enjoy the tunes. \nSundays at The Frolic 430 – 730pm \nFull kitchen and bar service. \nMinors allowed till 10pm \n 
URL:https://ionaheightsinn.com/eventing/cape-breton-celtic-trad-sessions-25-2/2027-08-01/
LOCATION:The Frolic’n Folk Pub & Grill\, 4115 HWY 223\, Iona\, Nova Scotia\, B2C 1A3\, Canada
CATEGORIES:Events at The Frolic'n Folk
ATTACH;FMTTYPE=image/jpeg:https://ionaheightsinn.com/wp-content/uploads/2022/03/Trad-Sessions.jpg
ORGANIZER;CN="The Frolic'n Folk":MAILTO:frolic@ionaheightsinn.com
GEO:45.9508304;-60.8147104
X-APPLE-STRUCTURED-LOCATION;VALUE=URI;X-ADDRESS=The Frolic’n Folk Pub & Grill 4115 HWY 223 Iona Nova Scotia B2C 1A3 Canada;X-APPLE-RADIUS=500;X-TITLE=4115 HWY 223:geo:-60.8147104,45.9508304
END:VEVENT
BEGIN:VEVENT
DTSTART;TZID=America/Halifax:20270808T163000
DTEND;TZID=America/Halifax:20270808T193000
DTSTAMP:20260423T011956
CREATED:20260119T175227Z
LAST-MODIFIED:20260331T145419Z
UID:10003613-1817742600-1817753400@ionaheightsinn.com
SUMMARY:Cape Breton Celtic Trad Sessions
DESCRIPTION:Come and enjoy a casual gathering of musicians who have come together to play traditional Cape Breton celtic music. \nAnyone is welcome to join in\, or just sit back and enjoy the tunes. \nSundays at The Frolic 430 – 730pm \nFull kitchen and bar service. \nMinors allowed till 10pm \n 
URL:https://ionaheightsinn.com/eventing/cape-breton-celtic-trad-sessions-25-2/2027-08-08/
LOCATION:The Frolic’n Folk Pub & Grill\, 4115 HWY 223\, Iona\, Nova Scotia\, B2C 1A3\, Canada
CATEGORIES:Events at The Frolic'n Folk
ATTACH;FMTTYPE=image/jpeg:https://ionaheightsinn.com/wp-content/uploads/2022/03/Trad-Sessions.jpg
ORGANIZER;CN="The Frolic'n Folk":MAILTO:frolic@ionaheightsinn.com
GEO:45.9508304;-60.8147104
X-APPLE-STRUCTURED-LOCATION;VALUE=URI;X-ADDRESS=The Frolic’n Folk Pub & Grill 4115 HWY 223 Iona Nova Scotia B2C 1A3 Canada;X-APPLE-RADIUS=500;X-TITLE=4115 HWY 223:geo:-60.8147104,45.9508304
END:VEVENT
BEGIN:VEVENT
DTSTART;TZID=America/Halifax:20270815T163000
DTEND;TZID=America/Halifax:20270815T193000
DTSTAMP:20260423T011956
CREATED:20260119T175227Z
LAST-MODIFIED:20260331T145419Z
UID:10003614-1818347400-1818358200@ionaheightsinn.com
SUMMARY:Cape Breton Celtic Trad Sessions
DESCRIPTION:Come and enjoy a casual gathering of musicians who have come together to play traditional Cape Breton celtic music. \nAnyone is welcome to join in\, or just sit back and enjoy the tunes. \nSundays at The Frolic 430 – 730pm \nFull kitchen and bar service. \nMinors allowed till 10pm \n 
URL:https://ionaheightsinn.com/eventing/cape-breton-celtic-trad-sessions-25-2/2027-08-15/
LOCATION:The Frolic’n Folk Pub & Grill\, 4115 HWY 223\, Iona\, Nova Scotia\, B2C 1A3\, Canada
CATEGORIES:Events at The Frolic'n Folk
ATTACH;FMTTYPE=image/jpeg:https://ionaheightsinn.com/wp-content/uploads/2022/03/Trad-Sessions.jpg
ORGANIZER;CN="The Frolic'n Folk":MAILTO:frolic@ionaheightsinn.com
GEO:45.9508304;-60.8147104
X-APPLE-STRUCTURED-LOCATION;VALUE=URI;X-ADDRESS=The Frolic’n Folk Pub & Grill 4115 HWY 223 Iona Nova Scotia B2C 1A3 Canada;X-APPLE-RADIUS=500;X-TITLE=4115 HWY 223:geo:-60.8147104,45.9508304
END:VEVENT
BEGIN:VEVENT
DTSTART;TZID=America/Halifax:20270822T163000
DTEND;TZID=America/Halifax:20270822T193000
DTSTAMP:20260423T011956
CREATED:20260119T175227Z
LAST-MODIFIED:20260331T145419Z
UID:10003615-1818952200-1818963000@ionaheightsinn.com
SUMMARY:Cape Breton Celtic Trad Sessions
DESCRIPTION:Come and enjoy a casual gathering of musicians who have come together to play traditional Cape Breton celtic music. \nAnyone is welcome to join in\, or just sit back and enjoy the tunes. \nSundays at The Frolic 430 – 730pm \nFull kitchen and bar service. \nMinors allowed till 10pm \n 
URL:https://ionaheightsinn.com/eventing/cape-breton-celtic-trad-sessions-25-2/2027-08-22/
LOCATION:The Frolic’n Folk Pub & Grill\, 4115 HWY 223\, Iona\, Nova Scotia\, B2C 1A3\, Canada
CATEGORIES:Events at The Frolic'n Folk
ATTACH;FMTTYPE=image/jpeg:https://ionaheightsinn.com/wp-content/uploads/2022/03/Trad-Sessions.jpg
ORGANIZER;CN="The Frolic'n Folk":MAILTO:frolic@ionaheightsinn.com
GEO:45.9508304;-60.8147104
X-APPLE-STRUCTURED-LOCATION;VALUE=URI;X-ADDRESS=The Frolic’n Folk Pub & Grill 4115 HWY 223 Iona Nova Scotia B2C 1A3 Canada;X-APPLE-RADIUS=500;X-TITLE=4115 HWY 223:geo:-60.8147104,45.9508304
END:VEVENT
BEGIN:VEVENT
DTSTART;TZID=America/Halifax:20270829T163000
DTEND;TZID=America/Halifax:20270829T193000
DTSTAMP:20260423T011956
CREATED:20260119T175227Z
LAST-MODIFIED:20260331T145419Z
UID:10003616-1819557000-1819567800@ionaheightsinn.com
SUMMARY:Cape Breton Celtic Trad Sessions
DESCRIPTION:Come and enjoy a casual gathering of musicians who have come together to play traditional Cape Breton celtic music. \nAnyone is welcome to join in\, or just sit back and enjoy the tunes. \nSundays at The Frolic 430 – 730pm \nFull kitchen and bar service. \nMinors allowed till 10pm \n 
URL:https://ionaheightsinn.com/eventing/cape-breton-celtic-trad-sessions-25-2/2027-08-29/
LOCATION:The Frolic’n Folk Pub & Grill\, 4115 HWY 223\, Iona\, Nova Scotia\, B2C 1A3\, Canada
CATEGORIES:Events at The Frolic'n Folk
ATTACH;FMTTYPE=image/jpeg:https://ionaheightsinn.com/wp-content/uploads/2022/03/Trad-Sessions.jpg
ORGANIZER;CN="The Frolic'n Folk":MAILTO:frolic@ionaheightsinn.com
GEO:45.9508304;-60.8147104
X-APPLE-STRUCTURED-LOCATION;VALUE=URI;X-ADDRESS=The Frolic’n Folk Pub & Grill 4115 HWY 223 Iona Nova Scotia B2C 1A3 Canada;X-APPLE-RADIUS=500;X-TITLE=4115 HWY 223:geo:-60.8147104,45.9508304
END:VEVENT
BEGIN:VEVENT
DTSTART;TZID=America/Halifax:20270905T163000
DTEND;TZID=America/Halifax:20270905T193000
DTSTAMP:20260423T011956
CREATED:20260119T175227Z
LAST-MODIFIED:20260331T145419Z
UID:10003617-1820161800-1820172600@ionaheightsinn.com
SUMMARY:Cape Breton Celtic Trad Sessions
DESCRIPTION:Come and enjoy a casual gathering of musicians who have come together to play traditional Cape Breton celtic music. \nAnyone is welcome to join in\, or just sit back and enjoy the tunes. \nSundays at The Frolic 430 – 730pm \nFull kitchen and bar service. \nMinors allowed till 10pm \n 
URL:https://ionaheightsinn.com/eventing/cape-breton-celtic-trad-sessions-25-2/2027-09-05/
LOCATION:The Frolic’n Folk Pub & Grill\, 4115 HWY 223\, Iona\, Nova Scotia\, B2C 1A3\, Canada
CATEGORIES:Events at The Frolic'n Folk
ATTACH;FMTTYPE=image/jpeg:https://ionaheightsinn.com/wp-content/uploads/2022/03/Trad-Sessions.jpg
ORGANIZER;CN="The Frolic'n Folk":MAILTO:frolic@ionaheightsinn.com
GEO:45.9508304;-60.8147104
X-APPLE-STRUCTURED-LOCATION;VALUE=URI;X-ADDRESS=The Frolic’n Folk Pub & Grill 4115 HWY 223 Iona Nova Scotia B2C 1A3 Canada;X-APPLE-RADIUS=500;X-TITLE=4115 HWY 223:geo:-60.8147104,45.9508304
END:VEVENT
BEGIN:VEVENT
DTSTART;TZID=America/Halifax:20270912T163000
DTEND;TZID=America/Halifax:20270912T193000
DTSTAMP:20260423T011956
CREATED:20260119T175227Z
LAST-MODIFIED:20260331T145419Z
UID:10003618-1820766600-1820777400@ionaheightsinn.com
SUMMARY:Cape Breton Celtic Trad Sessions
DESCRIPTION:Come and enjoy a casual gathering of musicians who have come together to play traditional Cape Breton celtic music. \nAnyone is welcome to join in\, or just sit back and enjoy the tunes. \nSundays at The Frolic 430 – 730pm \nFull kitchen and bar service. \nMinors allowed till 10pm \n 
URL:https://ionaheightsinn.com/eventing/cape-breton-celtic-trad-sessions-25-2/2027-09-12/
LOCATION:The Frolic’n Folk Pub & Grill\, 4115 HWY 223\, Iona\, Nova Scotia\, B2C 1A3\, Canada
CATEGORIES:Events at The Frolic'n Folk
ATTACH;FMTTYPE=image/jpeg:https://ionaheightsinn.com/wp-content/uploads/2022/03/Trad-Sessions.jpg
ORGANIZER;CN="The Frolic'n Folk":MAILTO:frolic@ionaheightsinn.com
GEO:45.9508304;-60.8147104
X-APPLE-STRUCTURED-LOCATION;VALUE=URI;X-ADDRESS=The Frolic’n Folk Pub & Grill 4115 HWY 223 Iona Nova Scotia B2C 1A3 Canada;X-APPLE-RADIUS=500;X-TITLE=4115 HWY 223:geo:-60.8147104,45.9508304
END:VEVENT
BEGIN:VEVENT
DTSTART;TZID=America/Halifax:20270919T163000
DTEND;TZID=America/Halifax:20270919T193000
DTSTAMP:20260423T011956
CREATED:20260119T175227Z
LAST-MODIFIED:20260331T145419Z
UID:10003619-1821371400-1821382200@ionaheightsinn.com
SUMMARY:Cape Breton Celtic Trad Sessions
DESCRIPTION:Come and enjoy a casual gathering of musicians who have come together to play traditional Cape Breton celtic music. \nAnyone is welcome to join in\, or just sit back and enjoy the tunes. \nSundays at The Frolic 430 – 730pm \nFull kitchen and bar service. \nMinors allowed till 10pm \n 
URL:https://ionaheightsinn.com/eventing/cape-breton-celtic-trad-sessions-25-2/2027-09-19/
LOCATION:The Frolic’n Folk Pub & Grill\, 4115 HWY 223\, Iona\, Nova Scotia\, B2C 1A3\, Canada
CATEGORIES:Events at The Frolic'n Folk
ATTACH;FMTTYPE=image/jpeg:https://ionaheightsinn.com/wp-content/uploads/2022/03/Trad-Sessions.jpg
ORGANIZER;CN="The Frolic'n Folk":MAILTO:frolic@ionaheightsinn.com
GEO:45.9508304;-60.8147104
X-APPLE-STRUCTURED-LOCATION;VALUE=URI;X-ADDRESS=The Frolic’n Folk Pub & Grill 4115 HWY 223 Iona Nova Scotia B2C 1A3 Canada;X-APPLE-RADIUS=500;X-TITLE=4115 HWY 223:geo:-60.8147104,45.9508304
END:VEVENT
BEGIN:VEVENT
DTSTART;TZID=America/Halifax:20270926T163000
DTEND;TZID=America/Halifax:20270926T193000
DTSTAMP:20260423T011956
CREATED:20260119T175227Z
LAST-MODIFIED:20260331T145419Z
UID:10003620-1821976200-1821987000@ionaheightsinn.com
SUMMARY:Cape Breton Celtic Trad Sessions
DESCRIPTION:Come and enjoy a casual gathering of musicians who have come together to play traditional Cape Breton celtic music. \nAnyone is welcome to join in\, or just sit back and enjoy the tunes. \nSundays at The Frolic 430 – 730pm \nFull kitchen and bar service. \nMinors allowed till 10pm \n 
URL:https://ionaheightsinn.com/eventing/cape-breton-celtic-trad-sessions-25-2/2027-09-26/
LOCATION:The Frolic’n Folk Pub & Grill\, 4115 HWY 223\, Iona\, Nova Scotia\, B2C 1A3\, Canada
CATEGORIES:Events at The Frolic'n Folk
ATTACH;FMTTYPE=image/jpeg:https://ionaheightsinn.com/wp-content/uploads/2022/03/Trad-Sessions.jpg
ORGANIZER;CN="The Frolic'n Folk":MAILTO:frolic@ionaheightsinn.com
GEO:45.9508304;-60.8147104
X-APPLE-STRUCTURED-LOCATION;VALUE=URI;X-ADDRESS=The Frolic’n Folk Pub & Grill 4115 HWY 223 Iona Nova Scotia B2C 1A3 Canada;X-APPLE-RADIUS=500;X-TITLE=4115 HWY 223:geo:-60.8147104,45.9508304
END:VEVENT
BEGIN:VEVENT
DTSTART;TZID=America/Halifax:20271003T163000
DTEND;TZID=America/Halifax:20271003T193000
DTSTAMP:20260423T011956
CREATED:20260119T175227Z
LAST-MODIFIED:20260331T145419Z
UID:10003621-1822581000-1822591800@ionaheightsinn.com
SUMMARY:Cape Breton Celtic Trad Sessions
DESCRIPTION:Come and enjoy a casual gathering of musicians who have come together to play traditional Cape Breton celtic music. \nAnyone is welcome to join in\, or just sit back and enjoy the tunes. \nSundays at The Frolic 430 – 730pm \nFull kitchen and bar service. \nMinors allowed till 10pm \n 
URL:https://ionaheightsinn.com/eventing/cape-breton-celtic-trad-sessions-25-2/2027-10-03/
LOCATION:The Frolic’n Folk Pub & Grill\, 4115 HWY 223\, Iona\, Nova Scotia\, B2C 1A3\, Canada
CATEGORIES:Events at The Frolic'n Folk
ATTACH;FMTTYPE=image/jpeg:https://ionaheightsinn.com/wp-content/uploads/2022/03/Trad-Sessions.jpg
ORGANIZER;CN="The Frolic'n Folk":MAILTO:frolic@ionaheightsinn.com
GEO:45.9508304;-60.8147104
X-APPLE-STRUCTURED-LOCATION;VALUE=URI;X-ADDRESS=The Frolic’n Folk Pub & Grill 4115 HWY 223 Iona Nova Scotia B2C 1A3 Canada;X-APPLE-RADIUS=500;X-TITLE=4115 HWY 223:geo:-60.8147104,45.9508304
END:VEVENT
BEGIN:VEVENT
DTSTART;TZID=America/Halifax:20271010T163000
DTEND;TZID=America/Halifax:20271010T193000
DTSTAMP:20260423T011956
CREATED:20260119T175227Z
LAST-MODIFIED:20260331T145419Z
UID:10003622-1823185800-1823196600@ionaheightsinn.com
SUMMARY:Cape Breton Celtic Trad Sessions
DESCRIPTION:Come and enjoy a casual gathering of musicians who have come together to play traditional Cape Breton celtic music. \nAnyone is welcome to join in\, or just sit back and enjoy the tunes. \nSundays at The Frolic 430 – 730pm \nFull kitchen and bar service. \nMinors allowed till 10pm \n 
URL:https://ionaheightsinn.com/eventing/cape-breton-celtic-trad-sessions-25-2/2027-10-10/
LOCATION:The Frolic’n Folk Pub & Grill\, 4115 HWY 223\, Iona\, Nova Scotia\, B2C 1A3\, Canada
CATEGORIES:Events at The Frolic'n Folk
ATTACH;FMTTYPE=image/jpeg:https://ionaheightsinn.com/wp-content/uploads/2022/03/Trad-Sessions.jpg
ORGANIZER;CN="The Frolic'n Folk":MAILTO:frolic@ionaheightsinn.com
GEO:45.9508304;-60.8147104
X-APPLE-STRUCTURED-LOCATION;VALUE=URI;X-ADDRESS=The Frolic’n Folk Pub & Grill 4115 HWY 223 Iona Nova Scotia B2C 1A3 Canada;X-APPLE-RADIUS=500;X-TITLE=4115 HWY 223:geo:-60.8147104,45.9508304
END:VEVENT
END:VCALENDAR