BEGIN:VCALENDAR
VERSION:2.0
PRODID:-//The Iona Heights Inn - ECPv6.15.20//NONSGML v1.0//EN
CALSCALE:GREGORIAN
METHOD:PUBLISH
X-ORIGINAL-URL:https://ionaheightsinn.com
X-WR-CALDESC:Events for The Iona Heights Inn
REFRESH-INTERVAL;VALUE=DURATION:PT1H
X-Robots-Tag:noindex
X-PUBLISHED-TTL:PT1H
BEGIN:VTIMEZONE
TZID:America/Halifax
BEGIN:DAYLIGHT
TZOFFSETFROM:-0400
TZOFFSETTO:-0300
TZNAME:ADT
DTSTART:20190310T060000
END:DAYLIGHT
BEGIN:STANDARD
TZOFFSETFROM:-0300
TZOFFSETTO:-0400
TZNAME:AST
DTSTART:20191103T050000
END:STANDARD
BEGIN:DAYLIGHT
TZOFFSETFROM:-0400
TZOFFSETTO:-0300
TZNAME:ADT
DTSTART:20200308T060000
END:DAYLIGHT
BEGIN:STANDARD
TZOFFSETFROM:-0300
TZOFFSETTO:-0400
TZNAME:AST
DTSTART:20201101T050000
END:STANDARD
BEGIN:DAYLIGHT
TZOFFSETFROM:-0400
TZOFFSETTO:-0300
TZNAME:ADT
DTSTART:20210314T060000
END:DAYLIGHT
BEGIN:STANDARD
TZOFFSETFROM:-0300
TZOFFSETTO:-0400
TZNAME:AST
DTSTART:20211107T050000
END:STANDARD
BEGIN:DAYLIGHT
TZOFFSETFROM:-0400
TZOFFSETTO:-0300
TZNAME:ADT
DTSTART:20220313T060000
END:DAYLIGHT
BEGIN:STANDARD
TZOFFSETFROM:-0300
TZOFFSETTO:-0400
TZNAME:AST
DTSTART:20221106T050000
END:STANDARD
BEGIN:DAYLIGHT
TZOFFSETFROM:-0400
TZOFFSETTO:-0300
TZNAME:ADT
DTSTART:20230312T060000
END:DAYLIGHT
BEGIN:STANDARD
TZOFFSETFROM:-0300
TZOFFSETTO:-0400
TZNAME:AST
DTSTART:20231105T050000
END:STANDARD
END:VTIMEZONE
BEGIN:VEVENT
DTSTART;TZID=America/Halifax:20221209T190000
DTEND;TZID=America/Halifax:20221209T230000
DTSTAMP:20260422T144814
CREATED:20221112T162949Z
LAST-MODIFIED:20221112T162949Z
UID:10002983-1670612400-1670626800@ionaheightsinn.com
SUMMARY:RG Schaller & The Peacemakers
DESCRIPTION:The Frolic and Folk is excited to announce that Rg Schaller and the Peacemakers are coming for an unforgettable evening of entertainment. \nA unique 5 piece band on the rise in a sea of talent. \nAlso joining are singer/songwriters Duane Nardocchio and Sonnie Greening\, as well as some very special guests. \nTickets available at door and online $20 \nAges 19+
URL:https://ionaheightsinn.com/eventing/rg-schaller-the-peacemakers/
LOCATION:The Frolic’n Folk Pub & Grill\, 4115 HWY 223\, Iona\, Nova Scotia\, B2C 1A3\, Canada
CATEGORIES:Events at The Frolic'n Folk,Ticketed Shows
ATTACH;FMTTYPE=image/jpeg:https://ionaheightsinn.com/wp-content/uploads/2022/11/RG.jpg
ORGANIZER;CN="The Frolic'n Folk":MAILTO:frolic@ionaheightsinn.com
GEO:45.9508304;-60.8147104
X-APPLE-STRUCTURED-LOCATION;VALUE=URI;X-ADDRESS=The Frolic’n Folk Pub & Grill 4115 HWY 223 Iona Nova Scotia B2C 1A3 Canada;X-APPLE-RADIUS=500;X-TITLE=4115 HWY 223:geo:-60.8147104,45.9508304
END:VEVENT
BEGIN:VEVENT
DTSTART;TZID=America/Halifax:20200419T200000
DTEND;TZID=America/Halifax:20200419T220000
DTSTAMP:20260422T144814
CREATED:20200213T172254Z
LAST-MODIFIED:20200328T150824Z
UID:10002866-1587326400-1587333600@ionaheightsinn.com
SUMMARY:Lloyd Spiegel - POSTPONED
DESCRIPTION:POSTPONED – CREDIT OR REFUNDS WILL BE ISSUED\nSomewhere between songwriter\, social worker and truth-seeker\, sits 11X Australian Blues Award winner\, Lloyd Spiegel.  Named one of the top Australian guitarists of all time\, Lloyd blends comedy\, storytelling and jaw-dropping guitar chops to provide one of the most unique\, solo\, acoustic concert experiences in the world.\nPicking up the guitar at age 4 and playing his first professional show at age 10\, Lloyd can’t remember a time before playing guitar.  By 16 he was on tour in the United States and has since performed at major festivals and iconic Juke Joints around the globe.  He has supported the likes of Ray Charles\, Bob Dylan and Etta James on tour and has sat with the founding fathers of modern blues including Brownie McGhee\, who taught him the most important part of being a blues musician: connecting with everyday people. \nGrowing up in the music business\, Lloyd is passionate about promoting the blues scene and mentoring the next generation. He has taken countless young artists under his wing who have since become multi-award winning performers in their own right and he has been an advocate for blues in Australia. \nQuotes: \n“A revelation\, the consummate performer\, an Oz Blues & Roots icon.” – Rolling Stone Australia \n“A guitarist almost without peer\, Spiegel deconstructs how the blues guitar is supposed to operate\, makes sweet love to it\, then kicks it out the back door” .– Australian Guitar Player Magazine \n“Lloyd Spiegel…guitar magic and great stories. This show is value for money! Go\, be amazed!”– Terry Seguin\, CBC \n 
URL:https://ionaheightsinn.com/eventing/lloyd-spiegel/
LOCATION:The Frolic’n Folk Pub & Grill\, 4115 HWY 223\, Iona\, Nova Scotia\, B2C 1A3\, Canada
CATEGORIES:Events at The Frolic'n Folk,Ticketed Shows
ATTACH;FMTTYPE=image/jpeg:https://ionaheightsinn.com/wp-content/uploads/2020/02/Lloyd-Spiegel.jpg
GEO:45.9508304;-60.8147104
X-APPLE-STRUCTURED-LOCATION;VALUE=URI;X-ADDRESS=The Frolic’n Folk Pub & Grill 4115 HWY 223 Iona Nova Scotia B2C 1A3 Canada;X-APPLE-RADIUS=500;X-TITLE=4115 HWY 223:geo:-60.8147104,45.9508304
END:VEVENT
END:VCALENDAR