BEGIN:VCALENDAR
VERSION:2.0
PRODID:-//The Iona Heights Inn - ECPv6.15.20//NONSGML v1.0//EN
CALSCALE:GREGORIAN
METHOD:PUBLISH
X-ORIGINAL-URL:https://ionaheightsinn.com
X-WR-CALDESC:Events for The Iona Heights Inn
REFRESH-INTERVAL;VALUE=DURATION:PT1H
X-Robots-Tag:noindex
X-PUBLISHED-TTL:PT1H
BEGIN:VTIMEZONE
TZID:America/Halifax
BEGIN:DAYLIGHT
TZOFFSETFROM:-0400
TZOFFSETTO:-0300
TZNAME:ADT
DTSTART:20210314T060000
END:DAYLIGHT
BEGIN:STANDARD
TZOFFSETFROM:-0300
TZOFFSETTO:-0400
TZNAME:AST
DTSTART:20211107T050000
END:STANDARD
BEGIN:DAYLIGHT
TZOFFSETFROM:-0400
TZOFFSETTO:-0300
TZNAME:ADT
DTSTART:20220313T060000
END:DAYLIGHT
BEGIN:STANDARD
TZOFFSETFROM:-0300
TZOFFSETTO:-0400
TZNAME:AST
DTSTART:20221106T050000
END:STANDARD
BEGIN:DAYLIGHT
TZOFFSETFROM:-0400
TZOFFSETTO:-0300
TZNAME:ADT
DTSTART:20230312T060000
END:DAYLIGHT
BEGIN:STANDARD
TZOFFSETFROM:-0300
TZOFFSETTO:-0400
TZNAME:AST
DTSTART:20231105T050000
END:STANDARD
END:VTIMEZONE
BEGIN:VEVENT
DTSTART;TZID=America/Halifax:20220610T200000
DTEND;TZID=America/Halifax:20220610T200000
DTSTAMP:20260422T220349
CREATED:20220412T162429Z
LAST-MODIFIED:20220609T211528Z
UID:10002978-1654891200-1654891200@ionaheightsinn.com
SUMMARY:Robert Bouchard with Nick Boudreau
DESCRIPTION:A life-long performing artist\, Robert Bouchard has toured this national vast expanse on more than one occasion. He is a bonafide country sensation who has earned many accolades\, the most recent being an induction into the Nova Scotia Country Music Hall of Fame.  \nWith the recent release of his latest CD entitled ‘That’s What I Live For’\, we witness the cream rising to top yet again. \nHis fans have already heard and witnessed what he was placed on this earth to do\, sing & entertain! Others are in for the finest country artist to ever emerge from these parts. Robert Bouchard is a must-see & hear! \nDennis ‘Nick’ Boudreau is a most sought after and respected guitarist. Nick toured extensively with country artists Robert Bouchard and Cornelia & Billy. He toured Canada and Germany\, work that lasted most of his adult life. Nick was a featured guitarist on a Rankin Family tour. He is modest and humble\, yet musical colleagues sing his praises as a player of guitar\, banjo\, bass\, and mandolin. Throughout his entire career\, Nick has always partaken in fundraising initiatives\, especially for persons with serious illness.  \nWe look forward to welcoming Robert and Nick in Iona. \n 
URL:https://ionaheightsinn.com/eventing/robert-bouchard-with-nick-boudreau/
LOCATION:The Frolic’n Folk Pub & Grill\, 4115 HWY 223\, Iona\, Nova Scotia\, B2C 1A3\, Canada
CATEGORIES:Events at The Frolic'n Folk,Ticketed Shows
ATTACH;FMTTYPE=image/jpeg:https://ionaheightsinn.com/wp-content/uploads/2022/04/Robert-Bouchard-Sold-Out.jpg
GEO:45.9508304;-60.8147104
X-APPLE-STRUCTURED-LOCATION;VALUE=URI;X-ADDRESS=The Frolic’n Folk Pub & Grill 4115 HWY 223 Iona Nova Scotia B2C 1A3 Canada;X-APPLE-RADIUS=500;X-TITLE=4115 HWY 223:geo:-60.8147104,45.9508304
END:VEVENT
END:VCALENDAR