BEGIN:VCALENDAR
VERSION:2.0
PRODID:-//The Iona Heights Inn - ECPv6.15.20//NONSGML v1.0//EN
CALSCALE:GREGORIAN
METHOD:PUBLISH
X-WR-CALNAME:The Iona Heights Inn
X-ORIGINAL-URL:https://ionaheightsinn.com
X-WR-CALDESC:Events for The Iona Heights Inn
REFRESH-INTERVAL;VALUE=DURATION:PT1H
X-Robots-Tag:noindex
X-PUBLISHED-TTL:PT1H
BEGIN:VTIMEZONE
TZID:America/Halifax
BEGIN:DAYLIGHT
TZOFFSETFROM:-0400
TZOFFSETTO:-0300
TZNAME:ADT
DTSTART:20240310T060000
END:DAYLIGHT
BEGIN:STANDARD
TZOFFSETFROM:-0300
TZOFFSETTO:-0400
TZNAME:AST
DTSTART:20241103T050000
END:STANDARD
BEGIN:DAYLIGHT
TZOFFSETFROM:-0400
TZOFFSETTO:-0300
TZNAME:ADT
DTSTART:20250309T060000
END:DAYLIGHT
BEGIN:STANDARD
TZOFFSETFROM:-0300
TZOFFSETTO:-0400
TZNAME:AST
DTSTART:20251102T050000
END:STANDARD
BEGIN:DAYLIGHT
TZOFFSETFROM:-0400
TZOFFSETTO:-0300
TZNAME:ADT
DTSTART:20260308T060000
END:DAYLIGHT
BEGIN:STANDARD
TZOFFSETFROM:-0300
TZOFFSETTO:-0400
TZNAME:AST
DTSTART:20261101T050000
END:STANDARD
END:VTIMEZONE
BEGIN:VEVENT
DTSTART;TZID=America/Halifax:20250530T200000
DTEND;TZID=America/Halifax:20250530T220000
DTSTAMP:20260422T162446
CREATED:20250508T163352Z
LAST-MODIFIED:20250530T120201Z
UID:10003524-1748635200-1748642400@ionaheightsinn.com
SUMMARY:Stand Up Comedy Night
DESCRIPTION:Featuring: \nIan Black\, originally from the west coast\, Ian Black went against the traffic and moved east to Halifax\, where he fell in with the wrong crowd and was pressured into trying standup. Since then\, he has been voted Halifax’s Funniest\, reached the semi-finals in SiriusXM’s nation-wide Top Comic competition\, appeared twice at CBCTV’s Halifax Comedy Fest\, and broadcast on CBC radio’s LOL. From theatres and clubs to retirement home dining rooms and boardwalk bandshells\, Ian is a favourite across the Maritimes and has opened for such varied acts as Bob Saget\, Tig Notaro\, and Doug Stanhope. \nClare Belford is a comedian and a very nice person. Born and raised in the most blue collar parts of oil-country Alberta\, she cut her teeth early on by forcibly telling deeply personal jokes about womanhood to drunk tradesmen. Nowadays she is a veritable fixture of Canadian comedy. \nClare has performed at festivals including Just For Laughs\, the New York Comedy Festival\, the Halifax Comedy Festival and she appears on CBC’s New Wave of Stand Up. She writes for This Hour Has 22 Minutes\, and her debut album\, The Entire Cabbage\, plays regularly on SiriusXM and was named one of the Best of 2021 by Bullseye on NPR. \nOriginally hailing from PEI\, Dan Hendricken is one of the top comics to come out of the Maritimes. He cut his teeth in comedy at comedy clubs in Halifax and in just a few short years was featured on CBC TV as part of the Halifax Comedy Festival. Dan was the winner of the 2015 HubCap Comedy Festival’s CBC Open-Mic Contest and has since gone on to tour all over the country as a headlining comic. Dan has been seen on CBC TV and heard on CBC Radio (with CBC’s LOL) and has performed on the Halifax Comedy Festival and Hubcap Comedy Festival. Fans find Dan charming and hilarious. He draws in the attention of every audience he preforms in front of with his charm and likeability and keeps them laughing and entertained the whole time. He recently recorded his debut album “Last Call” which is available online. \n 
URL:https://ionaheightsinn.com/eventing/stand-up-comedy-night/
LOCATION:The Frolic’n Folk Pub & Grill\, 4115 HWY 223\, Iona\, Nova Scotia\, B2C 1A3\, Canada
CATEGORIES:Events at The Frolic'n Folk,Ticketed Shows
ATTACH;FMTTYPE=image/jpeg:https://ionaheightsinn.com/wp-content/uploads/2025/05/Comedy.jpg
ORGANIZER;CN="The Frolic'n Folk":MAILTO:frolic@ionaheightsinn.com
GEO:45.9508304;-60.8147104
X-APPLE-STRUCTURED-LOCATION;VALUE=URI;X-ADDRESS=The Frolic’n Folk Pub & Grill 4115 HWY 223 Iona Nova Scotia B2C 1A3 Canada;X-APPLE-RADIUS=500;X-TITLE=4115 HWY 223:geo:-60.8147104,45.9508304
END:VEVENT
END:VCALENDAR