BEGIN:VCALENDAR
VERSION:2.0
PRODID:-//The Iona Heights Inn - ECPv6.15.20//NONSGML v1.0//EN
CALSCALE:GREGORIAN
METHOD:PUBLISH
X-ORIGINAL-URL:https://ionaheightsinn.com
X-WR-CALDESC:Events for The Iona Heights Inn
REFRESH-INTERVAL;VALUE=DURATION:PT1H
X-Robots-Tag:noindex
X-PUBLISHED-TTL:PT1H
BEGIN:VTIMEZONE
TZID:America/Halifax
BEGIN:DAYLIGHT
TZOFFSETFROM:-0400
TZOFFSETTO:-0300
TZNAME:ADT
DTSTART:20250309T060000
END:DAYLIGHT
BEGIN:STANDARD
TZOFFSETFROM:-0300
TZOFFSETTO:-0400
TZNAME:AST
DTSTART:20251102T050000
END:STANDARD
BEGIN:DAYLIGHT
TZOFFSETFROM:-0400
TZOFFSETTO:-0300
TZNAME:ADT
DTSTART:20260308T060000
END:DAYLIGHT
BEGIN:STANDARD
TZOFFSETFROM:-0300
TZOFFSETTO:-0400
TZNAME:AST
DTSTART:20261101T050000
END:STANDARD
BEGIN:DAYLIGHT
TZOFFSETFROM:-0400
TZOFFSETTO:-0300
TZNAME:ADT
DTSTART:20270314T060000
END:DAYLIGHT
BEGIN:STANDARD
TZOFFSETFROM:-0300
TZOFFSETTO:-0400
TZNAME:AST
DTSTART:20271107T050000
END:STANDARD
END:VTIMEZONE
BEGIN:VEVENT
DTSTART;TZID=America/Halifax:20260207T170000
DTEND;TZID=America/Halifax:20260207T200000
DTSTAMP:20260423T013215
CREATED:20260207T114541Z
LAST-MODIFIED:20260207T114542Z
UID:10003677-1770483600-1770494400@ionaheightsinn.com
SUMMARY:Céilidh Matinee - Troy MacGillivary and Susan MacLean
DESCRIPTION:Get a taste of local celtic music & culture with our Saturday ceilidhs (kay-lee). \nExpect to see world-renowned talent & budding entertainers from all over our native Cape Breton. \nGeneral admission seating $5 cover \nFirst come first serve at the pub. No reservations. Minors allowed up until 10PM
URL:https://ionaheightsinn.com/eventing/ceilidh-matinee-25-14-2/
LOCATION:The Frolic’n Folk Pub & Grill\, 4115 HWY 223\, Iona\, Nova Scotia\, B2C 1A3\, Canada
CATEGORIES:Events at The Frolic'n Folk
ATTACH;FMTTYPE=image/jpeg:https://ionaheightsinn.com/wp-content/uploads/2022/02/Ceilidh-Saturdays.jpg
ORGANIZER;CN="The Frolic'n Folk":MAILTO:frolic@ionaheightsinn.com
GEO:45.9508304;-60.8147104
X-APPLE-STRUCTURED-LOCATION;VALUE=URI;X-ADDRESS=The Frolic’n Folk Pub & Grill 4115 HWY 223 Iona Nova Scotia B2C 1A3 Canada;X-APPLE-RADIUS=500;X-TITLE=4115 HWY 223:geo:-60.8147104,45.9508304
END:VEVENT
BEGIN:VEVENT
DTSTART;TZID=America/Halifax:20260207T200000
DTEND;TZID=America/Halifax:20260207T220000
DTSTAMP:20260423T013215
CREATED:20250831T125121Z
LAST-MODIFIED:20260203T011050Z
UID:10003546-1770494400-1770501600@ionaheightsinn.com
SUMMARY:Craig Cardiff
DESCRIPTION:Join Craig Cardiff in concert. Come ready to sing\, dance\, and become part of the show. Everyone comes as strangers and leaves as a group. Folk music\, singersongwriter\, canadiana / americana – label as needed. Four chords and the truth\, capo’d as required. Invite your friends and enemies – they all need to be there. Juno / Canadian Folk Music award Nominee\, streamed often\, and 100% fan powered. \n  \n \nOpen in Spotify \nOpen in Spotify \nOpen in Spotify
URL:https://ionaheightsinn.com/eventing/craig-cardiff/
LOCATION:The Frolic’n Folk Pub & Grill\, 4115 HWY 223\, Iona\, Nova Scotia\, B2C 1A3\, Canada
CATEGORIES:Events at The Frolic'n Folk,Ticketed Shows
ATTACH;FMTTYPE=image/png:https://ionaheightsinn.com/wp-content/uploads/2025/08/0-1-e1756647046440.png
ORGANIZER;CN="The Frolic'n Folk":MAILTO:frolic@ionaheightsinn.com
GEO:45.9508304;-60.8147104
X-APPLE-STRUCTURED-LOCATION;VALUE=URI;X-ADDRESS=The Frolic’n Folk Pub & Grill 4115 HWY 223 Iona Nova Scotia B2C 1A3 Canada;X-APPLE-RADIUS=500;X-TITLE=4115 HWY 223:geo:-60.8147104,45.9508304
END:VEVENT
END:VCALENDAR