BEGIN:VCALENDAR
VERSION:2.0
PRODID:-//The Iona Heights Inn - ECPv6.15.20//NONSGML v1.0//EN
CALSCALE:GREGORIAN
METHOD:PUBLISH
X-ORIGINAL-URL:https://ionaheightsinn.com
X-WR-CALDESC:Events for The Iona Heights Inn
REFRESH-INTERVAL;VALUE=DURATION:PT1H
X-Robots-Tag:noindex
X-PUBLISHED-TTL:PT1H
BEGIN:VTIMEZONE
TZID:America/Halifax
BEGIN:DAYLIGHT
TZOFFSETFROM:-0400
TZOFFSETTO:-0300
TZNAME:ADT
DTSTART:20200308T060000
END:DAYLIGHT
BEGIN:STANDARD
TZOFFSETFROM:-0300
TZOFFSETTO:-0400
TZNAME:AST
DTSTART:20201101T050000
END:STANDARD
BEGIN:DAYLIGHT
TZOFFSETFROM:-0400
TZOFFSETTO:-0300
TZNAME:ADT
DTSTART:20210314T060000
END:DAYLIGHT
BEGIN:STANDARD
TZOFFSETFROM:-0300
TZOFFSETTO:-0400
TZNAME:AST
DTSTART:20211107T050000
END:STANDARD
BEGIN:DAYLIGHT
TZOFFSETFROM:-0400
TZOFFSETTO:-0300
TZNAME:ADT
DTSTART:20220313T060000
END:DAYLIGHT
BEGIN:STANDARD
TZOFFSETFROM:-0300
TZOFFSETTO:-0400
TZNAME:AST
DTSTART:20221106T050000
END:STANDARD
END:VTIMEZONE
BEGIN:VEVENT
DTSTART;TZID=America/Halifax:20211230T210000
DTEND;TZID=America/Halifax:20211230T233000
DTSTAMP:20260423T013027
CREATED:20211110T140154Z
LAST-MODIFIED:20211222T005216Z
UID:10002886-1640898000-1640907000@ionaheightsinn.com
SUMMARY:New Year's Eve (Eve) with Pretty Archie
DESCRIPTION:CANCELLED DUE TO COVID. REFUNDS WILL BE ISSUED. PUB STILL OPEN FOR REGULAR SERVICE\n\nLong time friends Brian Cathcart (Lead Vocals\, Guitar)\, Matt McNeil (Mandolin\, Guitar)\, Colin Gillis (Harmonica\, Bass\, Vocals)\, Redmond MacDougall (Banjo\, Percussion\, Vocals) and Scott MacLean (Guitar\, Mandolin) starting performing together in 2012. The band’s name is a nod to a Cape Breton local who embodied the love of playing and performing music. No matter where they tour or travel\, Pretty Archie will always be representing their hometown.\nPretty Archie\, their sixth studio album\, is one of which they are justifiably proud. It represents a quantum leap forward in the evolution of the group’s sound. ”I feel each of our other records was a step ahead of the previous one\, but this one is six steps ahead\,” declares Colin Gillis. “We are proud of everything we’ve put out\, but this is at a different level.” \nPinning down the ‘Pretty Archie sound’ hasn’t always been easy. Their style has incorporated elements of bluegrass\, folk\, country\, and had that ‘East Coast vibe’. Describing the new album\, Brian states “it is more focused\, even though you still can’t quite put a finger on it. For us it definitely has way more of a country vibe. This is an alternative country or Americana-style…” \nHelping the group realize the formidable creative achievement that is Pretty Archie was internationally-acclaimed record producer and engineer Mark Howard\, whose star-studded resume includes work with the likes of Bob Dylan\, Willie Nelson\, U2\, Tom Waits\, The Tragically Hip\, Peter Gabriel\, and more. Howard’s fortuitous recent relocation to Cape Breton afforded Pretty Archie the opportunity to take advantage of his skills\, and the band couldn’t be happier with the results. \n“It was all basically recorded live off the floor\, with minimal overdubs\,” adds Colin. “That’s something we had always wanted\, and Mark was able to do that. There’s a certain ambience and energy in recording that way.” \nWith every record and tour Pretty Archie carries a little piece of home a bit farther afield. Since their 2013 debut album\, Steel City\, the band have built an ever- larger following on the east coast\, across Canada and are now set to continue growing their International audience. \nCathcart explains that “as a band\, we wear our East Coast hearts on our sleeves. We are very proud of where we are from\, but our focus now is exposing people internationally to our part of the world.” Gillis adds that “if you are genuine and true to yourselves\, then people will attach themselves to that\, no matter where you are from.” \nPretty Archie have long been regional favourites\, with a stack of Music Nova Scotia and East Coast Music Award nominations to their credit. They are now looking globally\, and with Pretty Archie they have an album ready for international prime time play. \nThe upbeat and joyous “Familiar Feeling” and catchy “Reasons” showcase the band’s instrumental prowess\, while Brian digs deep vocally on the haunting ballad “Feel It In My Bones.” At Howard’s suggestion\, “Someone New” became a duet\, featuring Austin-based Maritime honky-tonker Whitney Rose\, and the contrasting vocals add real resonance. Brian is especially proud of “Maritime\,” a song written right in the studio that features these poignant lyrics – ”If your heart breaks down\, we’ll use mine. It is weathered and weary\, but it is Maritime.” \nPretty Archie’s genuine\, heartfelt writing connects listeners with a saltwater perspective on modern living. Their fun loving and at times heartbreaking music finds common ground in the blurred genres of Country\, Folk\, Bluegrass and Americana. Their unique sound and energetic shows leave listeners with a lasting memory. \nTheir latest self titled album will be available everywhere January 21 2022
URL:https://ionaheightsinn.com/eventing/new-years-eve-with-pretty-archie-4/
LOCATION:The Frolic’n Folk Pub & Grill\, 4115 HWY 223\, Iona\, Nova Scotia\, B2C 1A3\, Canada
CATEGORIES:Events at The Frolic'n Folk,Ticketed Shows
ATTACH;FMTTYPE=image/jpeg:https://ionaheightsinn.com/wp-content/uploads/2021/11/Pretty-Archie-Cancel.jpg
GEO:45.9508304;-60.8147104
X-APPLE-STRUCTURED-LOCATION;VALUE=URI;X-ADDRESS=The Frolic’n Folk Pub & Grill 4115 HWY 223 Iona Nova Scotia B2C 1A3 Canada;X-APPLE-RADIUS=500;X-TITLE=4115 HWY 223:geo:-60.8147104,45.9508304
END:VEVENT
END:VCALENDAR