BEGIN:VCALENDAR
VERSION:2.0
PRODID:-//The Iona Heights Inn - ECPv6.15.20//NONSGML v1.0//EN
CALSCALE:GREGORIAN
METHOD:PUBLISH
X-WR-CALNAME:The Iona Heights Inn
X-ORIGINAL-URL:https://ionaheightsinn.com
X-WR-CALDESC:Events for The Iona Heights Inn
REFRESH-INTERVAL;VALUE=DURATION:PT1H
X-Robots-Tag:noindex
X-PUBLISHED-TTL:PT1H
BEGIN:VTIMEZONE
TZID:America/Halifax
BEGIN:DAYLIGHT
TZOFFSETFROM:-0400
TZOFFSETTO:-0300
TZNAME:ADT
DTSTART:20250309T060000
END:DAYLIGHT
BEGIN:STANDARD
TZOFFSETFROM:-0300
TZOFFSETTO:-0400
TZNAME:AST
DTSTART:20251102T050000
END:STANDARD
BEGIN:DAYLIGHT
TZOFFSETFROM:-0400
TZOFFSETTO:-0300
TZNAME:ADT
DTSTART:20260308T060000
END:DAYLIGHT
BEGIN:STANDARD
TZOFFSETFROM:-0300
TZOFFSETTO:-0400
TZNAME:AST
DTSTART:20261101T050000
END:STANDARD
BEGIN:DAYLIGHT
TZOFFSETFROM:-0400
TZOFFSETTO:-0300
TZNAME:ADT
DTSTART:20270314T060000
END:DAYLIGHT
BEGIN:STANDARD
TZOFFSETFROM:-0300
TZOFFSETTO:-0400
TZNAME:AST
DTSTART:20271107T050000
END:STANDARD
END:VTIMEZONE
BEGIN:VEVENT
DTSTART;TZID=America/Halifax:20260508T200000
DTEND;TZID=America/Halifax:20260508T220000
DTSTAMP:20260422T194908
CREATED:20260330T144634Z
LAST-MODIFIED:20260330T144634Z
UID:10003726-1778270400-1778277600@ionaheightsinn.com
SUMMARY:The Back Pack
DESCRIPTION:The Back Pack is a band from Sydney\, Nova Scotia\, known for their incredibly smooth and funky sounds. The group uses live looping to seamlessly blend vocal harmonies with both real and synthesized instruments. The “pack” is full of Viktor Dugandzic\, Jeff Shaw\, Ed Woodsworth\, and Steve Luxton. Their sets are marked by tight grooves that get people moving\, and instrumentation that gets you grooving.\nhttps://ionaheightsinn.com/wp-content/uploads/2026/03/TBP.mp4
URL:https://ionaheightsinn.com/eventing/the-back-pack/
LOCATION:The Frolic’n Folk Pub & Grill\, 4115 HWY 223\, Iona\, Nova Scotia\, B2C 1A3\, Canada
CATEGORIES:Events at The Frolic'n Folk,Ticketed Shows
ATTACH;FMTTYPE=image/jpeg:https://ionaheightsinn.com/wp-content/uploads/2026/03/The-Backpack.jpg
ORGANIZER;CN="The Frolic'n Folk":MAILTO:frolic@ionaheightsinn.com
GEO:45.9508304;-60.8147104
X-APPLE-STRUCTURED-LOCATION;VALUE=URI;X-ADDRESS=The Frolic’n Folk Pub & Grill 4115 HWY 223 Iona Nova Scotia B2C 1A3 Canada;X-APPLE-RADIUS=500;X-TITLE=4115 HWY 223:geo:-60.8147104,45.9508304
END:VEVENT
END:VCALENDAR