BEGIN:VCALENDAR
VERSION:2.0
PRODID:-//The Iona Heights Inn - ECPv6.15.20//NONSGML v1.0//EN
CALSCALE:GREGORIAN
METHOD:PUBLISH
X-ORIGINAL-URL:https://ionaheightsinn.com
X-WR-CALDESC:Events for The Iona Heights Inn
REFRESH-INTERVAL;VALUE=DURATION:PT1H
X-Robots-Tag:noindex
X-PUBLISHED-TTL:PT1H
BEGIN:VTIMEZONE
TZID:America/Halifax
BEGIN:DAYLIGHT
TZOFFSETFROM:-0400
TZOFFSETTO:-0300
TZNAME:ADT
DTSTART:20230312T060000
END:DAYLIGHT
BEGIN:STANDARD
TZOFFSETFROM:-0300
TZOFFSETTO:-0400
TZNAME:AST
DTSTART:20231105T050000
END:STANDARD
BEGIN:DAYLIGHT
TZOFFSETFROM:-0400
TZOFFSETTO:-0300
TZNAME:ADT
DTSTART:20240310T060000
END:DAYLIGHT
BEGIN:STANDARD
TZOFFSETFROM:-0300
TZOFFSETTO:-0400
TZNAME:AST
DTSTART:20241103T050000
END:STANDARD
BEGIN:DAYLIGHT
TZOFFSETFROM:-0400
TZOFFSETTO:-0300
TZNAME:ADT
DTSTART:20250309T060000
END:DAYLIGHT
BEGIN:STANDARD
TZOFFSETFROM:-0300
TZOFFSETTO:-0400
TZNAME:AST
DTSTART:20251102T050000
END:STANDARD
END:VTIMEZONE
BEGIN:VEVENT
DTSTART;TZID=America/Halifax:20240613T200000
DTEND;TZID=America/Halifax:20240613T220000
DTSTAMP:20260425T194730
CREATED:20240125T141835Z
LAST-MODIFIED:20240125T142054Z
UID:10003057-1718308800-1718316000@ionaheightsinn.com
SUMMARY:Trivia Night at The Frolic
DESCRIPTION:Come test your wits & win prizes!\n3 Rounds – 12 general knowledge questions each round. \nPlay solo\, or form a team. Funniest team name gets showered with accolades.\nHosted by your man – Ruarí Aonghas Lonce Murphy\, every Thursday Night
URL:https://ionaheightsinn.com/eventing/trivia-night-at-the-frolic-2-2/2024-06-13/
LOCATION:The Frolic’n Folk Pub & Grill\, 4115 HWY 223\, Iona\, Nova Scotia\, B2C 1A3\, Canada
CATEGORIES:Events at The Frolic'n Folk
ATTACH;FMTTYPE=image/jpeg:https://ionaheightsinn.com/wp-content/uploads/2022/02/Trivia-Night.jpg
ORGANIZER;CN="The Frolic'n Folk":MAILTO:frolic@ionaheightsinn.com
GEO:45.9508304;-60.8147104
X-APPLE-STRUCTURED-LOCATION;VALUE=URI;X-ADDRESS=The Frolic’n Folk Pub & Grill 4115 HWY 223 Iona Nova Scotia B2C 1A3 Canada;X-APPLE-RADIUS=500;X-TITLE=4115 HWY 223:geo:-60.8147104,45.9508304
END:VEVENT
BEGIN:VEVENT
DTSTART;TZID=America/Halifax:20240614T200000
DTEND;TZID=America/Halifax:20240614T220000
DTSTAMP:20260425T194730
CREATED:20240510T184353Z
LAST-MODIFIED:20240510T184732Z
UID:10003376-1718395200-1718402400@ionaheightsinn.com
SUMMARY:Songwriters Circle
DESCRIPTION:Jordan Musycsyn\, Elyse Aeryn & Brian Cathcart\nAfter a sold out songwriters circle in April\, Jordan Musycsyn\, Elyse Aeryn and Brian Cathcart decided to take the show on the road to beautiful Iona. Join us on June 14th for an evening of stories and songs with 3 of Cape Breton’s finest songwriters. \nJordan is a hard-working singer/songwriter and a masterful storyteller\, writing songs about life and love with pathos and humor in a Folk/Americana style. He sustains a busy touring schedule throughout Canada in support of his third album ‘Around The Fire’ which won him an ECMA in 2021. His sophomore album ‘Old State Of Mind’ (2017) was nominated for a Music Nova Scotia award for best Americana album of the year. Drawing on his own life experiences he writes relatable songs of love\, loss and the human condition. A dynamic performer\, Jordan moves the audience from laughter to tears and back again. His first album ‘The Pitch’ (released in the fall of 2014) was nominated for 2 Music Nova Scotia awards.  He has toured across Canada many times playing his songs solo and with his band. He has played the majority of the major music festivals in Atlantic Canada such as ‘Stan Rogers Folk Festival’\, ‘Cavendish Beach Festival’\, Celtic Colours Festival’ and the ‘Evolve Music Festival’.  He also writes\, performs and tours with the ‘Cape Breton Summertime Revue’ and ‘Tis The Season’ annually since 2015. \nSinger-songwriter Elyse Aeryn is known for her fiery and rebellious rock and roll. Her soulful melodies paired with her bold\, warm voice make for an authentic and ageless sound. From supporting names like Amanda Marshall and Blue Rodeo to being named one of five JUNO Wavemaker Ambassadors for the 2024 JUNOs in Halifax\, Elyse is making a name for herself with her dynamic\, high-energy live show. Her debut album “Joy State of Mind” won Music Nova Scotia’s Country Recording of the Year and earned an East Coast Music Award nomination for Rock Recording of the Year. \nBrian Cathcart is the lead singer for the ECMA nominated group Pretty Archie. Known for his high energy performances\, Brian will have you on your feet and singing along. \nOpen in Spotify \nOpen in Spotify \nOpen in Spotify
URL:https://ionaheightsinn.com/eventing/songwriters-circle-5/
LOCATION:The Frolic’n Folk Pub & Grill\, 4115 HWY 223\, Iona\, Nova Scotia\, B2C 1A3\, Canada
CATEGORIES:Events at The Frolic'n Folk,Ticketed Shows
ATTACH;FMTTYPE=image/jpeg:https://ionaheightsinn.com/wp-content/uploads/2024/05/SWC.jpg
ORGANIZER;CN="The Frolic'n Folk":MAILTO:frolic@ionaheightsinn.com
GEO:45.9508304;-60.8147104
X-APPLE-STRUCTURED-LOCATION;VALUE=URI;X-ADDRESS=The Frolic’n Folk Pub & Grill 4115 HWY 223 Iona Nova Scotia B2C 1A3 Canada;X-APPLE-RADIUS=500;X-TITLE=4115 HWY 223:geo:-60.8147104,45.9508304
END:VEVENT
BEGIN:VEVENT
DTSTART;TZID=America/Halifax:20240615T170000
DTEND;TZID=America/Halifax:20240615T200000
DTSTAMP:20260425T194730
CREATED:20240125T142311Z
LAST-MODIFIED:20240125T142523Z
UID:10003336-1718470800-1718481600@ionaheightsinn.com
SUMMARY:Céilidh Matinee
DESCRIPTION:Get a taste of local celtic music & culture with our Saturday ceilidhs (kay-lee). \nExpect to see world-renowned talent & budding entertainers from all over our native Cape Breton. \nGeneral admission seating ranging from $5-$10 \nFirst come first serve at the pub. No reservations. Minors allowed up until 10PM
URL:https://ionaheightsinn.com/eventing/ceilidh-matinee-3-2/2024-06-15/
LOCATION:The Frolic’n Folk Pub & Grill\, 4115 HWY 223\, Iona\, Nova Scotia\, B2C 1A3\, Canada
CATEGORIES:Events at The Frolic'n Folk
ATTACH;FMTTYPE=image/jpeg:https://ionaheightsinn.com/wp-content/uploads/2022/02/Ceilidh-Saturdays.jpg
ORGANIZER;CN="The Frolic'n Folk":MAILTO:frolic@ionaheightsinn.com
GEO:45.9508304;-60.8147104
X-APPLE-STRUCTURED-LOCATION;VALUE=URI;X-ADDRESS=The Frolic’n Folk Pub & Grill 4115 HWY 223 Iona Nova Scotia B2C 1A3 Canada;X-APPLE-RADIUS=500;X-TITLE=4115 HWY 223:geo:-60.8147104,45.9508304
END:VEVENT
BEGIN:VEVENT
DTSTART;TZID=America/Halifax:20240616T163000
DTEND;TZID=America/Halifax:20240616T193000
DTSTAMP:20260425T194730
CREATED:20240125T141001Z
LAST-MODIFIED:20240125T141356Z
UID:10003298-1718555400-1718566200@ionaheightsinn.com
SUMMARY:Cape Breton Celtic Trad Sessions
DESCRIPTION:Come and enjoy a casual gathering of musicians who have come together to play traditional Cape Breton celtic music. \nAnyone is welcome to join in\, or just sit back and enjoy the tunes. \nSundays at The Frolic 430 – 730pm \nFull kitchen and bar service. \nMinors allowed till 10pm \n 
URL:https://ionaheightsinn.com/eventing/cape-breton-celtic-trad-sessions-2/2024-06-16/
LOCATION:The Frolic’n Folk Pub & Grill\, 4115 HWY 223\, Iona\, Nova Scotia\, B2C 1A3\, Canada
CATEGORIES:Events at The Frolic'n Folk
ATTACH;FMTTYPE=image/jpeg:https://ionaheightsinn.com/wp-content/uploads/2022/03/Trad-Sessions.jpg
ORGANIZER;CN="The Frolic'n Folk":MAILTO:frolic@ionaheightsinn.com
GEO:45.9508304;-60.8147104
X-APPLE-STRUCTURED-LOCATION;VALUE=URI;X-ADDRESS=The Frolic’n Folk Pub & Grill 4115 HWY 223 Iona Nova Scotia B2C 1A3 Canada;X-APPLE-RADIUS=500;X-TITLE=4115 HWY 223:geo:-60.8147104,45.9508304
END:VEVENT
END:VCALENDAR