BEGIN:VCALENDAR
VERSION:2.0
PRODID:-//The Iona Heights Inn - ECPv6.15.20//NONSGML v1.0//EN
CALSCALE:GREGORIAN
METHOD:PUBLISH
X-WR-CALNAME:The Iona Heights Inn
X-ORIGINAL-URL:https://ionaheightsinn.com
X-WR-CALDESC:Events for The Iona Heights Inn
REFRESH-INTERVAL;VALUE=DURATION:PT1H
X-Robots-Tag:noindex
X-PUBLISHED-TTL:PT1H
BEGIN:VTIMEZONE
TZID:America/Halifax
BEGIN:DAYLIGHT
TZOFFSETFROM:-0400
TZOFFSETTO:-0300
TZNAME:ADT
DTSTART:20240310T060000
END:DAYLIGHT
BEGIN:STANDARD
TZOFFSETFROM:-0300
TZOFFSETTO:-0400
TZNAME:AST
DTSTART:20241103T050000
END:STANDARD
BEGIN:DAYLIGHT
TZOFFSETFROM:-0400
TZOFFSETTO:-0300
TZNAME:ADT
DTSTART:20250309T060000
END:DAYLIGHT
BEGIN:STANDARD
TZOFFSETFROM:-0300
TZOFFSETTO:-0400
TZNAME:AST
DTSTART:20251102T050000
END:STANDARD
BEGIN:DAYLIGHT
TZOFFSETFROM:-0400
TZOFFSETTO:-0300
TZNAME:ADT
DTSTART:20260308T060000
END:DAYLIGHT
BEGIN:STANDARD
TZOFFSETFROM:-0300
TZOFFSETTO:-0400
TZNAME:AST
DTSTART:20261101T050000
END:STANDARD
END:VTIMEZONE
BEGIN:VEVENT
DTSTART;TZID=America/Halifax:20250802T170000
DTEND;TZID=America/Halifax:20250802T200000
DTSTAMP:20260423T073416
CREATED:20250115T004507Z
LAST-MODIFIED:20251019T003437Z
UID:10003463-1754154000-1754164800@ionaheightsinn.com
SUMMARY:Céilidh Matinee
DESCRIPTION:Get a taste of local celtic music & culture with our Saturday ceilidhs (kay-lee). \nExpect to see world-renowned talent & budding entertainers from all over our native Cape Breton. \nGeneral admission seating $5 cover \nFirst come first serve at the pub. No reservations. Minors allowed up until 10PM
URL:https://ionaheightsinn.com/eventing/ceilidh-matinee-25/2025-08-02/
LOCATION:The Frolic’n Folk Pub & Grill\, 4115 HWY 223\, Iona\, Nova Scotia\, B2C 1A3\, Canada
CATEGORIES:Events at The Frolic'n Folk
ATTACH;FMTTYPE=image/jpeg:https://ionaheightsinn.com/wp-content/uploads/2022/02/Ceilidh-Saturdays.jpg
ORGANIZER;CN="The Frolic'n Folk":MAILTO:frolic@ionaheightsinn.com
GEO:45.9508304;-60.8147104
X-APPLE-STRUCTURED-LOCATION;VALUE=URI;X-ADDRESS=The Frolic’n Folk Pub & Grill 4115 HWY 223 Iona Nova Scotia B2C 1A3 Canada;X-APPLE-RADIUS=500;X-TITLE=4115 HWY 223:geo:-60.8147104,45.9508304
END:VEVENT
BEGIN:VEVENT
DTSTART;TZID=America/Halifax:20250809T170000
DTEND;TZID=America/Halifax:20250809T200000
DTSTAMP:20260423T073416
CREATED:20250115T004507Z
LAST-MODIFIED:20251019T003437Z
UID:10003464-1754758800-1754769600@ionaheightsinn.com
SUMMARY:Céilidh Matinee
DESCRIPTION:Get a taste of local celtic music & culture with our Saturday ceilidhs (kay-lee). \nExpect to see world-renowned talent & budding entertainers from all over our native Cape Breton. \nGeneral admission seating $5 cover \nFirst come first serve at the pub. No reservations. Minors allowed up until 10PM
URL:https://ionaheightsinn.com/eventing/ceilidh-matinee-25/2025-08-09/
LOCATION:The Frolic’n Folk Pub & Grill\, 4115 HWY 223\, Iona\, Nova Scotia\, B2C 1A3\, Canada
CATEGORIES:Events at The Frolic'n Folk
ATTACH;FMTTYPE=image/jpeg:https://ionaheightsinn.com/wp-content/uploads/2022/02/Ceilidh-Saturdays.jpg
ORGANIZER;CN="The Frolic'n Folk":MAILTO:frolic@ionaheightsinn.com
GEO:45.9508304;-60.8147104
X-APPLE-STRUCTURED-LOCATION;VALUE=URI;X-ADDRESS=The Frolic’n Folk Pub & Grill 4115 HWY 223 Iona Nova Scotia B2C 1A3 Canada;X-APPLE-RADIUS=500;X-TITLE=4115 HWY 223:geo:-60.8147104,45.9508304
END:VEVENT
BEGIN:VEVENT
DTSTART;TZID=America/Halifax:20250812T200000
DTEND;TZID=America/Halifax:20250812T220000
DTSTAMP:20260423T073416
CREATED:20250518T150204Z
LAST-MODIFIED:20250528T144452Z
UID:10003530-1755028800-1755036000@ionaheightsinn.com
SUMMARY:East Pointers Redux
DESCRIPTION:Adding to their volumes of East Coast myth-making\, The East Pointers’ forthcoming anthology of celebratory anthems and incendiary tune sets is a natural evolution of playing to ‘hometown’ crowds of thousands the world over\, full family kitchen parties and an honest reckoning with heartbreak and victory.\nStill channeling Koady Chaisson as a writing partner\, Tim Chaisson (fiddle\, vocals\, guitar) and Jake Charron (keys\, guitar\, vocals) have alchemised the love\, grief and experience of years of musical map-making\, traveling\, partying and friendship into an album that captures heroic joy\, sharp pain\, courageous expansion\, lonely challenges and triumphant homecoming. \nIn their ten year career\, The East Pointers have gathered many accolades\, winning a JUNO for their debut album Secret Victory and further nominations for their double EP House of Dreams and Safe in Sound\, and multiple East Coast Music and Music PEI awards. Alongside traveling the world and supporting their community through such initiatives as Koady’s Stay Cool Swim Cold challenge\, which has raised thousands of dollars for diverse charities\, and Annedemic: The East Pointers and Friends Read Anne of Green Gables\, they are also the founding directors of Goolaholla! festival\, a gift of love and music to Tim and Koady’s hometown of Souris. \nTheir base in Canada’s smallest province\, Prince Edward Island\, provides both inspiration and challenge\, and a sensibility tempered by grueling winters\, short-lived golden summers and a tight-knit community of some of the best songwriters and musicians in the world. Confidently grounded by the band’s traditional roots and spotlighting their most honest songwriting to date in an album that is jubilant\, entrancing and frank by turns\, The East Pointers continue their legacy of packing the dancefloor while celebrating the Sisyphian task of being human. \nOpen in Spotify \nOpen in Spotify \nOpen in Spotify
URL:https://ionaheightsinn.com/eventing/east-pointers-redux/
LOCATION:The Frolic’n Folk Pub & Grill\, 4115 HWY 223\, Iona\, Nova Scotia\, B2C 1A3\, Canada
CATEGORIES:Events at The Frolic'n Folk,Ticketed Shows
ATTACH;FMTTYPE=image/jpeg:https://ionaheightsinn.com/wp-content/uploads/2025/05/East-Pointers.jpg
ORGANIZER;CN="The Frolic'n Folk":MAILTO:frolic@ionaheightsinn.com
GEO:45.9508304;-60.8147104
X-APPLE-STRUCTURED-LOCATION;VALUE=URI;X-ADDRESS=The Frolic’n Folk Pub & Grill 4115 HWY 223 Iona Nova Scotia B2C 1A3 Canada;X-APPLE-RADIUS=500;X-TITLE=4115 HWY 223:geo:-60.8147104,45.9508304
END:VEVENT
BEGIN:VEVENT
DTSTART;TZID=America/Halifax:20250813T200000
DTEND;TZID=America/Halifax:20250813T220000
DTSTAMP:20260423T073416
CREATED:20250513T120021Z
LAST-MODIFIED:20250813T143121Z
UID:10003526-1755115200-1755122400@ionaheightsinn.com
SUMMARY:The East Pointers
DESCRIPTION:Adding to their volumes of East Coast myth-making\, The East Pointers’ forthcoming anthology of celebratory anthems and incendiary tune sets is a natural evolution of playing to ‘hometown’ crowds of thousands the world over\, full family kitchen parties and an honest reckoning with heartbreak and victory.\nStill channeling Koady Chaisson as a writing partner\, Tim Chaisson (fiddle\, vocals\, guitar) and Jake Charron (keys\, guitar\, vocals) have alchemised the love\, grief and experience of years of musical map-making\, traveling\, partying and friendship into an album that captures heroic joy\, sharp pain\, courageous expansion\, lonely challenges and triumphant homecoming. \nIn their ten year career\, The East Pointers have gathered many accolades\, winning a JUNO for their debut album Secret Victory and further nominations for their double EP House of Dreams and Safe in Sound\, and multiple East Coast Music and Music PEI awards. Alongside traveling the world and supporting their community through such initiatives as Koady’s Stay Cool Swim Cold challenge\, which has raised thousands of dollars for diverse charities\, and Annedemic: The East Pointers and Friends Read Anne of Green Gables\, they are also the founding directors of Goolaholla! festival\, a gift of love and music to Tim and Koady’s hometown of Souris. \nTheir base in Canada’s smallest province\, Prince Edward Island\, provides both inspiration and challenge\, and a sensibility tempered by grueling winters\, short-lived golden summers and a tight-knit community of some of the best songwriters and musicians in the world. Confidently grounded by the band’s traditional roots and spotlighting their most honest songwriting to date in an album that is jubilant\, entrancing and frank by turns\, The East Pointers continue their legacy of packing the dancefloor while celebrating the Sisyphian task of being human. \nOpen in Spotify \nOpen in Spotify \nOpen in Spotify
URL:https://ionaheightsinn.com/eventing/the-east-pointers/
LOCATION:The Frolic’n Folk Pub & Grill\, 4115 HWY 223\, Iona\, Nova Scotia\, B2C 1A3\, Canada
CATEGORIES:Events at The Frolic'n Folk,Ticketed Shows
ATTACH;FMTTYPE=image/jpeg:https://ionaheightsinn.com/wp-content/uploads/2025/05/East-Pointers.jpg
ORGANIZER;CN="The Frolic'n Folk":MAILTO:frolic@ionaheightsinn.com
GEO:45.9508304;-60.8147104
X-APPLE-STRUCTURED-LOCATION;VALUE=URI;X-ADDRESS=The Frolic’n Folk Pub & Grill 4115 HWY 223 Iona Nova Scotia B2C 1A3 Canada;X-APPLE-RADIUS=500;X-TITLE=4115 HWY 223:geo:-60.8147104,45.9508304
END:VEVENT
BEGIN:VEVENT
DTSTART;TZID=America/Halifax:20250816T170000
DTEND;TZID=America/Halifax:20250816T200000
DTSTAMP:20260423T073417
CREATED:20250115T004507Z
LAST-MODIFIED:20251019T003437Z
UID:10003465-1755363600-1755374400@ionaheightsinn.com
SUMMARY:Céilidh Matinee
DESCRIPTION:Get a taste of local celtic music & culture with our Saturday ceilidhs (kay-lee). \nExpect to see world-renowned talent & budding entertainers from all over our native Cape Breton. \nGeneral admission seating $5 cover \nFirst come first serve at the pub. No reservations. Minors allowed up until 10PM
URL:https://ionaheightsinn.com/eventing/ceilidh-matinee-25/2025-08-16/
LOCATION:The Frolic’n Folk Pub & Grill\, 4115 HWY 223\, Iona\, Nova Scotia\, B2C 1A3\, Canada
CATEGORIES:Events at The Frolic'n Folk
ATTACH;FMTTYPE=image/jpeg:https://ionaheightsinn.com/wp-content/uploads/2022/02/Ceilidh-Saturdays.jpg
ORGANIZER;CN="The Frolic'n Folk":MAILTO:frolic@ionaheightsinn.com
GEO:45.9508304;-60.8147104
X-APPLE-STRUCTURED-LOCATION;VALUE=URI;X-ADDRESS=The Frolic’n Folk Pub & Grill 4115 HWY 223 Iona Nova Scotia B2C 1A3 Canada;X-APPLE-RADIUS=500;X-TITLE=4115 HWY 223:geo:-60.8147104,45.9508304
END:VEVENT
BEGIN:VEVENT
DTSTART;TZID=America/Halifax:20250823T170000
DTEND;TZID=America/Halifax:20250823T200000
DTSTAMP:20260423T073417
CREATED:20250115T004507Z
LAST-MODIFIED:20251019T003437Z
UID:10003466-1755968400-1755979200@ionaheightsinn.com
SUMMARY:Céilidh Matinee
DESCRIPTION:Get a taste of local celtic music & culture with our Saturday ceilidhs (kay-lee). \nExpect to see world-renowned talent & budding entertainers from all over our native Cape Breton. \nGeneral admission seating $5 cover \nFirst come first serve at the pub. No reservations. Minors allowed up until 10PM
URL:https://ionaheightsinn.com/eventing/ceilidh-matinee-25/2025-08-23/
LOCATION:The Frolic’n Folk Pub & Grill\, 4115 HWY 223\, Iona\, Nova Scotia\, B2C 1A3\, Canada
CATEGORIES:Events at The Frolic'n Folk
ATTACH;FMTTYPE=image/jpeg:https://ionaheightsinn.com/wp-content/uploads/2022/02/Ceilidh-Saturdays.jpg
ORGANIZER;CN="The Frolic'n Folk":MAILTO:frolic@ionaheightsinn.com
GEO:45.9508304;-60.8147104
X-APPLE-STRUCTURED-LOCATION;VALUE=URI;X-ADDRESS=The Frolic’n Folk Pub & Grill 4115 HWY 223 Iona Nova Scotia B2C 1A3 Canada;X-APPLE-RADIUS=500;X-TITLE=4115 HWY 223:geo:-60.8147104,45.9508304
END:VEVENT
BEGIN:VEVENT
DTSTART;TZID=America/Halifax:20250830T170000
DTEND;TZID=America/Halifax:20250830T200000
DTSTAMP:20260423T073417
CREATED:20250115T004507Z
LAST-MODIFIED:20251019T003437Z
UID:10003467-1756573200-1756584000@ionaheightsinn.com
SUMMARY:Céilidh Matinee
DESCRIPTION:Get a taste of local celtic music & culture with our Saturday ceilidhs (kay-lee). \nExpect to see world-renowned talent & budding entertainers from all over our native Cape Breton. \nGeneral admission seating $5 cover \nFirst come first serve at the pub. No reservations. Minors allowed up until 10PM
URL:https://ionaheightsinn.com/eventing/ceilidh-matinee-25/2025-08-30/
LOCATION:The Frolic’n Folk Pub & Grill\, 4115 HWY 223\, Iona\, Nova Scotia\, B2C 1A3\, Canada
CATEGORIES:Events at The Frolic'n Folk
ATTACH;FMTTYPE=image/jpeg:https://ionaheightsinn.com/wp-content/uploads/2022/02/Ceilidh-Saturdays.jpg
ORGANIZER;CN="The Frolic'n Folk":MAILTO:frolic@ionaheightsinn.com
GEO:45.9508304;-60.8147104
X-APPLE-STRUCTURED-LOCATION;VALUE=URI;X-ADDRESS=The Frolic’n Folk Pub & Grill 4115 HWY 223 Iona Nova Scotia B2C 1A3 Canada;X-APPLE-RADIUS=500;X-TITLE=4115 HWY 223:geo:-60.8147104,45.9508304
END:VEVENT
END:VCALENDAR