BEGIN:VCALENDAR
VERSION:2.0
PRODID:-//The Iona Heights Inn - ECPv6.15.20//NONSGML v1.0//EN
CALSCALE:GREGORIAN
METHOD:PUBLISH
X-ORIGINAL-URL:https://ionaheightsinn.com
X-WR-CALDESC:Events for The Iona Heights Inn
REFRESH-INTERVAL;VALUE=DURATION:PT1H
X-Robots-Tag:noindex
X-PUBLISHED-TTL:PT1H
BEGIN:VTIMEZONE
TZID:America/Halifax
BEGIN:DAYLIGHT
TZOFFSETFROM:-0400
TZOFFSETTO:-0300
TZNAME:ADT
DTSTART:20220313T060000
END:DAYLIGHT
BEGIN:STANDARD
TZOFFSETFROM:-0300
TZOFFSETTO:-0400
TZNAME:AST
DTSTART:20221106T050000
END:STANDARD
BEGIN:DAYLIGHT
TZOFFSETFROM:-0400
TZOFFSETTO:-0300
TZNAME:ADT
DTSTART:20230312T060000
END:DAYLIGHT
BEGIN:STANDARD
TZOFFSETFROM:-0300
TZOFFSETTO:-0400
TZNAME:AST
DTSTART:20231105T050000
END:STANDARD
BEGIN:DAYLIGHT
TZOFFSETFROM:-0400
TZOFFSETTO:-0300
TZNAME:ADT
DTSTART:20240310T060000
END:DAYLIGHT
BEGIN:STANDARD
TZOFFSETFROM:-0300
TZOFFSETTO:-0400
TZNAME:AST
DTSTART:20241103T050000
END:STANDARD
END:VTIMEZONE
BEGIN:VEVENT
DTSTART;TZID=America/Halifax:20230802T200000
DTEND;TZID=America/Halifax:20230802T220000
DTSTAMP:20260425T182056
CREATED:20230613T151500Z
LAST-MODIFIED:20230628T135808Z
UID:10003279-1691006400-1691013600@ionaheightsinn.com
SUMMARY:Lucy MacNeil with Rob Durando\, Boyd MacNeil & Lisa MacArthur
DESCRIPTION:Lucy MacNeil is a singer\, multi instrumentalist and step dancer from Cape Breton Island. She plays Fiddle\, Celtic Harp\, and Bodhran. Lucy has been performing with the Barra MacNeils for more than 36 years. They come from a long tradition of Cape Breton music and dance that has been the foundation of their creative pursuits over their musical career.\nAlongside her brothers she has travelled to Europe\, Scotland\, England\, Wales\, Ireland\, the United States\, Barbados\, throughout Canada from Fogo Island\, Nfld. to Iqualuit to Vancouver island.\nThe Barras recorded their first self titled album in 1986 and have continued making music\, touring and recording throughout the years. During the 1990’s they were signed with record label Poly Dor and Opened for Celine Dion\, Kenny Rogers and were special guests on two of Rita MacNeils’ Christmas specials.\nIn 2015 Lucy was one of the artists in residence for the “Celtic Colours International Music Festival”. Here she was paired with Liz Doherty from Buncrana\, Ireland to help select musicians and musical selections together for performances during the festival. It was a wonderful experience for both Lucy and the audiences who came to Celtic Colours and those that watched the online streaming shows.\nIn 2014 and 2017 Lucy was a special guest with Symphony Nova Scotia for their Rita MacNeil tribute concert with guests The Men of the Deeps. In 2021 she was invited back for the Symphony Nova Scotia Fusion sessions. For these three concerts she performed with conductor Scott MacMillan\, Symphony Nova Scotia.\nLucy has also teamed up with Bette MacDonald\, Jenn Sheppard and Heather Rankin as The Island Girls. They toured the Maritimes in 2022 to enthusiastic audiences and look to do more dates in the future.\nDuring the pandemic which was a very quiet time for many Lucy started working on a solo album. Something she had wanted to do but the time never presented itself. She also felt in these uncertain times watching a world that was going through immense change and upheaval she wanted to leave something behind of herself and her lifetime attachment to traditional music and song.\nIn October of 2021 Lucy released her first single  “Hope For One and All” and is now looking at a release date for her album\,\n“Angels Whisper”  early this summer. \n  \n \n 
URL:https://ionaheightsinn.com/eventing/lucy-macneil-3/
LOCATION:The Frolic’n Folk Pub & Grill\, 4115 HWY 223\, Iona\, Nova Scotia\, B2C 1A3\, Canada
CATEGORIES:Events at The Frolic'n Folk,Ticketed Shows
ATTACH;FMTTYPE=image/jpeg:https://ionaheightsinn.com/wp-content/uploads/2023/06/Lucy-Macneil-Sold-Out.jpg
ORGANIZER;CN="The Frolic'n Folk":MAILTO:frolic@ionaheightsinn.com
GEO:45.9508304;-60.8147104
X-APPLE-STRUCTURED-LOCATION;VALUE=URI;X-ADDRESS=The Frolic’n Folk Pub & Grill 4115 HWY 223 Iona Nova Scotia B2C 1A3 Canada;X-APPLE-RADIUS=500;X-TITLE=4115 HWY 223:geo:-60.8147104,45.9508304
END:VEVENT
BEGIN:VEVENT
DTSTART;TZID=America/Halifax:20230805T170000
DTEND;TZID=America/Halifax:20230805T200000
DTSTAMP:20260425T182056
CREATED:20230125T135342Z
LAST-MODIFIED:20230125T135342Z
UID:10003111-1691254800-1691265600@ionaheightsinn.com
SUMMARY:Céilidh Matinee
DESCRIPTION:Get a taste of local celtic music & culture with our Saturday ceilidhs (kay-lee). \nExpect to see world-renowned talent & budding entertainers from all over our native Cape Breton. \nGeneral admission seating ranging from $5-$10 \nFirst come first serve at the pub. No reservations. Minors allowed up until 10PM
URL:https://ionaheightsinn.com/eventing/ceilidh-matinee-3/2023-08-05/
LOCATION:The Frolic’n Folk Pub & Grill\, 4115 HWY 223\, Iona\, Nova Scotia\, B2C 1A3\, Canada
CATEGORIES:Events at The Frolic'n Folk
ATTACH;FMTTYPE=image/jpeg:https://ionaheightsinn.com/wp-content/uploads/2022/02/Ceilidh-Saturdays.jpg
ORGANIZER;CN="The Frolic'n Folk":MAILTO:frolic@ionaheightsinn.com
GEO:45.9508304;-60.8147104
X-APPLE-STRUCTURED-LOCATION;VALUE=URI;X-ADDRESS=The Frolic’n Folk Pub & Grill 4115 HWY 223 Iona Nova Scotia B2C 1A3 Canada;X-APPLE-RADIUS=500;X-TITLE=4115 HWY 223:geo:-60.8147104,45.9508304
END:VEVENT
END:VCALENDAR