BEGIN:VCALENDAR
VERSION:2.0
PRODID:-//The Iona Heights Inn - ECPv6.15.20//NONSGML v1.0//EN
CALSCALE:GREGORIAN
METHOD:PUBLISH
X-ORIGINAL-URL:https://ionaheightsinn.com
X-WR-CALDESC:Events for The Iona Heights Inn
REFRESH-INTERVAL;VALUE=DURATION:PT1H
X-Robots-Tag:noindex
X-PUBLISHED-TTL:PT1H
BEGIN:VTIMEZONE
TZID:America/Halifax
BEGIN:DAYLIGHT
TZOFFSETFROM:-0400
TZOFFSETTO:-0300
TZNAME:ADT
DTSTART:20240310T060000
END:DAYLIGHT
BEGIN:STANDARD
TZOFFSETFROM:-0300
TZOFFSETTO:-0400
TZNAME:AST
DTSTART:20241103T050000
END:STANDARD
BEGIN:DAYLIGHT
TZOFFSETFROM:-0400
TZOFFSETTO:-0300
TZNAME:ADT
DTSTART:20250309T060000
END:DAYLIGHT
BEGIN:STANDARD
TZOFFSETFROM:-0300
TZOFFSETTO:-0400
TZNAME:AST
DTSTART:20251102T050000
END:STANDARD
BEGIN:DAYLIGHT
TZOFFSETFROM:-0400
TZOFFSETTO:-0300
TZNAME:ADT
DTSTART:20260308T060000
END:DAYLIGHT
BEGIN:STANDARD
TZOFFSETFROM:-0300
TZOFFSETTO:-0400
TZNAME:AST
DTSTART:20261101T050000
END:STANDARD
END:VTIMEZONE
BEGIN:VEVENT
DTSTART;TZID=America/Halifax:20250516T200000
DTEND;TZID=America/Halifax:20250516T200000
DTSTAMP:20260422T162145
CREATED:20250422T192638Z
LAST-MODIFIED:20250422T192733Z
UID:10003520-1747425600-1747425600@ionaheightsinn.com
SUMMARY:Songstresses Showcase
DESCRIPTION:~ presents ~\n  \nWomen are not just rising in the music industry—they are reshaping it. Wired Magazine predicts they will dominate\, dismantle\, and redefine the industry\, “anchoring the cultural conversation” and driving its future!\nAngela Macdonald : Based in Sydney\, NS\, Angela MacDonald\, is a singer-songwriter and guitar player whose music can be best described as indie/folk alternative. Following in the footsteps of her aunt\, Rita MacNeil\, who inspired her to write and invited her to share the stage on several occasions. Her work as a solo artist captures a timeless essence\, with a resonant\, powerful and haunting voice complimenting her lyrical songwriting style. \nSonnie Greening : In addition to her work in music industry development\, Sonnie is an emerging artist who has been evolving as a finger style guitarist and vocalist over the last three years\, performing both as a solo singer songwriter and as one half of The Brackish duo. Rooted in indie acoustic folk\, her style has branched into blues and rock with a gyspy jazz flair\, she approaches music as an opportunity to relate and connect over the less tangible aspects of the human condition. \nColette Deveaux : Colette writes and performs solo and as a part of the band The Claudias. Through her music she explores personal stories\, social issues\, and themes of love and life. Inspired by memories\, experiences\, and the lives of others\, her style is playful\, engaging\, and poignant—reflecting her keen ear for stories and details. \nAbbey Mullendore : A Lake Ainslie born sensation\, Abbey’s killer power rock vocals will take you right back to the 70s\, so it’s no surprise that she has been reprising Stevie Nicks\, note for note\, in the Classic Albums Live tour in addition to her solo work as a songwriter and being entrepreneur in local farming. Her mushrooms might not be magical\, but her voice is! \nStressed Out Charlee :This Ontario born jane of all trades and multi-instrumentalist is a solo singer songwriter on guitar with a voice that inspires 90’s nostalgia! In addition to her solo work\, she teaches youth dance classes\, upcycles local seaglass into wrap necklaces for her etsy shop\, and absolutely rocks lead vocals on the drum kit for Cape Breton born band\, Claverhouse! She is the living embodiment of soulful blues and uncompromising rock n’ roll.
URL:https://ionaheightsinn.com/eventing/songstresses-showcase/
LOCATION:The Frolic’n Folk Pub & Grill\, 4115 HWY 223\, Iona\, Nova Scotia\, B2C 1A3\, Canada
CATEGORIES:Events at The Frolic'n Folk,Ticketed Shows
ATTACH;FMTTYPE=image/jpeg:https://ionaheightsinn.com/wp-content/uploads/2025/04/Songstresses.jpg
ORGANIZER;CN="The Frolic'n Folk":MAILTO:frolic@ionaheightsinn.com
GEO:45.9508304;-60.8147104
X-APPLE-STRUCTURED-LOCATION;VALUE=URI;X-ADDRESS=The Frolic’n Folk Pub & Grill 4115 HWY 223 Iona Nova Scotia B2C 1A3 Canada;X-APPLE-RADIUS=500;X-TITLE=4115 HWY 223:geo:-60.8147104,45.9508304
END:VEVENT
END:VCALENDAR