BEGIN:VCALENDAR
VERSION:2.0
PRODID:-//The Iona Heights Inn - ECPv6.15.20//NONSGML v1.0//EN
CALSCALE:GREGORIAN
METHOD:PUBLISH
X-WR-CALNAME:The Iona Heights Inn
X-ORIGINAL-URL:https://ionaheightsinn.com
X-WR-CALDESC:Events for The Iona Heights Inn
REFRESH-INTERVAL;VALUE=DURATION:PT1H
X-Robots-Tag:noindex
X-PUBLISHED-TTL:PT1H
BEGIN:VTIMEZONE
TZID:America/Halifax
BEGIN:DAYLIGHT
TZOFFSETFROM:-0400
TZOFFSETTO:-0300
TZNAME:ADT
DTSTART:20230312T060000
END:DAYLIGHT
BEGIN:STANDARD
TZOFFSETFROM:-0300
TZOFFSETTO:-0400
TZNAME:AST
DTSTART:20231105T050000
END:STANDARD
BEGIN:DAYLIGHT
TZOFFSETFROM:-0400
TZOFFSETTO:-0300
TZNAME:ADT
DTSTART:20240310T060000
END:DAYLIGHT
BEGIN:STANDARD
TZOFFSETFROM:-0300
TZOFFSETTO:-0400
TZNAME:AST
DTSTART:20241103T050000
END:STANDARD
BEGIN:DAYLIGHT
TZOFFSETFROM:-0400
TZOFFSETTO:-0300
TZNAME:ADT
DTSTART:20250309T060000
END:DAYLIGHT
BEGIN:STANDARD
TZOFFSETFROM:-0300
TZOFFSETTO:-0400
TZNAME:AST
DTSTART:20251102T050000
END:STANDARD
END:VTIMEZONE
BEGIN:VEVENT
DTSTART;TZID=America/Halifax:20240723T200000
DTEND;TZID=America/Halifax:20240723T220000
DTSTAMP:20260424T170054
CREATED:20240426T233447Z
LAST-MODIFIED:20240426T233447Z
UID:10003372-1721764800-1721772000@ionaheightsinn.com
SUMMARY:The Town Heroes Redux
DESCRIPTION:Whether a sweaty rock show or an intimate acoustic environment\, The Town Heroes want you to be entertained. \nBorn and raised in small town Nova Scotia\, Mike Ryan and Bruce Gillis have played together for the past 10 years — touring the world\, releasing 5 critically acclaimed albums and winning an array of industry awards. Anthemic choruses\, danceable arrangements\, and tender falsettos highlight their catchy yet thoughtful songs. At heart\, a perfect soundtrack for contemplating life with a bounce in your step. \nMusically\, the band blends their 90’s alt-rock influences with singer-songwriter stylings in the vein of Neil Young or Ryan Adams. On stage they move like intense caricatures – soaked in sweat\, pushing every chord\, note and beat to the limit. A structured wall of sound emerges; familiar yet distinctive. Camaraderie shows in their musicianship\, their song-writing highlights what they are: friends playing music for the love of it\, in it for the long haul. \nThe band released their sixth full length album Home during the summer of 2021. \nHome is a concept album. The entirety of the storyline takes place over a two week period during a summer in Cape Breton. The 9 songs\, told from 3 different perspectives\, tell the chronological tale of coming home\, youth\, summer love\, and ultimately lost love. A father — longing for what he left behind — returns to his hometown after moving to San Francisco for work. A young “local” boy falls for his daughter\, a short romance ensues\, and the romance dies upon her inevitable return home. The album captures the energy and spirit of a youthful summer and coming of age. \n“The songs are filled with beautiful guitars\, great ringing notes over big pulsing washes or strong chords. It’s a post-New Wave sound\, energetic\, melodic and very urgent\, each song filled with drama and the feeling there’s something important being passed on. Topping all this is the passionate voice of Ryan\, often at the top end of his register. He ups the ante on songs such as Only One\, as he grows more intense as the song progresses\, matched by the sharp guitar lines and Gillis’ increased punch. It’s crazy-danceable\, hypnotic and haunting all at the same time\, even euphoric in places.” \n— Bob Mersereau\, The Top 100 Canadian Singles \nOpen in Spotify \nOpen in Spotify \nOpen in Spotify
URL:https://ionaheightsinn.com/eventing/the-town-heroes-redux/
LOCATION:The Frolic’n Folk Pub & Grill\, 4115 HWY 223\, Iona\, Nova Scotia\, B2C 1A3\, Canada
CATEGORIES:Events at The Frolic'n Folk,Ticketed Shows
ATTACH;FMTTYPE=image/jpeg:https://ionaheightsinn.com/wp-content/uploads/2024/04/The-Town-Heroes.jpg
ORGANIZER;CN="The Frolic'n Folk":MAILTO:frolic@ionaheightsinn.com
GEO:45.9508304;-60.8147104
X-APPLE-STRUCTURED-LOCATION;VALUE=URI;X-ADDRESS=The Frolic’n Folk Pub & Grill 4115 HWY 223 Iona Nova Scotia B2C 1A3 Canada;X-APPLE-RADIUS=500;X-TITLE=4115 HWY 223:geo:-60.8147104,45.9508304
END:VEVENT
BEGIN:VEVENT
DTSTART;TZID=America/Halifax:20240724T200000
DTEND;TZID=America/Halifax:20240724T220000
DTSTAMP:20260424T170054
CREATED:20240417T125401Z
LAST-MODIFIED:20240417T125401Z
UID:10003370-1721851200-1721858400@ionaheightsinn.com
SUMMARY:The Town Heroes
DESCRIPTION:Whether a sweaty rock show or an intimate acoustic environment\, The Town Heroes want you to be entertained. \nBorn and raised in small town Nova Scotia\, Mike Ryan and Bruce Gillis have played together for the past 10 years — touring the world\, releasing 5 critically acclaimed albums and winning an array of industry awards. Anthemic choruses\, danceable arrangements\, and tender falsettos highlight their catchy yet thoughtful songs. At heart\, a perfect soundtrack for contemplating life with a bounce in your step. \nMusically\, the band blends their 90’s alt-rock influences with singer-songwriter stylings in the vein of Neil Young or Ryan Adams. On stage they move like intense caricatures – soaked in sweat\, pushing every chord\, note and beat to the limit. A structured wall of sound emerges; familiar yet distinctive. Camaraderie shows in their musicianship\, their song-writing highlights what they are: friends playing music for the love of it\, in it for the long haul. \nThe band released their sixth full length album Home during the summer of 2021. \nHome is a concept album. The entirety of the storyline takes place over a two week period during a summer in Cape Breton. The 9 songs\, told from 3 different perspectives\, tell the chronological tale of coming home\, youth\, summer love\, and ultimately lost love. A father — longing for what he left behind — returns to his hometown after moving to San Francisco for work. A young “local” boy falls for his daughter\, a short romance ensues\, and the romance dies upon her inevitable return home. The album captures the energy and spirit of a youthful summer and coming of age. \n“The songs are filled with beautiful guitars\, great ringing notes over big pulsing washes or strong chords. It’s a post-New Wave sound\, energetic\, melodic and very urgent\, each song filled with drama and the feeling there’s something important being passed on. Topping all this is the passionate voice of Ryan\, often at the top end of his register. He ups the ante on songs such as Only One\, as he grows more intense as the song progresses\, matched by the sharp guitar lines and Gillis’ increased punch. It’s crazy-danceable\, hypnotic and haunting all at the same time\, even euphoric in places.” \n— Bob Mersereau\, The Top 100 Canadian Singles \nOpen in Spotify \nOpen in Spotify \nOpen in Spotify
URL:https://ionaheightsinn.com/eventing/the-town-heroes-5/
LOCATION:The Frolic’n Folk Pub & Grill\, 4115 HWY 223\, Iona\, Nova Scotia\, B2C 1A3\, Canada
CATEGORIES:Events at The Frolic'n Folk,Ticketed Shows
ATTACH;FMTTYPE=image/jpeg:https://ionaheightsinn.com/wp-content/uploads/2024/04/The-Town-Heroes.jpg
ORGANIZER;CN="The Frolic'n Folk":MAILTO:frolic@ionaheightsinn.com
GEO:45.9508304;-60.8147104
X-APPLE-STRUCTURED-LOCATION;VALUE=URI;X-ADDRESS=The Frolic’n Folk Pub & Grill 4115 HWY 223 Iona Nova Scotia B2C 1A3 Canada;X-APPLE-RADIUS=500;X-TITLE=4115 HWY 223:geo:-60.8147104,45.9508304
END:VEVENT
BEGIN:VEVENT
DTSTART;TZID=America/Halifax:20240725T200000
DTEND;TZID=America/Halifax:20240725T220000
DTSTAMP:20260424T170054
CREATED:20240125T141835Z
LAST-MODIFIED:20240125T142054Z
UID:10003063-1721937600-1721944800@ionaheightsinn.com
SUMMARY:Trivia Night at The Frolic
DESCRIPTION:Come test your wits & win prizes!\n3 Rounds – 12 general knowledge questions each round. \nPlay solo\, or form a team. Funniest team name gets showered with accolades.\nHosted by your man – Ruarí Aonghas Lonce Murphy\, every Thursday Night
URL:https://ionaheightsinn.com/eventing/trivia-night-at-the-frolic-2-2/2024-07-25/
LOCATION:The Frolic’n Folk Pub & Grill\, 4115 HWY 223\, Iona\, Nova Scotia\, B2C 1A3\, Canada
CATEGORIES:Events at The Frolic'n Folk
ATTACH;FMTTYPE=image/jpeg:https://ionaheightsinn.com/wp-content/uploads/2022/02/Trivia-Night.jpg
ORGANIZER;CN="The Frolic'n Folk":MAILTO:frolic@ionaheightsinn.com
GEO:45.9508304;-60.8147104
X-APPLE-STRUCTURED-LOCATION;VALUE=URI;X-ADDRESS=The Frolic’n Folk Pub & Grill 4115 HWY 223 Iona Nova Scotia B2C 1A3 Canada;X-APPLE-RADIUS=500;X-TITLE=4115 HWY 223:geo:-60.8147104,45.9508304
END:VEVENT
BEGIN:VEVENT
DTSTART;TZID=America/Halifax:20240727T170000
DTEND;TZID=America/Halifax:20240727T200000
DTSTAMP:20260424T170054
CREATED:20240125T142311Z
LAST-MODIFIED:20240125T142523Z
UID:10003342-1722099600-1722110400@ionaheightsinn.com
SUMMARY:Céilidh Matinee
DESCRIPTION:Get a taste of local celtic music & culture with our Saturday ceilidhs (kay-lee). \nExpect to see world-renowned talent & budding entertainers from all over our native Cape Breton. \nGeneral admission seating ranging from $5-$10 \nFirst come first serve at the pub. No reservations. Minors allowed up until 10PM
URL:https://ionaheightsinn.com/eventing/ceilidh-matinee-3-2/2024-07-27/
LOCATION:The Frolic’n Folk Pub & Grill\, 4115 HWY 223\, Iona\, Nova Scotia\, B2C 1A3\, Canada
CATEGORIES:Events at The Frolic'n Folk
ATTACH;FMTTYPE=image/jpeg:https://ionaheightsinn.com/wp-content/uploads/2022/02/Ceilidh-Saturdays.jpg
ORGANIZER;CN="The Frolic'n Folk":MAILTO:frolic@ionaheightsinn.com
GEO:45.9508304;-60.8147104
X-APPLE-STRUCTURED-LOCATION;VALUE=URI;X-ADDRESS=The Frolic’n Folk Pub & Grill 4115 HWY 223 Iona Nova Scotia B2C 1A3 Canada;X-APPLE-RADIUS=500;X-TITLE=4115 HWY 223:geo:-60.8147104,45.9508304
END:VEVENT
BEGIN:VEVENT
DTSTART;TZID=America/Halifax:20240728T163000
DTEND;TZID=America/Halifax:20240728T193000
DTSTAMP:20260424T170054
CREATED:20240125T141001Z
LAST-MODIFIED:20240125T141356Z
UID:10003304-1722184200-1722195000@ionaheightsinn.com
SUMMARY:Cape Breton Celtic Trad Sessions
DESCRIPTION:Come and enjoy a casual gathering of musicians who have come together to play traditional Cape Breton celtic music. \nAnyone is welcome to join in\, or just sit back and enjoy the tunes. \nSundays at The Frolic 430 – 730pm \nFull kitchen and bar service. \nMinors allowed till 10pm \n 
URL:https://ionaheightsinn.com/eventing/cape-breton-celtic-trad-sessions-2/2024-07-28/
LOCATION:The Frolic’n Folk Pub & Grill\, 4115 HWY 223\, Iona\, Nova Scotia\, B2C 1A3\, Canada
CATEGORIES:Events at The Frolic'n Folk
ATTACH;FMTTYPE=image/jpeg:https://ionaheightsinn.com/wp-content/uploads/2022/03/Trad-Sessions.jpg
ORGANIZER;CN="The Frolic'n Folk":MAILTO:frolic@ionaheightsinn.com
GEO:45.9508304;-60.8147104
X-APPLE-STRUCTURED-LOCATION;VALUE=URI;X-ADDRESS=The Frolic’n Folk Pub & Grill 4115 HWY 223 Iona Nova Scotia B2C 1A3 Canada;X-APPLE-RADIUS=500;X-TITLE=4115 HWY 223:geo:-60.8147104,45.9508304
END:VEVENT
END:VCALENDAR