BEGIN:VCALENDAR
VERSION:2.0
PRODID:-//The Iona Heights Inn - ECPv6.15.20//NONSGML v1.0//EN
CALSCALE:GREGORIAN
METHOD:PUBLISH
X-ORIGINAL-URL:https://ionaheightsinn.com
X-WR-CALDESC:Events for The Iona Heights Inn
REFRESH-INTERVAL;VALUE=DURATION:PT1H
X-Robots-Tag:noindex
X-PUBLISHED-TTL:PT1H
BEGIN:VTIMEZONE
TZID:America/Halifax
BEGIN:DAYLIGHT
TZOFFSETFROM:-0400
TZOFFSETTO:-0300
TZNAME:ADT
DTSTART:20240310T060000
END:DAYLIGHT
BEGIN:STANDARD
TZOFFSETFROM:-0300
TZOFFSETTO:-0400
TZNAME:AST
DTSTART:20241103T050000
END:STANDARD
BEGIN:DAYLIGHT
TZOFFSETFROM:-0400
TZOFFSETTO:-0300
TZNAME:ADT
DTSTART:20250309T060000
END:DAYLIGHT
BEGIN:STANDARD
TZOFFSETFROM:-0300
TZOFFSETTO:-0400
TZNAME:AST
DTSTART:20251102T050000
END:STANDARD
BEGIN:DAYLIGHT
TZOFFSETFROM:-0400
TZOFFSETTO:-0300
TZNAME:ADT
DTSTART:20260308T060000
END:DAYLIGHT
BEGIN:STANDARD
TZOFFSETFROM:-0300
TZOFFSETTO:-0400
TZNAME:AST
DTSTART:20261101T050000
END:STANDARD
END:VTIMEZONE
BEGIN:VEVENT
DTSTART;TZID=America/Halifax:20250612T200000
DTEND;TZID=America/Halifax:20250612T220000
DTSTAMP:20260423T170810
CREATED:20250115T003320Z
LAST-MODIFIED:20250115T003725Z
UID:10003411-1749758400-1749765600@ionaheightsinn.com
SUMMARY:Trivia Night at The Frolic
DESCRIPTION:Come test your wits & win prizes!\n3 Rounds – 12 general knowledge questions each round. \nPlay solo\, or form a team. Funniest team name gets showered with accolades.\nHosted by your man – Ruarí Aonghas Lonce Murphy\, every Thursday Night
URL:https://ionaheightsinn.com/eventing/trivia-night-at-the-frolic-2-2-2-2/2025-06-12/
LOCATION:The Frolic’n Folk Pub & Grill\, 4115 HWY 223\, Iona\, Nova Scotia\, B2C 1A3\, Canada
CATEGORIES:Events at The Frolic'n Folk
ATTACH;FMTTYPE=image/jpeg:https://ionaheightsinn.com/wp-content/uploads/2022/02/Trivia-Night.jpg
ORGANIZER;CN="The Frolic'n Folk":MAILTO:frolic@ionaheightsinn.com
GEO:45.9508304;-60.8147104
X-APPLE-STRUCTURED-LOCATION;VALUE=URI;X-ADDRESS=The Frolic’n Folk Pub & Grill 4115 HWY 223 Iona Nova Scotia B2C 1A3 Canada;X-APPLE-RADIUS=500;X-TITLE=4115 HWY 223:geo:-60.8147104,45.9508304
END:VEVENT
BEGIN:VEVENT
DTSTART;TZID=America/Halifax:20250613T200000
DTEND;TZID=America/Halifax:20250613T220000
DTSTAMP:20260423T170810
CREATED:20250415T142017Z
LAST-MODIFIED:20250611T122337Z
UID:10003517-1749844800-1749852000@ionaheightsinn.com
SUMMARY:Hearts of Kin
DESCRIPTION:Hearts of Kin is an emerging East Coast Americana band fronted by sisters Danielle MacDonald and Shellie Ann Tobin. The singer songwriters have been capturing audiences with their sweet sibling harmonies and signature slide guitar. Well known for their soulful songwriting\, the darling duo’s style has been flavored by the early influences of Sheryl Crow\, Jewel\, The Chicks and the late great John Prine. Recently reunited in their Cape Breton hometown\, the sisters have wasted no time establishing the band as an up-and-coming force. Their debut album\, “Beautiful Burn”\, has received significant recognition\, winning Music Nova Scotia’s Country Recording of the Year 2024. \nWith several songs claiming top positions on east coast and national radio charts\, Hearts of Kin have earned invitations to showcase for the East Coast Music Awards\, the Stan Rogers Folk Festival\, and the largest outdoor concert in Atlantic Canada\, the Cavendish Beach Music Festival. \nAfter sharing stages with names like Serena Ryder\, Michelle Wright\, and Lennie Gallant\, the duo is touring locally\, while working toward their next album. \n  \n\n\n\n\n\n \n\n\nOpen in Spotify \n\n\nOpen in Spotify
URL:https://ionaheightsinn.com/eventing/hearts-of-kin/
LOCATION:The Frolic’n Folk Pub & Grill\, 4115 HWY 223\, Iona\, Nova Scotia\, B2C 1A3\, Canada
CATEGORIES:Events at The Frolic'n Folk,Ticketed Shows
ATTACH;FMTTYPE=image/jpeg:https://ionaheightsinn.com/wp-content/uploads/2025/04/Hearts-of-Kin.jpg
ORGANIZER;CN="The Frolic'n Folk":MAILTO:frolic@ionaheightsinn.com
GEO:45.9508304;-60.8147104
X-APPLE-STRUCTURED-LOCATION;VALUE=URI;X-ADDRESS=The Frolic’n Folk Pub & Grill 4115 HWY 223 Iona Nova Scotia B2C 1A3 Canada;X-APPLE-RADIUS=500;X-TITLE=4115 HWY 223:geo:-60.8147104,45.9508304
END:VEVENT
BEGIN:VEVENT
DTSTART;TZID=America/Halifax:20250613T200000
DTEND;TZID=America/Halifax:20250613T220000
DTSTAMP:20260423T170810
CREATED:20250611T133525Z
LAST-MODIFIED:20250613T201511Z
UID:10003534-1749844800-1749852000@ionaheightsinn.com
SUMMARY:Colette Deveaux
DESCRIPTION:Colette started her musical journey early searching for her sound as many do learning songs\, finding her voice and discovering her ability to craft original lyrics and put them to music. Before too long\, Colette would set out to join her musical peers and dive headfirst into the local music scene\, attending open mics and taking on any solo performance opportunity she could. Through this experience\, she learned to collaborate\, co-write\, play with a band and further strengthen her solo persona. \nNow with the release of her first recording project\, “Honey” a collection of singles\, Colette is now able to share her songs to a broader audience\, touching on personal experiences\, social issues and more personal narratives speaking to life and love. Being inspired by memories\, past experiences- good and bad\, the lives of others; strangers\, friends and family\, Her Style has been described as playful\, engaging and poignant. \nColette is a listener and an observer\, remembering things about people and their stories\, a connoisseur of random facts. All of which contributes to the unique musical result. \n \nOpen in Spotify \nOpen in Spotify \nOpen in Spotify
URL:https://ionaheightsinn.com/eventing/colette-deveaux/
LOCATION:The Frolic’n Folk Pub & Grill\, 4115 HWY 223\, Iona\, Nova Scotia\, B2C 1A3\, Canada
ATTACH;FMTTYPE=image/jpeg:https://ionaheightsinn.com/wp-content/uploads/2025/06/Colette-Deveaux.jpg
GEO:45.9508304;-60.8147104
X-APPLE-STRUCTURED-LOCATION;VALUE=URI;X-ADDRESS=The Frolic’n Folk Pub & Grill 4115 HWY 223 Iona Nova Scotia B2C 1A3 Canada;X-APPLE-RADIUS=500;X-TITLE=4115 HWY 223:geo:-60.8147104,45.9508304
END:VEVENT
BEGIN:VEVENT
DTSTART;TZID=America/Halifax:20250614T170000
DTEND;TZID=America/Halifax:20250614T200000
DTSTAMP:20260423T170810
CREATED:20250531T173013Z
LAST-MODIFIED:20250531T173014Z
UID:10003456-1749920400-1749931200@ionaheightsinn.com
SUMMARY:Jonathan Andrews - Céilidh Matinee
DESCRIPTION:Jonathan Andrews\nGet a taste of local celtic music & culture with our Saturday ceilidhs (kay-lee). \nExpect to see world-renowned talent & budding entertainers from all over our native Cape Breton. \nGeneral admission seating usually $5 cover \nFirst come first serve at the pub. No reservations. Minors allowed up until 10PM
URL:https://ionaheightsinn.com/eventing/ceilidh-matinee-25-13/
LOCATION:The Frolic’n Folk Pub & Grill\, 4115 HWY 223\, Iona\, Nova Scotia\, B2C 1A3\, Canada
CATEGORIES:Events at The Frolic'n Folk
ATTACH;FMTTYPE=image/jpeg:https://ionaheightsinn.com/wp-content/uploads/2022/02/Ceilidh-Saturdays.jpg
ORGANIZER;CN="The Frolic'n Folk":MAILTO:frolic@ionaheightsinn.com
GEO:45.9508304;-60.8147104
X-APPLE-STRUCTURED-LOCATION;VALUE=URI;X-ADDRESS=The Frolic’n Folk Pub & Grill 4115 HWY 223 Iona Nova Scotia B2C 1A3 Canada;X-APPLE-RADIUS=500;X-TITLE=4115 HWY 223:geo:-60.8147104,45.9508304
END:VEVENT
END:VCALENDAR