BEGIN:VCALENDAR
VERSION:2.0
PRODID:-//The Iona Heights Inn - ECPv6.15.20//NONSGML v1.0//EN
CALSCALE:GREGORIAN
METHOD:PUBLISH
X-ORIGINAL-URL:https://ionaheightsinn.com
X-WR-CALDESC:Events for The Iona Heights Inn
REFRESH-INTERVAL;VALUE=DURATION:PT1H
X-Robots-Tag:noindex
X-PUBLISHED-TTL:PT1H
BEGIN:VTIMEZONE
TZID:America/Halifax
BEGIN:DAYLIGHT
TZOFFSETFROM:-0400
TZOFFSETTO:-0300
TZNAME:ADT
DTSTART:20240310T060000
END:DAYLIGHT
BEGIN:STANDARD
TZOFFSETFROM:-0300
TZOFFSETTO:-0400
TZNAME:AST
DTSTART:20241103T050000
END:STANDARD
BEGIN:DAYLIGHT
TZOFFSETFROM:-0400
TZOFFSETTO:-0300
TZNAME:ADT
DTSTART:20250309T060000
END:DAYLIGHT
BEGIN:STANDARD
TZOFFSETFROM:-0300
TZOFFSETTO:-0400
TZNAME:AST
DTSTART:20251102T050000
END:STANDARD
BEGIN:DAYLIGHT
TZOFFSETFROM:-0400
TZOFFSETTO:-0300
TZNAME:ADT
DTSTART:20260308T060000
END:DAYLIGHT
BEGIN:STANDARD
TZOFFSETFROM:-0300
TZOFFSETTO:-0400
TZNAME:AST
DTSTART:20261101T050000
END:STANDARD
END:VTIMEZONE
BEGIN:VEVENT
DTSTART;TZID=America/Halifax:20251113T200000
DTEND;TZID=America/Halifax:20251113T220000
DTSTAMP:20260423T063046
CREATED:20250115T003320Z
LAST-MODIFIED:20250115T003725Z
UID:10003433-1763064000-1763071200@ionaheightsinn.com
SUMMARY:Trivia Night at The Frolic
DESCRIPTION:Come test your wits & win prizes!\n3 Rounds – 12 general knowledge questions each round. \nPlay solo\, or form a team. Funniest team name gets showered with accolades.\nHosted by your man – Ruarí Aonghas Lonce Murphy\, every Thursday Night
URL:https://ionaheightsinn.com/eventing/trivia-night-at-the-frolic-2-2-2-2/2025-11-13/
LOCATION:The Frolic’n Folk Pub & Grill\, 4115 HWY 223\, Iona\, Nova Scotia\, B2C 1A3\, Canada
CATEGORIES:Events at The Frolic'n Folk
ATTACH;FMTTYPE=image/jpeg:https://ionaheightsinn.com/wp-content/uploads/2022/02/Trivia-Night.jpg
ORGANIZER;CN="The Frolic'n Folk":MAILTO:frolic@ionaheightsinn.com
GEO:45.9508304;-60.8147104
X-APPLE-STRUCTURED-LOCATION;VALUE=URI;X-ADDRESS=The Frolic’n Folk Pub & Grill 4115 HWY 223 Iona Nova Scotia B2C 1A3 Canada;X-APPLE-RADIUS=500;X-TITLE=4115 HWY 223:geo:-60.8147104,45.9508304
END:VEVENT
BEGIN:VEVENT
DTSTART;TZID=America/Halifax:20251114T200000
DTEND;TZID=America/Halifax:20251114T220000
DTSTAMP:20260423T063046
CREATED:20231025T124905Z
LAST-MODIFIED:20251028T163955Z
UID:10003292-1763150400-1763157600@ionaheightsinn.com
SUMMARY:Crowdis Bridge
DESCRIPTION:Join us for an evening with some of Cape Breton’s finest multi-instrumentalists\, vocalists & songwriters. \nCrowdis Bridge are lovers and purveyors of roots & traditional music\, steeped in bluegrass\, old-time\, folk\, Celtic and country-blues. \nTogether they promise to create a musical landscape as amazing and diverse as the Island they call home. \nKitchen open till 9PM\, Bar licensed till 2AM \n  \nOpen in Spotify \nOpen in Spotify \nOpen in Spotify
URL:https://ionaheightsinn.com/eventing/crowdis-bridge-2/
LOCATION:The Frolic’n Folk Pub & Grill\, 4115 HWY 223\, Iona\, Nova Scotia\, B2C 1A3\, Canada
CATEGORIES:Events at The Frolic'n Folk,Ticketed Shows
ATTACH;FMTTYPE=image/jpeg:https://ionaheightsinn.com/wp-content/uploads/2023/10/Crowdis-Bridge-1.jpg
ORGANIZER;CN="The Frolic'n Folk":MAILTO:frolic@ionaheightsinn.com
GEO:45.9508304;-60.8147104
X-APPLE-STRUCTURED-LOCATION;VALUE=URI;X-ADDRESS=The Frolic’n Folk Pub & Grill 4115 HWY 223 Iona Nova Scotia B2C 1A3 Canada;X-APPLE-RADIUS=500;X-TITLE=4115 HWY 223:geo:-60.8147104,45.9508304
END:VEVENT
BEGIN:VEVENT
DTSTART;TZID=America/Halifax:20251115T170000
DTEND;TZID=America/Halifax:20251115T200000
DTSTAMP:20260423T063046
CREATED:20250115T004507Z
LAST-MODIFIED:20251019T003437Z
UID:10003478-1763226000-1763236800@ionaheightsinn.com
SUMMARY:Céilidh Matinee
DESCRIPTION:Get a taste of local celtic music & culture with our Saturday ceilidhs (kay-lee). \nExpect to see world-renowned talent & budding entertainers from all over our native Cape Breton. \nGeneral admission seating $5 cover \nFirst come first serve at the pub. No reservations. Minors allowed up until 10PM
URL:https://ionaheightsinn.com/eventing/ceilidh-matinee-25/2025-11-15/
LOCATION:The Frolic’n Folk Pub & Grill\, 4115 HWY 223\, Iona\, Nova Scotia\, B2C 1A3\, Canada
CATEGORIES:Events at The Frolic'n Folk
ATTACH;FMTTYPE=image/jpeg:https://ionaheightsinn.com/wp-content/uploads/2022/02/Ceilidh-Saturdays.jpg
ORGANIZER;CN="The Frolic'n Folk":MAILTO:frolic@ionaheightsinn.com
GEO:45.9508304;-60.8147104
X-APPLE-STRUCTURED-LOCATION;VALUE=URI;X-ADDRESS=The Frolic’n Folk Pub & Grill 4115 HWY 223 Iona Nova Scotia B2C 1A3 Canada;X-APPLE-RADIUS=500;X-TITLE=4115 HWY 223:geo:-60.8147104,45.9508304
END:VEVENT
END:VCALENDAR